BEGIN:VCALENDAR
VERSION:2.0
PRODID:-//One Way Street Tokyo - ECPv6.6.2//NONSGML v1.0//EN
CALSCALE:GREGORIAN
METHOD:PUBLISH
X-ORIGINAL-URL:https://one-way-street.com/zh
X-WR-CALDESC:One Way Street Tokyo的活动
REFRESH-INTERVAL;VALUE=DURATION:PT1H
X-Robots-Tag:noindex
X-PUBLISHED-TTL:PT1H
BEGIN:VTIMEZONE
TZID:Asia/Tokyo
BEGIN:STANDARD
TZOFFSETFROM:+0900
TZOFFSETTO:+0900
TZNAME:JST
DTSTART:20260101T000000
END:STANDARD
END:VTIMEZONE
BEGIN:VEVENT
DTSTART;TZID=Asia/Tokyo:20260315T143000
DTEND;TZID=Asia/Tokyo:20260315T180000
DTSTAMP:20260423T020942
CREATED:20260223T085315Z
LAST-MODIFIED:20260224T091114Z
UID:9984-1773585000-1773597600@one-way-street.com
SUMMARY:[:zh]Asian Talk 219 刘轼聿“启蒙”主题讲座：现代人，只要阅读五本书就够够够了[:]
DESCRIPTION:【活动主题】\nAsian Talk 219\n刘轼聿“启蒙”主题讲座\n现代人，只要阅读五本书就够够够了\n  \n【活动介绍】\n现代人如何阅读一本书，如何让自己还能再有书卷气。\n现代人没有时间阅读一本太长的书，很正常。\n我一点都不怀疑阅读是特别奢侈的事，甚至认为太多出版并不必要。\n作者累，读者烦，贩者穷。\n但是，无论如何，要读这五本书。\n有这五本并不难读的书，翻来覆去，永在家中，那么你会具备大多数人没有的洞察力、认知力，轻而易举知道谁在胡说八道。\n五本书的人生，加之以当下信息手段，足以成就一个智慧、书卷气的现代人，在哲学、历史、艺术、文学、经济上轻而易举胜过许多专家。\n阅读没那么难，五本书足够一百年。\n没有读过，反复读过，是人生憾事，不怪很多事看不懂想不通。 \n  \n【嘉宾介绍】\n刘轼聿 \n作家，代表作《江年》《哈尔滨的冬天》等 \n先后毕业于北京大学、清华大学并在UCL攻读古典主义哲学博士。 \n  \n【活动信息】\n嘉宾：刘轼聿 \n时间：2026年3月15日（星期日）14:30-16:00 \n地点：单向街书店・东京银座店 \n东京都中央区银座1-6-1 \n形式：中文分享会・全席自由席（40席） \n费用：￥1\,500｜年费会员免费 \n本店活动席位为自由席，无指定座位，先到者优先选座。 \n———————————————————————————————————— \n【预约参加】 \n请点击下方链接进入预约页面，细心阅读活动须知，填写必要信息 \n请在活动当日于一楼柜台支付报名费用 \nhttps://forms.gle/gg4ekQPNZqEsTngr5 \n  \n【当日券】 \n请在活动当日于一楼柜台处购买 \n  \n【单向街书店·东京银座店年费会员】 \n单向街书店·东京银座店年费会员可免费参加本次活动 \n请点击下方链接进入预约页面，细心阅读活动须知，填写必要信息 \n活动当日，请向工作人员提示有效会员卡，确认身份后入场 \nhttps://forms.gle/gg4ekQPNZqEsTngr5 \n———————————————————————————————————— \n致来店参加的各位顾客 \n活动开始时间前30分钟起，开放入场。 \n如有任何问题，请随时联系致电0362630116。 \n———————————————————————————————————— \n【扫码成为单向街书店·东京银座店年费会员】 \n \n◎年费会员 会费：33\,000日元/年(含税) \n【会员权益】 \n１、专属年费会员卡 \n2、赠全品饮料券12张 \n3、免费参与书店活动 \n4、简体中文书购书7折
URL:https://one-way-street.com/zh/event/asian-talk-219/
LOCATION:One Way Street Tokyo\, 東京都中央区銀座1丁目6−1\, 東京\, Japan
ATTACH;FMTTYPE=image/png:https://one-way-street.com/wp-content/uploads/2026/02/26.3.15刘轼聿.png
END:VEVENT
END:VCALENDAR