BEGIN:VCALENDAR
VERSION:2.0
PRODID:-//One Way Street Tokyo - ECPv6.6.2//NONSGML v1.0//EN
CALSCALE:GREGORIAN
METHOD:PUBLISH
X-WR-CALNAME:One Way Street Tokyo
X-ORIGINAL-URL:https://one-way-street.com/zh
X-WR-CALDESC:One Way Street Tokyo的活动
REFRESH-INTERVAL;VALUE=DURATION:PT1H
X-Robots-Tag:noindex
X-PUBLISHED-TTL:PT1H
BEGIN:VTIMEZONE
TZID:Asia/Tokyo
BEGIN:STANDARD
TZOFFSETFROM:+0900
TZOFFSETTO:+0900
TZNAME:JST
DTSTART:20260101T000000
END:STANDARD
END:VTIMEZONE
BEGIN:VEVENT
DTSTART;TZID=Asia/Tokyo:20260314T143000
DTEND;TZID=Asia/Tokyo:20260314T180000
DTSTAMP:20260423T020810
CREATED:20260309T072200Z
LAST-MODIFIED:20260310T004714Z
UID:10029-1773498600-1773511200@one-way-street.com
SUMMARY:[:zh]Asian Talk 222 软件的终结与知识工作的未来[:]
DESCRIPTION:【活动主题】\nAsian Talk 222\n软件的终结与知识工作的未来\n  \n【活动简介】\n字节跳动前资深员工郭宇与纽约客撰稿人车畅展开对话，探讨Anthropic公司2025年10月推出的Agent技能与基于浏览器的Claude Code如何引发编程领域的剧变——他认为这一变革即将重塑法律、医疗到写作等各类知识工作。 \n  \n【嘉宾介紹】\n \n郭宇 \n字节跳动前资深员工，28岁实现财富自由，进入“英年早退”的状态。 \n  \n \n车畅 \n独立记者，作品见于 《纽约客》《纽约时报》 《卫报》等国际知名媒体。 \n  \n【活动信息】\n嘉宾：郭宇、车畅 \n时间：2026年3月14日（星期六）14:30-16:00 \n地点：单向街书店・东京银座店 \n东京都中央区银座1-6-1 \n形式：中文分享会・全席自由席（40席） \n费用：￥1\,500｜年费会员免费 \n本店活动席位为自由席，无指定座位，先到者优先选座。 \n———————————————————————————————————— \n【预约参加】 \n请点击下方链接进入预约页面，细心阅读活动须知，填写必要信息 \n请在活动当日于一楼柜台支付报名费用 \nhttps://forms.gle/5nUF4VyyYCkwBkUW7 \n  \n【当日券】 \n请在活动当日于一楼柜台处购买 \n  \n【单向街书店·东京银座店年费会员】 \n单向街书店·东京银座店年费会员可免费参加本次活动 \n请点击下方链接进入预约页面，细心阅读活动须知，填写必要信息 \n活动当日，请向工作人员提示有效会员卡，确认身份后入场 \nhttps://forms.gle/5nUF4VyyYCkwBkUW7 \n———————————————————————————————————— \n致来店参加的各位顾客 \n活动开始时间前30分钟起，开放入场。 \n如有任何问题，请随时联系致电0362630116。 \n———————————————————————————————————— \n【扫码成为单向街书店·东京银座店年费会员】 \n \n◎年费会员 会费：33\,000日元/年(含税) \n【会员权益】 \n１、专属年费会员卡 \n2、赠全品饮料券12张 \n3、免费参与书店活动 \n4、简体中文书购书7折
URL:https://one-way-street.com/zh/event/asian-talk-222/
LOCATION:One Way Street Tokyo\, 東京都中央区銀座1丁目6−1\, 東京\, Japan
ATTACH;FMTTYPE=image/png:https://one-way-street.com/wp-content/uploads/2026/03/26.3.14-车畅郭宇对谈-1.png
END:VEVENT
END:VCALENDAR