BEGIN:VCALENDAR
VERSION:2.0
PRODID:-//One Way Street Tokyo - ECPv6.6.2//NONSGML v1.0//EN
CALSCALE:GREGORIAN
METHOD:PUBLISH
X-ORIGINAL-URL:https://one-way-street.com/zh
X-WR-CALDESC:One Way Street Tokyo的活动
REFRESH-INTERVAL;VALUE=DURATION:PT1H
X-Robots-Tag:noindex
X-PUBLISHED-TTL:PT1H
BEGIN:VTIMEZONE
TZID:Asia/Tokyo
BEGIN:STANDARD
TZOFFSETFROM:+0900
TZOFFSETTO:+0900
TZNAME:JST
DTSTART:20260101T000000
END:STANDARD
END:VTIMEZONE
BEGIN:VEVENT
DTSTART;TZID=Asia/Tokyo:20260307T143000
DTEND;TZID=Asia/Tokyo:20260307T160000
DTSTAMP:20260423T020936
CREATED:20260223T080021Z
LAST-MODIFIED:20260225T065450Z
UID:9980-1772893800-1772899200@one-way-street.com
SUMMARY:[:zh]Asian Talk 218　解读中国诗画论――《表现的技法》新书分享会[:ja]Asian Talk 218　中国詩画論を読み解く―『あらわれのアルス』刊行記念[:]
DESCRIPTION:【活动主题】\nAsian Talk 218\n解读中国诗画论\n――《表现的技法》新书分享会\n  \n【活动介绍】\n在日本喜欢汉诗、爱学中国书法和绘画的人很多，但对诗书画的传统理论有兴趣的人未必多。为此，《通过关键词读懂中国古典》丛书出版了第五册《表现的技法—诗·书·画》。在书里，三位作者从各自视角出发，叙述、梳理了中国传统的诗论、书法理论和画论的重要论点和历史变迁。\n负责诗论的志野好伸教授是同一丛书里的《圣与狂――圣人·真人·狂人》的执笔者之一。志野教授的研究范围很广，涉及整个中国哲学和文学。在本书中，志野教授通过对《毛诗大序》、曹丕的《典论·论文》、刘勰的《文心雕龙》等诗论和文学理论的分析，讨论了诗要表达什么、诗的作者是些什么样的人等问题。\n负责画论的塚本麿充教授不仅从书画样式的角度，还从作为“物”的书画如何被接受的视角重新探讨中国美术史。塚本教授还是策划各种展览会的专家。在本书中，他重新审视作为“物”的作品和画论、书画目录的关系，分析了宋炳的《画山水序》、张彦远的《历代名画记》、荆浩的《笔法记》、郭思的《林泉高致集》等文本。\n本次活动除了介绍新书《表现的技法》中关于诗论、画论部分的内容，也会讨论在日本阅读中国传统诗论和画论的意义，敬请期待！ \n  \n【嘉宾介绍】\n志野 好伸 \n明治大学文学部教授。专攻中国哲学和中国文学。主要著作有Le corps dans les littératures modernes d’Asie orientale : Discours\, représentation\, intermédialité （合著、Collège de France\, 2022）、『東アジアにおける哲学の生成と発展―間文化の視点から』（合著、法政大学出版局）、『何処から何処へ―現象学の異境的展開』（合著、知泉書館）、『聖と狂―聖人・真人・狂者』（编著·合著、法政大学出版局）等。 \n塚本 麿充 \n东京大学东洋文化研究所教授。专攻中国美术史及中国书画传播区域的文化史。主要著作有『北宋絵画史の成立』（中央公論美術出版）、『アジア仏教美術論集　東アジアⅢ　北宋・遼・西夏』（合编著、中央公論美術出版）、『コレクションとアーカイヴ――アジア美術研究の可能性』（合编著、出版）、『台北 國立故宮博物院　神品至宝　図録』（合著、東京国立博物館）等。 \n王 前 \n人文学者。主要研究领域为政治哲学、思想史。 \n  \n【相关图书】\n \n“用关键词读中国古典”书系 第五册 \n《表现的技法：诗・书・画》 \n志野 好伸：編\, 成田 健太郎：著\, 塚本 麿充：著 \n在中国，人们将诗、书、画皆精称为“三绝”。本卷以从起源、批评术语与作者三个方面审视诗、书、画的共通性为导入，围绕“文”“气”“意”“骨”“风”等关键词，系统介绍经理论建构而形成的诗论、书论、画论中的重要论述与作品，引领读者深入中国艺术及艺术理论的神髓。“用关键词读中国古典书系”隆重完结！ \n  \n【活动信息】\n嘉宾：志野 好伸、塚本 麿充 \n主持/与谈人：王 前 \n时间：2026年3月7日（周六）14:30〜16:00 \n地点：单向街书店・东京银座店 \n东京都中央区银座1-6-1 \n形式：日文分享会（中文翻译）・全席自由（40席） \n费用：￥1\,500｜年费会员免费 \n本店活动席位为自由席，无指定座位，先到者优先选座。 \n———————————————————————————————————— \n【预约参加】 \n请点击下方链接进入预约页面，细心阅读活动须知，填写必要信息 \n请在活动当日于一楼柜台支付报名费用 \nhttps://forms.gle/cUoG5bUSzN8sNW6z8 \n  \n【当日券】 \n请在活动当日于一楼柜台处购买 \n  \n【单向街书店·东京银座店年费会员】 \n单向街书店·东京银座店年费会员可免费参加本次活动 \n请点击下方链接进入预约页面，细心阅读活动须知，填写必要信息 \n活动当日，请向工作人员提示有效会员卡，确认身份后入场 \nhttps://forms.gle/cUoG5bUSzN8sNW6z8 \n———————————————————————————————————— \n致来店参加的各位顾客 \n活动开始时间前30分钟起，开放入场。 \n如有任何问题，请随时联系致电0362630116。 \n———————————————————————————————————— \n【扫码成为单向街书店·东京银座店年费会员】 \n \n◎年费会员 会费：33\,000日元/年(含税) \n【会员权益】 \n１、专属年费会员卡 \n2、赠全品饮料券12张 \n3、免费参与书店活动 \n4、简体中文书购书7折
URL:https://one-way-street.com/zh/event/asian-talk-218/
LOCATION:One Way Street Tokyo\, 東京都中央区銀座1丁目6−1\, 東京\, Japan
ATTACH;FMTTYPE=image/png:https://one-way-street.com/wp-content/uploads/2026/02/26.3.7中国詩画論を読み解く.png
END:VEVENT
END:VCALENDAR