BEGIN:VCALENDAR
VERSION:2.0
PRODID:-//One Way Street Tokyo - ECPv6.6.2//NONSGML v1.0//EN
CALSCALE:GREGORIAN
METHOD:PUBLISH
X-ORIGINAL-URL:https://one-way-street.com/zh
X-WR-CALDESC:One Way Street Tokyo的活动
REFRESH-INTERVAL;VALUE=DURATION:PT1H
X-Robots-Tag:noindex
X-PUBLISHED-TTL:PT1H
BEGIN:VTIMEZONE
TZID:Asia/Tokyo
BEGIN:STANDARD
TZOFFSETFROM:+0900
TZOFFSETTO:+0900
TZNAME:JST
DTSTART:20260101T000000
END:STANDARD
END:VTIMEZONE
BEGIN:VEVENT
DTSTART;TZID=Asia/Tokyo:20260228T143000
DTEND;TZID=Asia/Tokyo:20260228T160000
DTSTAMP:20260423T020938
CREATED:20260224T040606Z
LAST-MODIFIED:20260224T040954Z
UID:9990-1772289000-1772294400@one-way-street.com
SUMMARY:[:zh]【DOKI DOGGIEドキドギ × 东京单向街】与毛孩子一起生活，你真的选对“道具”了吗？[:]
DESCRIPTION:【活动主题】\nDOKI DOGGIEドキドギ × 东京单向街 \n与毛孩子一起生活，你真的选对“道具”了吗？ \n  \n【活动简介】\n吃饭太快，洒得到都是、清理很麻烦⋯⋯ \n其实只要一个小小的改变，就能让毛孩子的生活更舒服，也让你更轻松 \n⭐活动内容⭐ \n📌本次活功将从『道具 x tips』 的角度，介绍真正贴近狗狗生活的实用好物 \n✅可以改变角度和高度的饭碗 \n✅防止狼吞虎咽的慢食碗 \n✅还有让家里更干净的小技巧分享 \n欢迎带着对宠物生活的疑问，轻松来聊聊你和它的日常，也可以更温柔～？ \n到场还有小惊喜哦！ \n  \n【活动信息】\n时间：2026年2月28日（周六）14:30-16:00 \n场所：单向街书店・东京银座店 \n东京都中央区银座1-6-1 \n活动语言：中文、日文均可 \n全席自由席（40席） \n本店活动席位为自由席，无指定座位，先到者优先选座。 \n———————————————————————————————————— \n【参加方式】 \n本次活动免费参加，无需预约，请各位当日自由入场 \n———————————————————————————————————— \n致来店参加的各位顾客 \n活动开始时间前30分钟起，开放入场。 \n如有任何问题，请随时联系致电0362630116。 \n———————————————————————————————————— \n【扫码成为单向街书店·东京银座店年费会员】 \n \n◎年费会员 会费：33\,000日元/年(含税) \n【会员权益】 \n１、专属年费会员卡 \n2、赠全品饮料券12张 \n3、免费参与书店活动 \n4、简体中文书购书7折
URL:https://one-way-street.com/zh/event/dokidoggie-02/
LOCATION:One Way Street Tokyo\, 東京都中央区銀座1丁目6−1\, 東京\, Japan
ATTACH;FMTTYPE=image/jpeg:https://one-way-street.com/wp-content/uploads/2026/02/default-77.jpg
END:VEVENT
END:VCALENDAR