BEGIN:VCALENDAR
VERSION:2.0
PRODID:-//One Way Street Tokyo - ECPv6.6.2//NONSGML v1.0//EN
CALSCALE:GREGORIAN
METHOD:PUBLISH
X-WR-CALNAME:One Way Street Tokyo
X-ORIGINAL-URL:https://one-way-street.com/zh
X-WR-CALDESC:One Way Street Tokyo的活动
REFRESH-INTERVAL;VALUE=DURATION:PT1H
X-Robots-Tag:noindex
X-PUBLISHED-TTL:PT1H
BEGIN:VTIMEZONE
TZID:Asia/Tokyo
BEGIN:STANDARD
TZOFFSETFROM:+0900
TZOFFSETTO:+0900
TZNAME:JST
DTSTART:20250101T000000
END:STANDARD
END:VTIMEZONE
BEGIN:VEVENT
DTSTART;TZID=Asia/Tokyo:20251012T143000
DTEND;TZID=Asia/Tokyo:20251012T160000
DTSTAMP:20260423T100601
CREATED:20251007T035521Z
LAST-MODIFIED:20251007T101916Z
UID:9029-1760279400-1760284800@one-way-street.com
SUMMARY:[:zh]Asian Talk 185 如何逛美术馆[:ja]Asian Talk 185 如何逛美术馆[:]
DESCRIPTION:【活动主题】\nAsian Talk 185\n如何逛美术馆\n  \n【活动简介】\n本次活动将以“为何要逛美术馆”为切入点，带领大家一起探讨审美在现代生活中的重要意义。从如何选择值得一去的美术馆与展览，到如何欣赏、评估艺术作品，讲者将由浅入深地娓娓道来，分享提升审美能力的具体方法与思考角度。 \n无论是否具备艺术背景或专业知识，都能轻松地参与。希望您能通过本次活动重新发现美的价值，让艺术回归到生活当中，使人生的感受力更加丰富而立体。 \n  \n【嘉宾介紹】\n \n酒井友子 \n策展人、古美术商、经营指导师。 \n在过去36年间，作为中日文化交流的桥梁，策划并主办了众多美术展览。 \n曾与中国文化部、中国人民对外友好协会、日本议员艺术联盟等机构合作，在故宫博物院、上海美术馆、冈山县立美术馆、北海道立近代美术馆、上海世博博物馆等联合举办的展览广受好评。 \n因在中日两国文化艺术交流方面的突出贡献，曾多次获得两国政府及民间机构的表彰与奖励。 \n  \n  \n \n伏怡琳 \n复旦大学日语语言文学系毕业，早稻田大学国文学研究科硕士 \n日本文学译者，译有《国宝》（吉田修一著）、《第七官界彷徨——尾崎翠中短篇小说集》、《闯入者》（安部公房短篇小说集）、《摇滚妈妈》（角田光代著）、《他们自在别处》（小川洋子著）、《阪急电车》（有川浩著）等。 \n  \n  \n【活动信息】\n嘉宾：酒井友子 \n主持：伏怡琳 \n时间：2025年10月12日（周日）14:30-16:00 \n场所：单向街书店・东京银座店 \n东京都中央区银座1-6-1 \n形式：中文分享会・全席自由席（40席） \n本店活动席位为自由席，无指定座位，先到者优先选座。 \n———————————————————————————————————— \n【一般入场券】 \n费用：1500円 \n点击页面上方「Get Tickets」，进入预约页面，填写必要信息，完成支付。 \n※购票后不可取消、退款、转让，请提前确认好时间安排。 \n【当日券】 \n费用：1500円 \n可在活动当天于店内一楼柜台购票。 \n【年费会员入场券】 \n单向街书·东京银座店年费会员可免费参加本次活动。 \n点击下方「Going」，进入预约页面，填写必要信息，完成报名。 \n＊活动当日，请年费会员向工作人员提示会员卡，确认身份后入场＊ \n———————————————————————————————————— \n致来店参加的各位顾客 \n活动开始时间前30分钟起，开放入场。 \n如有任何问题，请随时联系致电0362630116。 \n———————————————————————————————————— \n【扫码成为单向街书店·东京银座店年费会员】 \n \n◎年费会员 会费：33\,000日元/年(含税) \n【会员权益】 \n１、专属年费会员卡 \n2、赠全品饮料券12张 \n3、免费参与书店活动 \n4、简体中文书购书7折
URL:https://one-way-street.com/zh/event/asian-talk-185/
LOCATION:One Way Street Tokyo\, 東京都中央区銀座1丁目6−1\, 東京\, Japan
ATTACH;FMTTYPE=image/png:https://one-way-street.com/wp-content/uploads/2025/10/1012-ポスター-1.png
END:VEVENT
END:VCALENDAR