BEGIN:VCALENDAR
VERSION:2.0
PRODID:-//One Way Street Tokyo - ECPv6.6.2//NONSGML v1.0//EN
CALSCALE:GREGORIAN
METHOD:PUBLISH
X-ORIGINAL-URL:https://one-way-street.com/zh
X-WR-CALDESC:One Way Street Tokyo的活动
REFRESH-INTERVAL;VALUE=DURATION:PT1H
X-Robots-Tag:noindex
X-PUBLISHED-TTL:PT1H
BEGIN:VTIMEZONE
TZID:Asia/Tokyo
BEGIN:STANDARD
TZOFFSETFROM:+0900
TZOFFSETTO:+0900
TZNAME:JST
DTSTART:20250101T000000
END:STANDARD
END:VTIMEZONE
BEGIN:VEVENT
DTSTART;TZID=Asia/Tokyo:20251005T143000
DTEND;TZID=Asia/Tokyo:20251005T180000
DTSTAMP:20260423T113313
CREATED:20250924T074046Z
LAST-MODIFIED:20250928T064607Z
UID:8900-1759674600-1759687200@one-way-street.com
SUMMARY:[:zh]如何在人生低谷逆风翻盘，打造有钱、有闲、有意义的自由人生？[:]
DESCRIPTION:【活动主题】\n如何在人生低谷逆风翻盘，打造有钱、有闲、有意义的自由人生？\n  \n【活动简介】\nAI 时代，不确定性成为常态。\n中年人生，事业、家庭、健康、责任扑面而来。\n那些表面看似完美的人生，背后往往藏着无人言说的痛苦。 \n然而——\n低谷并不是终点，而可能是一场转机。\n在风雨中，我们依然可以找到掌控感；\n在不确定中，我们依然能够盛放。 \n10月5日，我们邀请你走进单向街书店，\n与两位 ICF 大师级教练面对面，\n倾听她们如何在人生低谷中逆风翻盘，\n并探索如何在 AI 时代，打造一份 有钱、有闲、有意义的自由人生。 \n  \n【嘉宾介紹】\n \n曹颖 Ying Cao \nICF 大师级教练（MCC）。毕业于北京大学与耶鲁大学，曾任多家独角兽科技公司及华尔街知名公益组织的董事会成员。\n她曾在华尔街投资银行担任高管，负责 AI 创新与创业投资，在事业巅峰却陷入中年危机，选择裸辞并投身教练事业。如今，她致力于提升全球华人的影响力与幸福力。與上百家金融与科技企业合作，提供系统化的领导力发展课程与高管教练服务。同时帮助职场人完成高收入、高意义的转型之路。 \n  \n \nAbby Chen \n元创国际教练导师，ICF 大师级教练（MCC），企业领导力发展资深顾问。她在事业高峰期经历婚姻危机，却因此走上教练之路，收获自由人生。作为多项教练课程的开发者，她怀抱对传播教练理念与提升教练水准的终身使命，陪伴无数职场人与企业领导者完成蜕变。 \n  \n【活动信息】\n嘉宾：Ying Cao\, Abby Chen \n时间：2025年10月5日（周日）14:30-16:00 \n场所：单向街书店・东京银座店 \n东京都中央区银座1-6-1 \n形式：中文分享会・全席自由席（40席） \n本店活动席位为自由席，无指定座位，先到者优先选座。 \n———————————————————————————————————— \n【一般入场券】 \n费用：1500円 \n点击页面上方「Get Tickets」，进入预约页面，填写必要信息，完成支付。 \n※购票后不可取消、退款、转让，请提前确认好时间安排。 \n【当日券】 \n费用：1500円 \n可在活动当天于店内一楼柜台购票。 \n【年费会员入场券】 \n单向街书·东京银座店年费会员可免费参加本次活动。 \n点击下方「Going」，进入预约页面，填写必要信息，完成报名。 \n＊活动当日，请年费会员向工作人员提示会员卡，确认身份后入场＊ \n———————————————————————————————————— \n致来店参加的各位顾客 \n活动开始时间前30分钟起，开放入场。 \n如有任何问题，请随时联系致电0362630116。 \n———————————————————————————————————— \n【扫码成为单向街书店·东京银座店年费会员】 \n \n◎年费会员 会费：33\,000日元/年(含税) \n【会员权益】 \n１、专属年费会员卡 \n2、赠全品饮料券12张 \n3、免费参与书店活动 \n4、简体中文书购书7折
URL:https://one-way-street.com/zh/event/turn-things-around/
LOCATION:One Way Street Tokyo\, 東京都中央区銀座1丁目6−1\, 東京\, Japan
ATTACH;FMTTYPE=image/png:https://one-way-street.com/wp-content/uploads/2025/09/10.5如何在人生低谷逆风翻盘-2.png
END:VEVENT
END:VCALENDAR