BEGIN:VCALENDAR
VERSION:2.0
PRODID:-//One Way Street Tokyo - ECPv6.6.2//NONSGML v1.0//EN
CALSCALE:GREGORIAN
METHOD:PUBLISH
X-ORIGINAL-URL:https://one-way-street.com/zh
X-WR-CALDESC:One Way Street Tokyo的活动
REFRESH-INTERVAL;VALUE=DURATION:PT1H
X-Robots-Tag:noindex
X-PUBLISHED-TTL:PT1H
BEGIN:VTIMEZONE
TZID:Asia/Tokyo
BEGIN:STANDARD
TZOFFSETFROM:+0900
TZOFFSETTO:+0900
TZNAME:JST
DTSTART:20250101T000000
END:STANDARD
END:VTIMEZONE
BEGIN:VEVENT
DTSTART;VALUE=DATE:20250919
DTEND;VALUE=DATE:20251001
DTSTAMP:20260423T160743
CREATED:20250918T062129Z
LAST-MODIFIED:20250918T064603Z
UID:8877-1758240000-1759276799@one-way-street.com
SUMMARY:[:ja]【パンダステーション】お久しぶり、シャンシャン！最新写真展[:]
DESCRIPTION:对不起，此内容只适用于日文。
URL:https://one-way-street.com/zh/event/pandastation-02/
LOCATION:One Way Street Tokyo\, 東京都中央区銀座1丁目6−1\, 東京\, Japan
ATTACH;FMTTYPE=image/png:https://one-way-street.com/wp-content/uploads/2025/09/お久しぶり、-シャンシャン！.png
END:VEVENT
BEGIN:VEVENT
DTSTART;TZID=Asia/Tokyo:20250920T143000
DTEND;TZID=Asia/Tokyo:20250920T160000
DTSTAMP:20260423T160743
CREATED:20250819T085303Z
LAST-MODIFIED:20250918T044942Z
UID:8656-1758378600-1758384000@one-way-street.com
SUMMARY:[:zh]Asian Talk 180 谈在日本就医的常识与非常识[:]
DESCRIPTION:Content is protected.
URL:https://one-way-street.com/zh/event/asian-talk-180/
LOCATION:One Way Street Tokyo\, 東京都中央区銀座1丁目6−1\, 東京\, Japan
END:VEVENT
END:VCALENDAR