BEGIN:VCALENDAR
VERSION:2.0
PRODID:-//One Way Street Tokyo - ECPv6.6.2//NONSGML v1.0//EN
CALSCALE:GREGORIAN
METHOD:PUBLISH
X-WR-CALNAME:One Way Street Tokyo
X-ORIGINAL-URL:https://one-way-street.com/zh
X-WR-CALDESC:One Way Street Tokyo的活动
REFRESH-INTERVAL;VALUE=DURATION:PT1H
X-Robots-Tag:noindex
X-PUBLISHED-TTL:PT1H
BEGIN:VTIMEZONE
TZID:Asia/Tokyo
BEGIN:STANDARD
TZOFFSETFROM:+0900
TZOFFSETTO:+0900
TZNAME:JST
DTSTART:20250101T000000
END:STANDARD
END:VTIMEZONE
BEGIN:VEVENT
DTSTART;TZID=Asia/Tokyo:20250817T143000
DTEND;TZID=Asia/Tokyo:20250817T180000
DTSTAMP:20260423T172710
CREATED:20250815T123527Z
LAST-MODIFIED:20250815T232829Z
UID:8618-1755441000-1755453600@one-way-street.com
SUMMARY:[:zh]【艺术空间】雷人 首创立体书法艺术  东京个展[:]
DESCRIPTION:【艺术空间】\n雷人 首创立体书法艺术 东京个展\n艺术家：雷人雷 \n策展人：蓝京华 \n开幕时间： 2025.8.17 SUN \n  \n【艺术对话 活动信息】\n艺术对话嘉宾：雷人雷、蓝京华 \n时间：2025年8月17日（周日）14:30—16:00 \n地点：单向街书店・东京银座店 \n东京都中央区银座1-6-1 \n费用：免费入场 \n使用语言：中文 \n  \n【艺术家介绍】\n \n雷人雷 \n雷人，本名雷玉华，男。英文名Layman Lei. 美国雷人诗艺馆馆长。 \n1949年生于河北沧州东光县雷家营盘。2019获美国杰出人才（EB1-A）移民\, 现居西雅图。 \n诗人、讲师、律师、一级建造师、艺术家、翻译家、发明家、企业家。 \n书法家，立体书法创始人，开辟立体书法新纪元。“遛金”艺术、“非意志”艺术创始人。 \n雷人先生以66岁之龄，独辟蹊径，以独特的“遛金”技法，将传统书法艺术推向了一个全新的维度——立体书法，其核心和本质，是开辟了书法历史的新纪元——立体书法时代，这一创举不仅挑战了我们对书法艺术的既有认知，更以其深邃的文化内涵和卓越的艺术表现力，赢得了国内外艺术界的广泛赞誉。 \n炁功修炼，生命科学研究者。 \n“人类HA文明”发明专利人。发明专利：中国13项，美国4项。 \n身兼： \n中国作家协会会员\n中国诗歌学会会员\n中国律师协会会员\n中国建造师学会会员\n中国翻译协会会员 \n美国哈德逊美术家会员\n美国华州华人美术家协会会员 \n1967，初中毕业回乡放羊，做过海河民工。\n1978，自学考大学，兼职助教。\n1990，自费翻译出版 特朗普自传《交易的艺术》。\n1990，自学考取律师。 \n1994，停薪留职下海从事岩土工程并创办建设部地基专业一级企业。\n2008，自学获中国12项机械及工法发明专利，其中2项获授国家级工法；\n2016，获美国发明专利1项。\n2009，《科技日报》报道“Layman 传奇”。\n2013\, 翻译出版美国长篇小说《红眼睛看了》。 \n2014，获“中国诗歌贡献奖”\n2015 中国信息报“雷人——60岁闯入诗坛的黑马”。\n2015 获《诗词之友》“桂冠诗人”称号。\n2016 《中国文艺家》 “诗性的崛起，人性的张扬”。\n2016 中国诗歌网，作家出版集团在中国作协召开新诗百年雷人诗歌专题研讨会。 \n2016 首创“遛金”“非意志”艺术和“立体书法”。\n2023 《中国文艺家》“雷人的遛金艺术”\n2024美国《西雅图华人月刊》为雷人立体书法颁发“ 文化贡献奖”，并发表雷人口述历史：从放羊娃，到发明家，到桂冠诗人，到立体书法艺术创始人。\n2024美国华盛顿大学为雷人立体书法举办个展，雷人发布立体书法学术报告。 \n出版诗集：\n2011 《雷人诗谈》\n2012 《雷人诗情》\n2013 《雷人诗说》\n2013 《雷人诗爱》\n2013 《核黎明》\n2015 《雪的颠覆》\n2016 《水的绝唱》\n2022 《诗的解剖》 中英双语 \n出版译著：\n1990 特朗普自传《交易的艺术》\n2013 美国最畅销书《红眼睛蓝了》 \n获奖：\n中国，中国诗歌贡献奖，2014\n桂冠诗人奖，2015\n美国，文化贡献奖 2024 \n艺术家主页：3DCalli.art \n【作品展示】\n \n《雷人立体书法艺术简介》 \n \n《繁体汉字“龍”》 \n  \n《日本当用漢字“書道”（sho do ）》 \n \n《立体书法楷书 ：“華人月刊”》 \n \n《漢字“神”，大草》
URL:https://one-way-street.com/zh/event/2025-08-17/
LOCATION:One Way Street Tokyo\, 東京都中央区銀座1丁目6−1\, 東京\, Japan
ATTACH;FMTTYPE=image/png:https://one-way-street.com/wp-content/uploads/2025/08/8.17让书法成为抒发-1.png
END:VEVENT
END:VCALENDAR