BEGIN:VCALENDAR
VERSION:2.0
PRODID:-//One Way Street Tokyo - ECPv6.6.2//NONSGML v1.0//EN
CALSCALE:GREGORIAN
METHOD:PUBLISH
X-WR-CALNAME:One Way Street Tokyo
X-ORIGINAL-URL:https://one-way-street.com/zh
X-WR-CALDESC:One Way Street Tokyo的活动
REFRESH-INTERVAL;VALUE=DURATION:PT1H
X-Robots-Tag:noindex
X-PUBLISHED-TTL:PT1H
BEGIN:VTIMEZONE
TZID:Asia/Tokyo
BEGIN:STANDARD
TZOFFSETFROM:+0900
TZOFFSETTO:+0900
TZNAME:JST
DTSTART:20250101T000000
END:STANDARD
END:VTIMEZONE
BEGIN:VEVENT
DTSTART;TZID=Asia/Tokyo:20250809T143000
DTEND;TZID=Asia/Tokyo:20250809T160000
DTSTAMP:20260423T172749
CREATED:20250721T091647Z
LAST-MODIFIED:20250721T110127Z
UID:8483-1754749800-1754755200@one-way-street.com
SUMMARY:[:zh]Asian Talk 175 双语作家元山里子新书分享会[:]
DESCRIPTION:【活动主题】\nAsian Talk 175\n双语作家元山里子\n新书分享会\n  \n【活动介绍】\n \n元山里子\n生于日本母亲与中国父亲的中日家庭，拥有中日两国的文化背景。 \n曾就读于厦门大学外文学院，主修日语专业日本文学方向。后毕业于早稻田大学语言研究课程及文化服装学院。 \n目前以日中双语作家兼时尚设计师的身份活跃于业界，著作众多，涵盖非虚构作品、随笔、小说及诗歌等领域。 \n  \n本次活动将围绕其新作『月の雪路　不適切な今日子と不機嫌な黒桃』和《华文文学的异域阐释语美学重构》展开，探讨文学创作灵感和语言的魅力。 \n现场还将设置交流环节，读者可进行提问、互动交流及书籍签售。 \n  \n代表作 \n非虚构：东瀛物语三部曲 花城出版社 \n《三代东瀛物语》《他和我的东瀛物语》《人间幸不幸》 \n虚构小说：月亮三部曲 \n《星星遇见月亮》《月寿司》《月见庵》* \n*《月见庵》将于2025年9月发表 \n  \n  \n【对谈嘉宾介绍】\n \n林祁 \n作家，文学评论家，北京大学文学博士，厦门大学嘉庚学院教授。 \n著有《风骨与物哀之间——日本新华侨华人文学三十年》，诗集《唇边》等。 \n  \n \n蔡之岳\n1970年代生人，毕业于解放军外语学院，退伍后在行业媒体工作，曾任《红木》《中式生活》杂志执行主编。 \n大学期间开始文学创作，在《江南》《天涯》《清明》《作品》《万松浦》等杂志发表过诗歌、小说；在《西部文艺研究》《收获》《文学评论》《文学自由谈》等发表过文艺评论。自2019年起旅居东京。 \n  \n  \n【活动相关图书】\n \n『月の雪路　不適切な今日子と不機嫌な黒桃』 \n元山里子著 \n文芸社、2025年 \n東京から城下町雪路に移り住んできた雅子。彼女がふと入った老舗寿司店で出会ったのは、若き女性寿司職人今日子と、その恋人の黒桃だった。二人の先進的な考え方に触発された雅子は、今日子の夢である実家の『月寿司』を継ぐこと、黒桃と家族になること、の実現のために協力することになるが……。より拓けた未来を模索する二人と、それを支える周囲の人々をスタイリッシュに描いた一冊。 \n  \n \n《华文文学的异域阐释语美学重构》 \n元山里子著 \n東京書房出版 \n  \n  \n【活动信息】\n嘉宾：元山里子，林祁，蔡之岳 \n时间：2025年8月9日（星期六）14:30-16:00 \n地点：单向街书店・东京银座店 \n东京都中央区银座1-6-1 \n形式：中文分享会・全席自由席（40席） \n费用：免费入场 \n本店活动席位为自由席，无指定座位，先到者优先选座。 \n———————————————————————————————————— \n致来店参加的各位顾客 \n活动开始时间前30分钟起，开放入场。 \n如有任何问题，请随时联系致电0362630116。 \n———————————————————————————————————— \n【扫码成为单向街书店·东京银座店年费会员】 \n \n◎年费会员 会费：33\,000日元/年(含税) \n【会员权益】 \n１、专属年费会员卡 \n2、赠全品饮料券12张 \n3、免费参与书店活动 \n4、简体中文书购书7折
URL:https://one-way-street.com/zh/event/asian-talk-175/
LOCATION:One Way Street Tokyo\, 東京都中央区銀座1丁目6−1\, 東京\, Japan
ATTACH;FMTTYPE=image/png:https://one-way-street.com/wp-content/uploads/2025/07/イベントポスター（2025年7月）-12.png
END:VEVENT
BEGIN:VEVENT
DTSTART;TZID=Asia/Tokyo:20250809T170000
DTEND;TZID=Asia/Tokyo:20250809T183000
DTSTAMP:20260423T172749
CREATED:20250807T090431Z
LAST-MODIFIED:20250807T152725Z
UID:8531-1754758800-1754764200@one-way-street.com
SUMMARY:[:zh]【艺术空间】东京渡 张建华东京个展[:]
DESCRIPTION:【艺术空间】\n东京渡\n张建华东京个展\n艺术家：张建华 \n策展人：蓝京华 \n开幕时间： 2025.8.9 SAT \n  \n【艺术对话 活动信息】\n艺术对话嘉宾：张建华、蓝京华、张建敏、甄亚雷 \n时间：2025年8月9日（周六）17:00 \n地点：单向街书店・东京银座店 \n东京都中央区银座1-6-1 \n费用：免费入场 \n使用语言：中文 \n  \n【艺术家介绍】\n \n张建华 \n张建华，男，1973年生，河南商丘人，2000年7月毕业于中国美术学院雕塑系;2004年毕业于中央美术学院雕塑系硕士研究生班。\n2006年法国访问艺术家;2009毕业于中央美术学院雕塑系，艺术硕士;2010年北京大学访问学者;2015毕业于中国社会科学研究生院，文博硕士;2020毕业于河北大学，文学博士。中国人民大学、北京工业大学、北京现代管理大学客座教授，韩国牧原大学硕士生导师，中国艺术研究院写意画院创作研修班导师。中国雕塑协会会员、中国工艺美术协会会员、中国壁画学会会员、景德镇中外陶瓷艺术家协会副会长、中华诗词学会会员、中国舞台美术协会視覺藝術委員會委员、宋庄书法院成员、中国民盟盟员、圣恩书院院长、中国楹联学会书画委员会委员、中国楹联学会会员、曾任国务院关心下一代委员会教育中心大湾区主任，曾中国雕塑艺术研究院广东分院院长，广州工商学院公共艺术教研室主任，《亚洲新闻周刊》、《亚洲艺术导刊》主笔兼广州艺术中心主任，现任河北美术学院雕塑与公共艺术学院博士特殊人才引进专任教师，副教授，当代艺术与人文研究院院长，《艺术名家》杂志副主编，《联墨双馨》杂志副主编、《中国拍卖》、《品味》专栏作家。 \n【作品展示】
URL:https://one-way-street.com/zh/event/exhibition-20250809/
LOCATION:One Way Street Tokyo\, 東京都中央区銀座1丁目6−1\, 東京\, Japan
ATTACH;FMTTYPE=image/png:https://one-way-street.com/wp-content/uploads/2025/08/8.9东京渡-1.png
END:VEVENT
END:VCALENDAR