BEGIN:VCALENDAR
VERSION:2.0
PRODID:-//One Way Street Tokyo - ECPv6.6.2//NONSGML v1.0//EN
CALSCALE:GREGORIAN
METHOD:PUBLISH
X-ORIGINAL-URL:https://one-way-street.com/zh
X-WR-CALDESC:One Way Street Tokyo的活动
REFRESH-INTERVAL;VALUE=DURATION:PT1H
X-Robots-Tag:noindex
X-PUBLISHED-TTL:PT1H
BEGIN:VTIMEZONE
TZID:Asia/Tokyo
BEGIN:STANDARD
TZOFFSETFROM:+0900
TZOFFSETTO:+0900
TZNAME:JST
DTSTART:20250101T000000
END:STANDARD
END:VTIMEZONE
BEGIN:VEVENT
DTSTART;TZID=Asia/Tokyo:20250802T143000
DTEND;TZID=Asia/Tokyo:20250802T180000
DTSTAMP:20260423T172846
CREATED:20250721T070523Z
LAST-MODIFIED:20250723T131102Z
UID:8477-1754145000-1754157600@one-way-street.com
SUMMARY:[:zh]Asian Talk 174 我们的国歌[:]
DESCRIPTION:【活动主题】\nAsian Talk 174\n我们的国歌\n  \n【活动简介】\n1935年的一天，负责为电影《风云儿女》写作故事梗概和主题歌的田汉一边吸着烟，一边思考着。突然，伟词壮句涌上心头，近旁却无片纸，他顺手拆开一个香烟盒，就在锡包衬纸的背面奋笔疾书。 \n起来，不愿做奴隶的人们，\n把血肉来筑我们新的长城。\n中国民族到了最危险的时候了，\n每一个人被迫着发出最后的吼声…… \n这些激励国人的词句就此诞生。此次我们有幸请到国歌词作者田汉侄女田伟女士为我们分享田汉与国歌背后的故事。 \n  \n【嘉宾介紹】\n \n田伟 \n旅居日本华侨，“NPO法人东方文化交流会”理事长，日本湖南同乡会会长。自1988年定居日本以来，举办田汉聂耳作品专场达50余次。2019年受邀参加中华人民共和国成立70周阅兵典礼。著作有《中国国歌八十周年》《田汉和李大钊》《田汉和谷崎润一郎》等，编剧作品有《樱花——一个老兵的忏悔》《落地生根——日本老华侨林同春的故事》等。 \n  \n【活动信息】\n嘉宾：田伟 \n时间：2025年8月2日（周六）14:30-16:00 \n场所：单向街书店・东京银座店 \n东京都中央区银座1-6-1 \n形式：中文分享会・全席自由席（40席） \n本店活动席位为自由席，无指定座位，先到者优先选座。 \n———————————————————————————————————— \n【一般入场券】 \n费用：1500円 \n点击页面上方「Get Tickets」，进入预约页面，填写必要信息，完成支付。 \n※购票后不可取消、退款、转让，请提前确认好时间安排。 \n由于系统原因，在预约后邮件可能会无法送达至您的邮箱。 \n若不确定是否预约成功，请电话联系我们。 \n【当日券】 \n费用：1500円 \n可在活动当天于店内一楼柜台购票。 \n【年费会员入场券】 \n单向街书店·东京银座店年费会员可免费参加本次活动。 \n点击下方「Going」，进入预约页面，填写必要信息，完成报名。 \n＊活动当日，请年费会员向工作人员提示会员卡，确认身份后入场＊ \n———————————————————————————————————— \n致来店参加的各位顾客 \n活动开始时间前30分钟起，开放入场。 \n如有任何问题，请随时联系致电0362630116。 \n———————————————————————————————————— \n【扫码成为单向街书店·东京银座店年费会员】 \n \n◎年费会员 会费：33\,000日元/年(含税) \n【会员权益】 \n１、专属年费会员卡 \n2、赠全品饮料券12张 \n3、免费参与书店活动 \n4、简体中文书购书7折
URL:https://one-way-street.com/zh/event/asian-talk-174/
LOCATION:One Way Street Tokyo\, 東京都中央区銀座1丁目6−1\, 東京\, Japan
ATTACH;FMTTYPE=image/png:https://one-way-street.com/wp-content/uploads/2025/07/8.2田伟-2.png
END:VEVENT
END:VCALENDAR