BEGIN:VCALENDAR
VERSION:2.0
PRODID:-//One Way Street Tokyo - ECPv6.6.2//NONSGML v1.0//EN
CALSCALE:GREGORIAN
METHOD:PUBLISH
X-ORIGINAL-URL:https://one-way-street.com/zh
X-WR-CALDESC:One Way Street Tokyo的活动
REFRESH-INTERVAL;VALUE=DURATION:PT1H
X-Robots-Tag:noindex
X-PUBLISHED-TTL:PT1H
BEGIN:VTIMEZONE
TZID:Asia/Tokyo
BEGIN:STANDARD
TZOFFSETFROM:+0900
TZOFFSETTO:+0900
TZNAME:JST
DTSTART:20250101T000000
END:STANDARD
END:VTIMEZONE
BEGIN:VEVENT
DTSTART;TZID=Asia/Tokyo:20250413T140000
DTEND;TZID=Asia/Tokyo:20250413T163000
DTSTAMP:20260423T233524
CREATED:20250329T054406Z
LAST-MODIFIED:20250330T102838Z
UID:7738-1744552800-1744561800@one-way-street.com
SUMMARY:[:zh]Asian Talk 150 思考多文化化社会的教育： 丹麦的社会统合与日本的未来[:ja]Asian Talk 150 多文化化する社会の教育を考える ： デンマークの社会統合と日本のこれから[:]
DESCRIPTION:【活动主题】\nAsian Talk 150 \n思考多文化化社会的教育： \n丹麦的社会统合与日本的未来 \n  \n【活动介绍】\n这次Asaian Talk我们请来了研究终生教育的专家、明治学院大学社会学系教授坂口绿老师，演讲的题目是“丹麦的社会统合与日本的未来”。坂口老师多年来以丹麦社会为研究对象，考察这个北欧国家是如何接受移民—“新丹麦人”，实践多样化教育的。 \n在这次活动中，坂口老师会向大家介绍丹麦社会是以怎么样的思路来解决社会统合问题的，然后跟大家一起探讨日本可以从丹麦的例子中学到什么，如何来面对日本社会的多元文化问题。 \n【嘉宾介绍】\n \n坂口緑（SAKAGUCHI　MIDORI） \n明治学院大学社会学部教授 \n教育学博士。主要研究领域是终身学习论、市民社会论。 \n著作有『生涯学習と地域づくりのハーモニー』（共著、学文社、2023）、『デンマーク式生涯学習社会のしくみ』（共著、ミツイパブリッシング、2022）、『フォルケホイスコーレのすすめ』（共著、花伝社、2022） \n  \n \n王前 \n人文主学者，主要研究领域为政治哲学和思想史。 \n著有《中国阅读西方思想》(讲谈社2011年)、合著有《近代日本政治思想史》(ナカニシヤ出版2014年)、《現代中国と市民社会―普遍的《近代》の可能性》(勉成出版2017年)、《世界哲学史》(第八卷)（筑摩書房2020年)等。 \n  \n【活动相关图书】\n \n『多文化化するデンマークの社会統合：生涯学習が果たす役割とその可能性』 \n坂口緑\, 2024\, 花伝社 \n  \n【活动信息】\n嘉宾：坂口绿、王前 \n时间：2025年4月13日（星期天）14:30-16:00 \n地点：单向街书店・东京银座店 \n东京都中央区银座1-6-1 \n形式：日文・全席自由席（40席） \n本店活动席位为自由席，无指定座位，先到者优先选座。 \n活动以日语进行，提供中文口译。 \n———————————————————————————————————— \n【一般入场券】 \n费用：1500円 \n点击页面上方「Get Tickets」，进入预约页面，填写必要信息，完成支付。 \n※购票后不可取消、退款、转让，请提前确认好时间安排。 \n【当日券】 \n费用：1500円 \n可在活动当天于店内一楼柜台购票。 \n【年费会员入场券】 \n单向街书·东京银座店年费会员可免费参加本次活动。 \n点击下方「Going」，进入预约页面，填写必要信息，完成报名。 \n＊活动当日，请年费会员向工作人员提示会员卡，确认身份后入场＊ \n———————————————————————————————————— \n致来店参加的各位顾客 \n活动开始时间前30分钟起，开放入场。 \n如有任何问题，请随时联系致电0362630116。 \n———————————————————————————————————— \n【扫码成为单向街书店·东京银座店年费会员】 \n \n◎年费会员 会费：33\,000日元/年(含税) \n【会员权益】 \n１、专属年费会员卡 \n2、赠全品饮料券12张 \n3、免费参与书店活动 \n4、简体中文书购书7折
URL:https://one-way-street.com/zh/event/asian-talk-150/
LOCATION:One Way Street Tokyo\, 東京都中央区銀座1丁目6−1\, 東京\, Japan
ATTACH;FMTTYPE=image/png:https://one-way-street.com/wp-content/uploads/2025/03/イベントポスターのコピー-6-1.png
END:VEVENT
END:VCALENDAR