BEGIN:VCALENDAR
VERSION:2.0
PRODID:-//One Way Street Tokyo - ECPv6.6.2//NONSGML v1.0//EN
CALSCALE:GREGORIAN
METHOD:PUBLISH
X-WR-CALNAME:One Way Street Tokyo
X-ORIGINAL-URL:https://one-way-street.com/zh
X-WR-CALDESC:One Way Street Tokyo的活动
REFRESH-INTERVAL;VALUE=DURATION:PT1H
X-Robots-Tag:noindex
X-PUBLISHED-TTL:PT1H
BEGIN:VTIMEZONE
TZID:Asia/Tokyo
BEGIN:STANDARD
TZOFFSETFROM:+0900
TZOFFSETTO:+0900
TZNAME:JST
DTSTART:20250101T000000
END:STANDARD
END:VTIMEZONE
BEGIN:VEVENT
DTSTART;TZID=Asia/Tokyo:20250321T150000
DTEND;TZID=Asia/Tokyo:20250321T163000
DTSTAMP:20260424T010040
CREATED:20250319T110535Z
LAST-MODIFIED:20250319T113606Z
UID:7682-1742569200-1742574600@one-way-street.com
SUMMARY:[:zh]东八时区 当代艺术五人展[:]
DESCRIPTION:【活动主题】\n东八时区\n当代艺术五人展\n艺术家：张润萍、庞振勇、梁克刚、郭全红、马越 \n策展人：蓝京华 \n展期： 2025.3.21 FRI – 3.25 TUE \n  \n【艺术对话 活动信息】\n艺术对话嘉宾：张润萍、庞振勇、梁克刚、郭全红、马越、蓝京华 \n时间：2025年3月21日（周五）15:00-16:30 \n地点：单向街书店・东京银座店 \n东京都中央区银座1-6-1 \n费用：免费入场 \n  \n【作品展示】\n  \n庞振勇作品 \n  \n \n张润萍作品 \n  \n郭全红作品\n  \n \n马越作品 \n  \n \n梁克刚作品
URL:https://one-way-street.com/zh/event/exhibition-2025-03-21/
LOCATION:One Way Street Tokyo\, 東京都中央区銀座1丁目6−1\, 東京\, Japan
END:VEVENT
END:VCALENDAR