BEGIN:VCALENDAR
VERSION:2.0
PRODID:-//One Way Street Tokyo - ECPv6.6.2//NONSGML v1.0//EN
CALSCALE:GREGORIAN
METHOD:PUBLISH
X-WR-CALNAME:One Way Street Tokyo
X-ORIGINAL-URL:https://one-way-street.com/zh
X-WR-CALDESC:One Way Street Tokyo的活动
REFRESH-INTERVAL;VALUE=DURATION:PT1H
X-Robots-Tag:noindex
X-PUBLISHED-TTL:PT1H
BEGIN:VTIMEZONE
TZID:Asia/Tokyo
BEGIN:STANDARD
TZOFFSETFROM:+0900
TZOFFSETTO:+0900
TZNAME:JST
DTSTART:20250101T000000
END:STANDARD
END:VTIMEZONE
BEGIN:VEVENT
DTSTART;TZID=Asia/Tokyo:20250223T143000
DTEND;TZID=Asia/Tokyo:20250223T160000
DTSTAMP:20260424T023058
CREATED:20250210T115950Z
LAST-MODIFIED:20250218T045524Z
UID:7244-1740321000-1740326400@one-way-street.com
SUMMARY:[:zh]【单向街职场系列 咨询行业专场】咨询行业的光鲜与挑战[:ja]【单向街职场系列 咨询行业专场】咨询行业的光鲜与挑战[:]
DESCRIPTION:【嘉宾介绍】\n嘉宾：Thea \n商业咨询顾问 \n曾任职全球顶级咨询公司 \n东京大学硕士 \n嘉宾：杨絮 \n投资公司合伙人 \n曾任德勤战略部门高级咨询师 \n清华本科/一桥硕士 \n主持人：陈功 \n【东京职场系列】发起人 \n【陈功来了】频道主理人 \n  \n\n【活动简介】\n\n\n麦肯锡、波士顿咨询、贝恩、埃森哲、德勤……这些全球咨询公司是众多职场精英向往的殿堂。日本本土的野村，三菱、日立咨询等企业也吸引着无数求职者竞争入场。然而，咨询行业到底是怎样的？为什么有人挤破头想进，有人却最后选择离开？ \n本次东京职场系列，我们邀请了大手咨询企业嘉宾和职业发展专家，为大家揭秘咨询行业的选才标准、工作流程、成长路径，以及行业真实的光鲜与挑战。 \n如果你对咨询工作感兴趣，或想用“咨询思维”提升自己的职场竞争力，欢迎来到單向街交流互动！ \n\n  \n【活动回顾】\n  \n\n\n【活动信息】\n\n\n嘉宾：Thea  杨絮 \n主持人：陈功 \n时间：2025年2月23日（日）14:30-16:00 \n地点：单向街书店・东京银座店 \n东京都中央区银座1-6-1 \n形式：中文・全席自由席（40席） \n本店活动席位为自由席，无指定座位，先到者优先选座。 \n———————————————————————————————————— \n【一般入场券】 \n费用：1500円 \n点击页面上方「Get Tickets」，进入预约页面，填写必要信息，完成支付。 \n※购票后不可取消、退款、转让，请提前确认好时间安排。 \n【当日券】 \n费用：1500円 \n可在活动当天于店内一楼柜台购票。 \n【年费会员入场券】 \n单向街书店·东京银座店年费会员可免费参加本次活动。 \n点击下方「Going」，进入预约页面，填写必要信息，完成报名。 \n＊活动当日，请年费会员向工作人员提示会员卡，确认身份后入场＊ \n———————————————————————————————————— \n致来店参加的各位顾客 \n活动开始时间前30分钟起，开放入场。 \n如有任何问题，请随时联系致电0362630116。 \n———————————————————————————————————— \n【扫码成为单向街书店·东京银座店年费会员】 \n \n◎年费会员 会费：33\,000日元/年(含税) \n【会员权益】 \n１、专属年费会员卡 \n2、赠全品饮料券12张 \n3、免费参与书店活动 \n4、简体中文书购书7折
URL:https://one-way-street.com/zh/event/live-workplace-02/
ATTACH;FMTTYPE=image/png:https://one-way-street.com/wp-content/uploads/2025/02/2.23.png
END:VEVENT
END:VCALENDAR