BEGIN:VCALENDAR
VERSION:2.0
PRODID:-//One Way Street Tokyo - ECPv6.6.2//NONSGML v1.0//EN
CALSCALE:GREGORIAN
METHOD:PUBLISH
X-ORIGINAL-URL:https://one-way-street.com/zh
X-WR-CALDESC:One Way Street Tokyo的活动
REFRESH-INTERVAL;VALUE=DURATION:PT1H
X-Robots-Tag:noindex
X-PUBLISHED-TTL:PT1H
BEGIN:VTIMEZONE
TZID:Asia/Tokyo
BEGIN:STANDARD
TZOFFSETFROM:+0900
TZOFFSETTO:+0900
TZNAME:JST
DTSTART:20250101T000000
END:STANDARD
END:VTIMEZONE
BEGIN:VEVENT
DTSTART;TZID=Asia/Tokyo:20250201T143000
DTEND;TZID=Asia/Tokyo:20250201T160000
DTSTAMP:20260424T023143
CREATED:20250118T052755Z
LAST-MODIFIED:20250127T031043Z
UID:7060-1738420200-1738425600@one-way-street.com
SUMMARY:[:zh]Asian Talk 137　中国新移民的崛起与日本[:ja]Asian Talk 137  中国新移民の台頭と日本[:]
DESCRIPTION:【嘉宾简介】\n \n舛友雄大\n中国与东南亚问题专业记者。出生于福冈县，美国加州大学国际关系硕士。 \n2010年加入中国媒体后，负责国际新闻报道。2014年至2016年，担任新加坡国立大学研究员。从2023年夏天开始，积极报道中国新移民相关题目，并在《东洋经济Online》和《Japan Times》等媒体发表文章。同时，他还主办了一档与专家共同解读亚洲时事问题的播客节目《Asia Frontline》。 \n  \n【主持人简介】 \n \n中村正人\n东京深度中国研究会代表。曾担任《地球步方》中国及远东俄罗斯区域的编辑，熟悉当地美食文化。从2020年春天开始，探索蓬勃发展的“地道中餐”文化，并相继出版了指南书籍《攻略！东京深度中国》等。此外，他还担任池袋等聚集“地道中餐”的街区导游，为人们提供深入体验的向导服务。 \n【活动信息】 \n嘉宾：舛友雄大 \n主持人：中村正人 \n时间：2025年2月1日（土）14:30 -16:00 \n地点：单向街书店・东京银座店 \n东京都中央区银座1-6-1 \n形式：日语分享会・全席自由 \n—————— \n网上购票：海报二维码、官网主页 \n当日进场：门店柜台购票 \n– \n费用：1500日元 \n点击页面上方「Get Tickets」，填写必要信息完成支付。 \n※购票后不可取消、退款、转让，请提前确认好时间安排。 \n– \n单向街书店·东京银座店年费会员免费 \n点击下方「Going」，完成报名。 \n（会员将由工作人员确认身份后入场） \n—————— \n如有任何问题，请随时联系官方IG或致电0362630116。 \n◎扫码成为年费会员 33\,000日元/年(含税) \n  \n \n  \n【会员权益】 \n１、专属年费会员卡 \n2、赠全品饮料券12张 \n3、免费参与书店活动 \n4、简体中文书购书7折 \n【活动介绍】 \n近年来，中国富裕阶层和中上阶级选择移居日本的趋势引发了广泛关注。这些“新移民”与过去的“新华侨”世代有所不同，他们主要是为了保护资产、追求教育机会等目的而来到日本。那么，这样的新移民规模究竟有多大？他们为何在众多国家中选择了日本？这一现象又正在对日本社会和经济产生怎样的影响？我们将与新闻记者舛友雄大先生及东京深度中国研究会代表中村正人先生一同探讨这些问题。 \n【相关作品】 \n \n《潤日：追踪逃往日本的中国富裕阶层》 \n2025年1月，由东洋经济新报社出版。 \n涌入日本的中国“新移民”究竟是谁？“潤”是近年来在中国流行的一个词，用来形容因种种原因而追求更好生活、选择离开中国的人们。这个词本意是“获利”或“润泽”，但因其汉语拼音为“Run”，也隐含了英文“run（逃跑）”的双重含义。“潤日”社区正在悄然兴起，伴随着中国、日本乃至世界的变化，这些新移民的存在感迅速增强，许多日本人对此仍然毫无察觉。深入探访这些全新的中国移民群体，可以深刻感受到其独特性和深远意义。同时，也能清晰地看到，这一现象正在对日本的政治、经济和社会产生不可忽视的巨大影响。
URL:https://one-way-street.com/zh/event/asiantalk137/
LOCATION:One Way Street Tokyo\, 東京都中央区銀座1丁目6−1\, 東京\, Japan
ATTACH;FMTTYPE=image/png:https://one-way-street.com/wp-content/uploads/2025/01/イベントポスター3.png
END:VEVENT
END:VCALENDAR