BEGIN:VCALENDAR
VERSION:2.0
PRODID:-//One Way Street Tokyo - ECPv6.6.2//NONSGML v1.0//EN
CALSCALE:GREGORIAN
METHOD:PUBLISH
X-WR-CALNAME:One Way Street Tokyo
X-ORIGINAL-URL:https://one-way-street.com/zh
X-WR-CALDESC:One Way Street Tokyo的活动
REFRESH-INTERVAL;VALUE=DURATION:PT1H
X-Robots-Tag:noindex
X-PUBLISHED-TTL:PT1H
BEGIN:VTIMEZONE
TZID:Asia/Tokyo
BEGIN:STANDARD
TZOFFSETFROM:+0900
TZOFFSETTO:+0900
TZNAME:JST
DTSTART:20250101T000000
END:STANDARD
END:VTIMEZONE
BEGIN:VEVENT
DTSTART;TZID=Asia/Tokyo:20250125T143000
DTEND;TZID=Asia/Tokyo:20250125T160000
DTSTAMP:20260424T035527
CREATED:20250110T043240Z
LAST-MODIFIED:20250111T135734Z
UID:6985-1737815400-1737820800@one-way-street.com
SUMMARY:[:zh]Asian Talk 135:《红楼梦》和《金瓶梅》哪个更伟大？[:]
DESCRIPTION:【活动主题】\nAsian Talk 135\n《红楼梦》和《金瓶梅》哪个更伟大？\n【嘉宾介绍】\n \n刘晓蕾\n作家，文学博士，大学教师。 \n得到APP《刘晓蕾讲透〈金瓶梅〉》课程主理人， \n《文汇报》《腾讯大家》专栏作家， \n著有《刘晓蕾〈红楼梦〉十二讲》、《作为欲望号的〈金瓶梅〉》、《情僧、英雄与正经人：十四位人物解透〈红楼梦〉》等。 \n  \n \n赵琼\n策划、前腾讯新闻高级编辑 \n【活动信息】\n嘉宾：刘晓蕾  赵琼 \n时间：2025年1月25日（周六）14:30-16:00 \n地点：单向街书店・东京银座店 \n东京都中央区银座1-6-1 \n形式：中文分享会・全席自由 \n—————— \n网上购票：海报二维码、官网主页 \n当日进场：门店柜台购票 \n– \n费用：1500日元/年费会员免费 \n点击页面上方「Get Tickets」，填写必要信息完成支付。 \n※购票后不可取消、退款、转让，请提前确认好时间安排。 \n– \n单向街书店·东京银座店年费会员免费 \n点击下方「Going」，完成报名。 \n（会员将由工作人员确认身份后入场） \n—————— \n如有任何问题，请随时联系官方IG或致电0362630116。 \n◎扫码成为年费会员 33\,000日元/年(含税) \n \n【会员权益】 \n１、专属年费会员卡 \n2、赠全品饮料券12张 \n3、免费参与书店活动 \n4、简体中文书购书7折 \n【相关图书】\n  \n  \n【活动介绍】\n喜欢《金瓶梅》的，爱把它跟《红楼梦》比，往往觉得金比红更好，因为金更真实。 \n高晓松就说：《金瓶梅》写的才是“真正的生活”，相比之下，《红楼梦》就是经典的偶像剧，太理想，太乌托邦了。哈佛大学的田晓菲也有类似观点，她说《红楼梦》是真正意义上的“通俗小说”、“诗意小说”，是“贾府的肥皂剧”……《金瓶梅》的世界才真实。 \n刘晓蕾认为，“真实”是一种主观感受。《金瓶梅》写市井，《红楼梦》写贵族，前者之所以显得更真实，是因为《金瓶梅》的商业社会和城市生活，跟我们现在多有重叠。而荣国府的精致大观园的美好，却显得有点遥远。 \n不过，生活和审美虽然没法复制，但人性却是相通的。 \n《红楼梦》写贵族：荣国府、大观园，元春省亲、秦可卿的豪华葬礼，还有雀金呢、凫靥裘、还有“紫檀透雕，嵌着大红纱透绣花卉并草字诗词的璎珞”……已经远去，但作诗、赏花、吃螃蟹，琉璃世界白雪红梅，这其中的美，我们却未必不能理解，也未必不能拥有。 \n《金瓶梅》写的是市井生活：小贩们走街串巷，摇着惊闺叶；妻妾们勾心斗角，争风吃醋；西门庆升官发财，喝酒偷情找女人，结义兄弟拍马溜须打秋风……这样的人心与世情，这样的生活，以及其中的贪婪、焦虑和软弱，如今我们也正在经历。 \n我们实在是距离《金瓶梅》更近。 \n刘晓蕾认为，《金瓶梅》写最平常的市井生活，直接进入人性的深渊；而《红楼梦》则努力活得尊贵、超拔。《金瓶梅》写人心与欲望，写沉重的肉身，《红楼梦》呈现爱、美与尊严，发现丰美的灵魂，都是生命之书，都心怀慈悲。 \n《红楼梦》和《金瓶梅》双峰并峙，同时拥有它们，是读者的幸运。
URL:https://one-way-street.com/zh/event/asian-talk-135/
LOCATION:One Way Street Tokyo\, 東京都中央区銀座1丁目6−1\, 東京\, Japan
ATTACH;FMTTYPE=image/png:https://one-way-street.com/wp-content/uploads/2025/01/76162bfc75cb5904692d0babc21f5e71.png
END:VEVENT
END:VCALENDAR