BEGIN:VCALENDAR
VERSION:2.0
PRODID:-//One Way Street Tokyo - ECPv6.6.2//NONSGML v1.0//EN
CALSCALE:GREGORIAN
METHOD:PUBLISH
X-WR-CALNAME:One Way Street Tokyo
X-ORIGINAL-URL:https://one-way-street.com/zh
X-WR-CALDESC:One Way Street Tokyo的活动
REFRESH-INTERVAL;VALUE=DURATION:PT1H
X-Robots-Tag:noindex
X-PUBLISHED-TTL:PT1H
BEGIN:VTIMEZONE
TZID:Asia/Tokyo
BEGIN:STANDARD
TZOFFSETFROM:+0900
TZOFFSETTO:+0900
TZNAME:JST
DTSTART:20240101T000000
END:STANDARD
END:VTIMEZONE
BEGIN:VEVENT
DTSTART;TZID=Asia/Tokyo:20241222T143000
DTEND;TZID=Asia/Tokyo:20241222T160000
DTSTAMP:20260424T052428
CREATED:20241205T080921Z
LAST-MODIFIED:20241216T035134Z
UID:6462-1734877800-1734883200@one-way-street.com
SUMMARY:[:zh]Asian Talk 123  :《单读39:自己跟自己玩的游戏》新书分享会:文化是一场游戏[:]
DESCRIPTION:【活动主题】 \nAsian Talk 123\n《单读39:自己跟自己玩的游戏》新书分享会\n文化是一场游戏\n\n【嘉宾介紹】 \n \n吴琦 \n《单读》主编，播客《螺丝在拧紧》主播，毕业于北京大学新闻与传播学院。 \n与项飙合著谈话录《把自己作为方法》，译有《下一次将是烈火》。 \n  \n【活动信息】 \n嘉宾：吴琦 \n时间：2024年12月22日（周日）14:30-16:00 \n地点：单向街书店・东京银座店 \n东京都中央区银座1-6-1 \n形式：中文分享会・全席自由 \n—————— \n网上购票：海报二维码、官网主页 \n当日进场：门店柜台购票 \n– \n费用：1500日元/年费会员免费 \n点击页面上方「Get Tickets」，填写必要信息完成支付。 \n※购票后不可取消、退款、转让，请提前确认好时间安排。 \n– \n单向街书店·东京银座店年费会员免费 \n点击下方「Going」，完成报名。 \n（会员将由工作人员确认身份后入场） \n—————— \n如有任何问题，请随时联系官方IG或致电0362630116。 \n◎扫码成为年费会员 33\,000日元/年(含税) \n \n【会员权益】 \n１、专属年费会员卡 \n2、赠全品饮料券12张 \n3、免费参与书店活动 \n4、简体中文书购书7折 \n  \n【相关图书】 \n \n《单读39:自己跟自己玩的游戏》汇编了来自澳大利亚、爱尔兰、非洲、瑞士和中国的由五种语言创作的十四篇作品。 \n这些新锐写作者在文学中做了一场“自己跟自己玩的游戏”。他们用非常规的语言和叙事、异质性的表达、独属于自己的文学声音，书写了“新一代人”的生活经历和情感体验：对孕育生命的矛盾心理，游戏与现实的彼此交融，重述被殖民历史的努力，隔离生活留下的痕迹……他们在普遍性的恐惧、疼痛、迷茫中试图寻找，既然熟悉的已然模糊不清，那什么是朝向未来的希望？ \n《单读39》还收录了闫家成的摄影作品《城郊之夜》，这位中国的年轻摄影师将镜头对准了大城市周边“睡城”的一条河边，记录下在角落中不起眼但又努力生活的人们的身影。
URL:https://one-way-street.com/zh/event/asian-talk-123/
LOCATION:One Way Street Tokyo\, 東京都中央区銀座1丁目6−1\, 東京\, Japan
ATTACH;FMTTYPE=image/png:https://one-way-street.com/wp-content/uploads/2024/12/イベントポスターのコピー-16.png
END:VEVENT
END:VCALENDAR