BEGIN:VCALENDAR
VERSION:2.0
PRODID:-//One Way Street Tokyo - ECPv6.6.2//NONSGML v1.0//EN
CALSCALE:GREGORIAN
METHOD:PUBLISH
X-WR-CALNAME:One Way Street Tokyo
X-ORIGINAL-URL:https://one-way-street.com/zh
X-WR-CALDESC:One Way Street Tokyo的活动
REFRESH-INTERVAL;VALUE=DURATION:PT1H
X-Robots-Tag:noindex
X-PUBLISHED-TTL:PT1H
BEGIN:VTIMEZONE
TZID:Asia/Tokyo
BEGIN:STANDARD
TZOFFSETFROM:+0900
TZOFFSETTO:+0900
TZNAME:JST
DTSTART:20240101T000000
END:STANDARD
END:VTIMEZONE
BEGIN:VEVENT
DTSTART;TZID=Asia/Tokyo:20241221T143000
DTEND;TZID=Asia/Tokyo:20241221T160000
DTSTAMP:20260424T052335
CREATED:20241206T091650Z
LAST-MODIFIED:20241213T021915Z
UID:6491-1734791400-1734796800@one-way-street.com
SUMMARY:[:zh]Asian Talk 122  东京职场漫谈-IT互联网专场[:]
DESCRIPTION:【活动主题】 \nAsian Talk 122 \n东京职场漫谈-IT互联网专场 \n  \n【嘉宾介紹】 \n《我从1000位求职者那学到的事》\n圆桌π嘉宾： \n \n真野綾奈 \n日语教育 & 全球人才专家 \n株式会社initi 代表取締役 \n \nIrene Zhang \n高科技招聘人才专家 \n跨国SAAS软件公司/JTG国际猎头 \n \n桑辉 \n东京AI应用开发社区发起人 \n码农吧coderbar✖️linkora创始人 \n  \n  \n《我在大手企业工作中学到的事》\n圆桌π嘉宾： \n \n俞思忠 \n日本大手支付软件公司 \n高级Salesforce工程师 \n \n黄联婧 \nGlobal SAAS大数据软件公司 \nBD manager \n \n王云杰 \nHackathon爱好者 \nMoney forward 全栈工程师 \n主持人 \n \n陈功 \n中日职场链接者 \niHunter招聘学院 创始人 \n  \n【活动信息】 \n嘉宾：真野綾奈 \nIrene Zhang \n桑辉 \n俞思忠 \n黄联婧 \n王云杰 \n主持人：陈功 \n时间：2024年12月21日（周六）14:30-16:00 \n地点：单向街书店・东京银座店 \n东京都中央区银座1-6-1 \n形式：中文分享会・全席自由 \n—————— \n网上购票：海报二维码、官网主页 \n当日进场：门店柜台购票 \n– \n费用：1500日元/年费会员免费 \n点击页面上方「Get Tickets」，填写必要信息完成支付。 \n※购票后不可取消、退款、转让，请提前确认好时间安排。 \n– \n单向街书店·东京银座店年费会员免费 \n点击下方「Going」，完成报名。 \n（会员将由工作人员确认身份后入场） \n—————— \n如有任何问题，请随时联系官方IG或致电0362630116。 \n◎扫码成为年费会员 33\,000日元/年(含税) \n \n【会员权益】 \n１、专属年费会员卡 \n2、赠全品饮料券12张 \n3、免费参与书店活动 \n4、简体中文书购书7折 \n  \n【活动介绍】 \n如何找到自己的下一份理想工作？ \n如何在职场中不断提升竞争力？ \n如何从行业大咖经验中获得启发？ \n如果你对这些感兴趣，不要错过 《东京职场漫谈 – IT互联网专场》 \n我们邀请了7位来自不同领域的职场精英，包括资深猎头顾问、HR招聘官，大手企业明星社员，人才专家，以及连续创业者等，齐聚一堂来分享 \n活动亮点： \n🎤圆桌讨论 1：  \n《我从1000位求职者那学到的事》 \n📚多方解读求职者的成功秘诀，助你在应聘求职中脱颖而出 \n🎤圆桌讨论 2： \n 《我在大手企业工作中学到的事》 \n📚探讨嘉宾亲身经历与心得，助你从中获取职场成长路径 \n无论你是身处 IT 互联网行业，还是希望进入这一领域，本次活动期待为你打开视野，提供专业视角与真实分享。  \n活动时间： \n12月21日周六 下午2:30~4:00 \n活动地点： \n东京银座單向街書店 \n一起探讨职场之道，解锁行业内幕与职场智慧！
URL:https://one-way-street.com/zh/event/asian-talk-122/
LOCATION:One Way Street Tokyo\, 東京都中央区銀座1丁目6−1\, 東京\, Japan
ATTACH;FMTTYPE=image/jpeg:https://one-way-street.com/wp-content/uploads/2024/12/1e4707229759dd29f44bed13a43f2399.jpeg
END:VEVENT
BEGIN:VEVENT
DTSTART;TZID=Asia/Tokyo:20241221T173000
DTEND;TZID=Asia/Tokyo:20241221T183000
DTSTAMP:20260424T052335
CREATED:20241210T091857Z
LAST-MODIFIED:20241215T022900Z
UID:6562-1734802200-1734805800@one-way-street.com
SUMMARY:[:zh]Asian Talk 125 腕立て伏せ、オン！ 区志航作品展（日本东京站）[:]
DESCRIPTION:【活动主题】\nAsian Talk 125 \n腕立て伏せ、オン！ \n俯卧撑，在！ \nOU ZHIHANG PUSH-UPS OF MEMORY \n一一区志航作品展（日本东京站） \n艺术家：区志航 \n策展人：蓝京华 \n学术主持人：张奇开 \n2024年12月18日开幕 \n2024年12月21日（周日）17:30-18:30对谈会 \n对谈嘉宾：区志航、张奇开、蓝京华 \n  \n【艺术家介紹】\n \n区志航\n当代艺术家、荷赛奖获得者，1985毕业于中国华南师范大学政治专业，现居中国广州。 \n区志航从上世纪七十年代开始接触摄影，他坚信艺术在社会进步中的推动意义，是一位不断打破传统的艺术家。在区志航创作的众多作品系列中，坚持超过20年，通过自身具有特殊意涵的行为符号，不断介入世界各地节点性重大的历史和公共事件现场进行创作的“俯卧撑”系列，与人类的历史和现实发生关系，体现着对社会现实的关注与理解，以及对人类的悲悯之心与人文情怀。成为了超越政治和意识形态，具有跨时代、跨国界和文献意义的世界性艺术。 \n迄今为止，区志航已经在世界各地创作了约1800个俯卧撑作品，行程过百万公里。凭借这个庞大的开创性跨媒介艺术系列，他曾获纪念中国改革开放三十年艺术成就展杰出成就奖（2008）、连州国际摄影年展年度杰出艺术家（2009）、第53届世界新闻摄影大赛（荷赛）奖（2010）、AAC艺术中国•年度影响力艺术家提名（2010）、腾讯网2011影响中国人物（2011）、《南方周末》中国传媒年度致敬（2012）、中国泉州[华光]国际影像双年展“当代杰出贡献摄影家”等殊荣（2019）、休斯顿摄影双年展核心展唯一受邀中国艺术家（2024）。 \nOuZhihang is a contemporary artist and winner of the World Press Photo Contest. Ougraduated from South China Normal University in 1985\, majoring in politics. He lives in Guangzhou\, China. \nOuZhihang started photography in the 1970s. He firmly believes in the significance of art as a driving force for social progress\, and is an artist who constantly breaks with tradition. Among the many series of works created by Ou\, the “Push-ups” series\, which he has been working on for more than 20 years\,is known forhis symbolic performance of special connotations. He constantly intervenes in the scenes of significant historical and public events around the world. His work is related to the history and reality of mankind\, embodying a concern for and an understanding of the reality of the society as well as a sense of compassion and understanding of humanity. It is a global art that transcends politics and ideology\, and has trans-generational\, cross-border and documentary significance. \nTo date\, OuZhihang has created about 1\,800 push-up photographs around the world\, traveling over a million kilometres.For this vast and ground-breaking series of multimedia art\, he was awarded the Outstanding Achievement Award at the Artistic Achievement Exhibition in Commemoration of 30 Years of China’s Reform and Opening Up (2008)\, Outstanding Artist of the Year at the Lianzhou International Photography Annual Exhibition (2009)\, the 53rd World Press Photo Contest Honourable Mention (2010)\, the AAC Art China – Nominee for Influential Artist of the Year (2010)\,Tencent People Who Influence China (2011)\,Southern Weekly Chinese Media Annual Tribute (2012)\, “Contemporary Photographer of Extraordinary Contribution” at Quanzhou Huaguang International Image Biennale (2019). He was the only Chinese artist invited to join the central exhibition at Houston FotoFest Biennial (2024). \n部分艺术经历 \n2007年  与艾未未、舒勇、赵半狄等联袂参加《身体媒体当代艺术展》，尖峰艺术空间，广州 \n2008年 “区式俯卧撑”成为影响广泛的社会文化事件，入选《纪念中国改革开放三十年艺术成就展》并获颁奖章，国家大剧院，北京 \n《欢迎光临-中国当代艺术家群展》，森根空间，北京 \n《对话·2008·影像中国》区志航个展，映艺术中心/映画廊，北京 \n2009年 《多伦五年·文物展》，多伦美术馆，上海 \n第一届中国北滘创意文化艺术节《景·观》区志航作品展，碧江金楼，佛山 \n第五届连州国际摄影年展《在这里，读懂中国——南方周末与区志航的俯卧撑》学术展，连州 \n2010年  获第53届国际新闻摄影大赛（荷赛）“社会热点组图”荣誉奖，在全世界30个 \n国家66个城市巡展 \n2011年 《区志航——一个变迁中的中国的自画像》区志航作品展，卢特蒂亚酒店画廊，巴黎 \n香港苏富比“健康空气”当代摄影慈善拍卖，香港会展中心，香港 \n人类的尺度·2011广州现场国际行为艺术节，广州 \n2012年  “俯卧撑”作品助推广州“水泥锥”事件讨论升级 \n2013年 《俯卧撑，在！》区志航大型作品展，优游当代艺术中心，广州；罗特尔海坦艺术中心，哥德堡 \n首届北京国际摄影双年展主题展，世纪坛，北京 \n2014年 《2009年以来的中国新摄影》，中央美术学院美术馆，北京；武汉美术馆，武汉 \n《中国当代摄影十年2005-2014》，第十届连州国际摄影年展学术特别展，连州 \n2015年  威尼斯国际行为艺术节，威尼斯 \n2016年《俯卧撑·区志航》作品展，Flash Forward 艺术节，波士顿 \n2017年 《中国摄影家》封面人物专访：《区志航：850个俯卧撑之后》 \n2018年  新华社《摄影世界》专访：《区志航：行为艺术要进入公共话语体系》 \nTEDx Guangzhou主讲《“俯卧撑”用当代艺术改变环境》，广州 \n《1000个俯卧撑——区志航作品展》，觀空间，广州 \n《中国风景摄影40年 1978—2018》，长安图书馆，东莞 \n2019年 《2019俯卧撑：血肉之躯与国际共运》主题展，台历、网络、53美术馆，广州；欧尔布西特美术博物馆，柏林 \n《俯卧撑与国际共运主题展》，首届华光国际摄影双年展，泉州 \n2020年 《指向——2020区志航创作收藏展》东泽艺术空间，广州 \n《24小时实况：未来倒计时》羊城创意产业园，广州 \n成功实施超大型（3333人）公共艺术《那一刻·和》，并成功挑战吉尼斯世界纪录，泉州 \n国际行为现场艺术节15周年纪念特展，互联网及社交媒体 \n2021年 《2021俯卧撑与红色中国》主题展，台历、网络、撑艺术馆，广州 \n《2020我这疫年》与《2021俯卧撑与红色中国》主题展，法国加龙葡萄酒艺术空间，广州。 \n《2020-2021ing 封面影像空间·开馆展》，宋庄艺术工厂，北京 \n2022年 《撑艺术馆开馆展》，撑艺术馆，广州 \n《别人的战争-罗必武、区志航作品双人展》，简藏空间，广州 \n《转向-中国当代艺术邀请展》，艺次元，北京 \n2023年 《俯卧撑，让人生有更多的可能》，南海美术学院，海口 \n2024年  2024休斯敦摄影双年展核心展《批判地理学》，休斯敦 \n  \n【活动信息】\n艺术家：区志航 \n策展人：蓝京华 \n学术主持人：张奇开 \n时间：2024年12月21日（周六）17:30-18:30 \n地点：单向街书店・东京银座店 \n东京都中央区银座1-6-1 \n形式：中文分享会・全席自由 \n—————— \n网上购票：海报二维码、官网主页 \n当日进场：门店柜台购票 \n– \n费用：免费入场 \n点击页面上方「Get Tickets」，填写必要信息完成支付。 \n※购票后不可取消、退款、转让，请提前确认好时间安排。 \n– \n单向街书店·东京银座店年费会员免费 \n点击下方「Going」，完成报名。 \n（会员将由工作人员确认身份后入场） \n—————— \n如有任何问题，请随时联系官方IG或致电0362630116。 \n◎扫码成为年费会员 33\,000日元/年(含税) \n \n【会员权益】 \n１、专属年费会员卡 \n2、赠全品饮料券12张 \n3、免费参与书店活动 \n4、简体中文书购书7折 \n  \n【相关作品】
URL:https://one-way-street.com/zh/event/asian-talk-125/
LOCATION:One Way Street Tokyo\, 東京都中央区銀座1丁目6−1\, 東京\, Japan
ATTACH;FMTTYPE=image/jpeg:https://one-way-street.com/wp-content/uploads/2024/12/イベントポスターのコピー.jpeg
END:VEVENT
END:VCALENDAR