BEGIN:VCALENDAR
VERSION:2.0
PRODID:-//One Way Street Tokyo - ECPv6.6.2//NONSGML v1.0//EN
CALSCALE:GREGORIAN
METHOD:PUBLISH
X-ORIGINAL-URL:https://one-way-street.com/zh
X-WR-CALDESC:One Way Street Tokyo的活动
REFRESH-INTERVAL;VALUE=DURATION:PT1H
X-Robots-Tag:noindex
X-PUBLISHED-TTL:PT1H
BEGIN:VTIMEZONE
TZID:Asia/Tokyo
BEGIN:STANDARD
TZOFFSETFROM:+0900
TZOFFSETTO:+0900
TZNAME:JST
DTSTART:20240101T000000
END:STANDARD
END:VTIMEZONE
BEGIN:VEVENT
DTSTART;TZID=Asia/Tokyo:20241220T190000
DTEND;TZID=Asia/Tokyo:20241220T203000
DTSTAMP:20260424T052534
CREATED:20241127T082248Z
LAST-MODIFIED:20241219T062553Z
UID:6368-1734721200-1734726600@one-way-street.com
SUMMARY:[:zh]Asian Talk 121 播客《东亚观察局》2024东京线下分享会[:]
DESCRIPTION:【活动主题】 \nAsian Talk 121 \n播客《东亚观察局》2024东京线下分享会 \n  \n【活动介绍】 \n继2023年12月第一次见面会之后，2024年末，播客《东亚观察局》的两位主播梵一如、沙青青再赴与东京听友的年度之约，畅谈这一年的个人成长与感受，和我们眼中的中日新局和世界变幻。 \n  \n【嘉宾介紹】 \n \n沙青青 \n历史学者、播客《东亚观察局》《边角聊》主播 \n著有《暴走军国》《昭和风平成雨》，另有译作多本。 \n \n梵一如 \n“番薯剥壳工作室”主理人、播客《东亚观察局》《井户端会议》主播 \n译有《平成史》（原著：保阪正康） \n  \n【活动信息】 \n嘉宾：沙青青   梵一如 \n时间：2024年12月20日（周五）19:00-20:30 \n地点：单向街书店・东京银座店 \n东京都中央区银座1-6-1 \n形式：中文分享会・全席自由 \n—————— \n网上购票：海报二维码、官网主页 \n当日进场：门店柜台购票 \n– \n费用：1500日元/年费会员免费 \n点击页面上方「Get Tickets」，填写必要信息完成支付。 \n※购票后不可取消、退款、转让，请提前确认好时间安排。 \n– \n单向街书店·东京银座店年费会员免费 \n点击下方「Going」，完成报名。 \n（会员将由工作人员确认身份后入场） \n—————— \n如有任何问题，请随时联系官方IG或致电0362630116。 \n◎扫码成为年费会员 33\,000日元/年(含税) \n \n【会员权益】 \n１、专属年费会员卡 \n2、赠全品饮料券12张 \n3、免费参与书店活动 \n4、简体中文书购书7折
URL:https://one-way-street.com/zh/event/asian-talk-121/
LOCATION:One Way Street Tokyo\, 東京都中央区銀座1丁目6−1\, 東京\, Japan
ATTACH;FMTTYPE=image/png:https://one-way-street.com/wp-content/uploads/2024/11/イベントポスターのコピー-1.png
END:VEVENT
END:VCALENDAR