BEGIN:VCALENDAR
VERSION:2.0
PRODID:-//One Way Street Tokyo - ECPv6.6.2//NONSGML v1.0//EN
CALSCALE:GREGORIAN
METHOD:PUBLISH
X-WR-CALNAME:One Way Street Tokyo
X-ORIGINAL-URL:https://one-way-street.com/zh
X-WR-CALDESC:One Way Street Tokyo的活动
REFRESH-INTERVAL;VALUE=DURATION:PT1H
X-Robots-Tag:noindex
X-PUBLISHED-TTL:PT1H
BEGIN:VTIMEZONE
TZID:Asia/Tokyo
BEGIN:STANDARD
TZOFFSETFROM:+0900
TZOFFSETTO:+0900
TZNAME:JST
DTSTART:20240101T000000
END:STANDARD
END:VTIMEZONE
BEGIN:VEVENT
DTSTART;TZID=Asia/Tokyo:20241020T143000
DTEND;TZID=Asia/Tokyo:20241020T160000
DTSTAMP:20260424T084858
CREATED:20240916T072628Z
LAST-MODIFIED:20240918T001958Z
UID:5801-1729434600-1729440000@one-way-street.com
SUMMARY:[:zh]Asian Talk102　“恶人”的善意  ——浅谈鹤见俊辅与西田几多郎的思想交汇[:ja]Asian Talk 102「悪人」の善意 --鶴見俊輔と西田幾多郎の思想の交わるところ[:]
DESCRIPTION:【活动主题】 \nAsian Talk102　“恶人”的善意 \n——浅谈鹤见俊辅与西田几多郎的思想交汇 \n【嘉宾介绍】 \n \n劉争（LIU Zheng） \n比较思想学者。关西国际大学国际学部副教授。目前主要研究领域是战后日本思想和中国现代思想。在日本和中国分别出版了由中日比较思想角度撰写的加藤周一研究专著 （《 例外的思想： 战 后知识分子加藤周一的射程》现代图书，以及《例外的个体论加藤周一及其思想》知识产权出版社。 \n \n片冈大右 \n评论家。东京大学、早稻田大学等兼职讲师。专攻社会思想史和法国文学。著有并译有《批评与生活：”第十个缪斯 “的未来》（晶文社）、《法国的知性与战后的日本–对比思想史的尝试》（合著，白水社）、《古井幸吉：文学的奇迹》（合著，河出书房新社）、《为在二十一世纪继承加藤周一—加藤周一诞辰一百周年国际学术研讨会记录》（合著，水声社），译著有大卫・格雷伯 《民主主义的非西方起源—间空间的民主主义》（以文社）；保罗・贝尼丘《作家的圣别 法国浪漫主义1》 （合译，水声社）。 \n  \n【活动信息】 \n嘉宾: 刘争（关西国际大学国际学部副教授）、片冈大右（评论家） \n使用语言：日语，中文 \n形式：现场 \n日時：2024年10月20日（日）14:30-16:00 \n場所：単向街書店・東京銀座店 \n東京都中央区銀座1-6-1 \n当日进场：门店柜台购票 \n－－－－－ \n费用：1500日元 \n点击页面上方「Get Tickets」，填写必要信息完成支付。 \n※购票后不可取消、退款、转让，请提前确认好时间安排。 \n－－－－－ \n单向街书店·东京银座店年费会员免费 \n点击下方「Going」，完成报名。 \n（会员将由工作人员确认身份后入场） \n—————— \n如有任何问题，请随时联系官方IG或致电0362630116。 \n◎扫码成为年费会员 33\,000日元/年(含税)形式：日语・中文分享会・全席自由 \n—————— \n网上购票：海报二维码、官网主页 \n \n【会员权益】 \n１、专属年费会员卡 \n2、赠全品饮料券12张 \n3、免费参与书店活动 \n4、简体中文书购书7折 \n  \n【活动介绍】 \n说起日本哲学，以西田几多郎为代表的京都学派的重要性不言而喻。不仅限于日本国内，在全世界亦是如此。人们提到日本哲学首先会想到京都学派。具有如此高度国际口碑的西田哲学确实值得被继续和重新认识。但我们也不得不承认，不知不觉中，这种框架下的认知限制了人们去发现另一种日本哲学。事实上，京都学派由于其与日本战前帝国主义体制之间的暧昧关系被战后社会疏远之后，另一批如丸山真男、加藤周一、鹤见俊辅等思想家们活跃起来。这些战后思想家们的轨迹与时代深深交织在一起，烙印着各自辛酸的人生经历，他们各具特色的同时又存在着彼此间的呼应和交集。今天我们不仅通过京都学派，而且通过战后思想的丰富思想水系，试图获得一种新的视野。 \n延续上次对加藤周一的思考，本次对谈将以战后思想的另一位核心人物鹤见俊辅为主，尤其关注他以实用主义为基础发展出自己的思想和实践道路的思考。鹤见俊辅是曾任满铁总裁和外务大臣的大政治家后藤新平的外孙，同时他也是一个有血有肉的阴暗男孩。他在家里和学校都无法建立良好的人际关系因此，在孤立无援的情况下，他做出了一系列不良行为，14岁前后就曾两次自杀未遂，三次被送进精神病院。苦于管教的父亲在他15岁时送到美国留学……他的人生如此离奇。而直到晚年，他依然坚称自己是一个“恶人”。如此“恶人”，却对战后日本的社会思潮做出了犀利而又深情的批评。 \n鹤见俊辅一生著述繁多，他虽然多次提到并称赞过京都学派，但并没有论述过其理论本身。然而，当我们通过从新的视角重新整理和重读他们的相关文本就可以发现，鹤见俊辅的思想与西田哲学也存在着内在联系。重新认识鹤见俊辅的“恶”与西田几多郎的“善”，意义何在？今天的人文主义所需要的正是包含这些问题的追求与实践，“新人文主义”探寻也显得尤为必要。 \n【相关图书】
URL:https://one-way-street.com/zh/event/asian-talk102/
LOCATION:One Way Street Tokyo\, 東京都中央区銀座1丁目6−1\, 東京\, Japan
ATTACH;FMTTYPE=image/png:https://one-way-street.com/wp-content/uploads/2024/09/AT102　イベントポスター-1.png
END:VEVENT
END:VCALENDAR