BEGIN:VCALENDAR
VERSION:2.0
PRODID:-//One Way Street Tokyo - ECPv6.6.2//NONSGML v1.0//EN
CALSCALE:GREGORIAN
METHOD:PUBLISH
X-ORIGINAL-URL:https://one-way-street.com/zh
X-WR-CALDESC:One Way Street Tokyo的活动
REFRESH-INTERVAL;VALUE=DURATION:PT1H
X-Robots-Tag:noindex
X-PUBLISHED-TTL:PT1H
BEGIN:VTIMEZONE
TZID:Asia/Tokyo
BEGIN:STANDARD
TZOFFSETFROM:+0900
TZOFFSETTO:+0900
TZNAME:JST
DTSTART:20240101T000000
END:STANDARD
END:VTIMEZONE
BEGIN:VEVENT
DTSTART;TZID=Asia/Tokyo:20240922T143000
DTEND;TZID=Asia/Tokyo:20240922T160000
DTSTAMP:20260424T103024
CREATED:20240819T052224Z
LAST-MODIFIED:20240819T053048Z
UID:5429-1727015400-1727020800@one-way-street.com
SUMMARY:[:zh]Asian Talk 088 跨文化的求职路：中日职业选择与发展[:]
DESCRIPTION:【活动主题】\nAsian Talk 088\n跨文化的求职路：中日职业选择与发展 \n  \n【嘉宾介绍】 \n\n陈功\niHunter 招聘学院创始人 20 年来专注于人才招聘\n支持 100+公司完善招聘体系 1000+候选人转换工作\n40 岁后，东京/上海“月飞”的斜杠创业者\n40 岁前，500 强 HR/高管猎头/培训师 \n  \n\n谢继香 \nzero&one 株式会社 代表取締役社長 GHH（国际康养中心） 理事长\n早稻田大学硕士 \n来日 11 年，曾任职日本“四大”担任战略咨询师。2019 年创业，帮助 500 多位来自世界各地的年轻人在日本成功就业。 \n  \n【活动信息】 \n~嘉宾~ \n陈功、谢继香 \n时间：2024 年9 月 22 日（日）14:30-16:00 \n地址：东京都中央区银座1-6-1 \n中文分享会·全席自由（40席） \n—————— \n网上购票：海报二维码、官网主页当日进场：门店柜台购票 \n– \n费用：1500 日元 \n点击页面上方「Get Tickets」，填写必要信息完成支付。 \n※购票后不可取消、退款、转让，请提前确认好时间安排。 –\n单向街书店·东京银座店年费会员免费点击下方「Going」，完成报名。\n（会员将由工作人员确认身份后入场） \n—————— \n如有任何问题，请随时联系官方 IG 或致电 0362630116。 \n◎扫码成为年费会员 33\,000 日元/年(含税) \n \n【会员权益】 \n１、专属年费会员卡\n2、赠全品饮料券 12 张 \n3、免费参与书店活动 \n4、简体中文书购书 7 折 \n  \n【活动介绍】 \n你是否了解自身的职业兴趣&优势？你是否正在中日职场中寻找机会？你是否想了解如何在求职中脱颖而出？ \n  \n本次讲座邀请了在中日人力资源行业的两位前辈，他们曾协助超 1000 人获得职业发展。一起来探讨中日两国的就业市场环境和趋势。 \n  \n帮助你探索自身的职业兴趣；了解如何在跨文化背景中寻找合适机会；分享大手企业青睐的求职者，以及如何做好准备，以便在求职中脱颖而出。 \n  \n9 月 22 日（周日）14:30-16:00 \n无论你是初入职场的新人，还是已经在中日有工作经验的职场前辈，欢迎来这场讲座，讨论交流中日跨文化的求职路！
URL:https://one-way-street.com/zh/event/asian-talk-088/
LOCATION:One Way Street Tokyo\, 東京都中央区銀座1丁目6−1\, 東京\, Japan
ATTACH;FMTTYPE=image/png:https://one-way-street.com/wp-content/uploads/2024/08/at-088.png
END:VEVENT
END:VCALENDAR