BEGIN:VCALENDAR
VERSION:2.0
PRODID:-//One Way Street Tokyo - ECPv6.6.2//NONSGML v1.0//EN
CALSCALE:GREGORIAN
METHOD:PUBLISH
X-WR-CALNAME:One Way Street Tokyo
X-ORIGINAL-URL:https://one-way-street.com/zh
X-WR-CALDESC:One Way Street Tokyo的活动
REFRESH-INTERVAL;VALUE=DURATION:PT1H
X-Robots-Tag:noindex
X-PUBLISHED-TTL:PT1H
BEGIN:VTIMEZONE
TZID:Asia/Tokyo
BEGIN:STANDARD
TZOFFSETFROM:+0900
TZOFFSETTO:+0900
TZNAME:JST
DTSTART:20240101T000000
END:STANDARD
END:VTIMEZONE
BEGIN:VEVENT
DTSTART;TZID=Asia/Tokyo:20240921T180000
DTEND;TZID=Asia/Tokyo:20240921T200000
DTSTAMP:20260424T102941
CREATED:20240916T050620Z
LAST-MODIFIED:20240916T051634Z
UID:5783-1726941600-1726948800@one-way-street.com
SUMMARY:[:zh]【LI-PI】Long Vacation 悠长假期[:ja]【LI-PI】ロングバケーション Long Vacation[:]
DESCRIPTION:【活动主题】 \nLong Vacation \n悠长假期 \n【嘉宾介绍】 \n \n马迟 \n莱蒎黑胶唱片创始人 、唱片发行人、唱机设计师 \n共轴反桨直升机传动结构工程师。2009年，在北京798艺术区创立莱蒎黑胶唱片Li-Pi Records。 \n一直致力于保护和发展黑胶及其衍生文化。创立以来的15年里，在中国、日本、韩国、希腊以及美国等地展开音乐探索。2023年在银座单向街书店开设了唱片专区，尝试跨主题与形式的黑胶与文学、绘画的艺术活动。 \n【活动信息】 \nDJ：马迟 \n时间：2024年9月21日（周六）18:00-20:00 \n地点：単向街書店・銀座店 \n地址：東京都中央区銀座1-6-1 \n参与方式：点击下方「Going」，完成报名。 \n费用：入场免费 \n形式：黑胶唱片酒会(City Pop/R&B/light mellow/C-Pop) \n—————— \n点击下方「Going」，完成报名。 \n—————— \n如有任何问题，请随时联系官方IG或致电0362630116。 \n \n◎扫码成为年费会员 33\,000日元/年(含税) \n  \n【会员权益】 \n１、专属年费会员卡 \n2、赠全品饮料券12张 \n3、免费参与书店活动 \n4、简体中文书购书7折 \n【活动介绍】 \n对于过往的碎片总是由刺眼滚烫的夏天拼成 ―― \n喧闹的是潮水拍打在五光十色礁头的螃蟹，静谧的是工作间隙撞击在杯壁的冰块。 \n大雨来来去去，炎热的气候使人们裸露的更多，也更难掩饰心中的欲望。 \n糟糕，又忘记了来这的原因，那应该是个非常重要的事。 \n需要见到你，一定是这个。 \n因为只有这个是无比重要的，然后告诉你我的名字，一切都好，别担心。 \n穿过长长的通道，能听到电梯里克制的喘息。“下一个”是一个轻快的旋律，多渴望啊， \n但是总在这一章往复着，同时每次都有新的声音加入进来， \n有的是酒，有的是刺耳的别离，不管怎样都叠加着行进。 \n在遥远的时空中把它叫做Canon卡农。 \n你就是你，可以触摸的温柔，天马行空的旋木。 \nDon’t worry\, be happy.
URL:https://one-way-street.com/zh/event/long-vacation/
LOCATION:One Way Street Tokyo\, 東京都中央区銀座1丁目6−1\, 東京\, Japan
ATTACH;FMTTYPE=image/png:https://one-way-street.com/wp-content/uploads/2024/09/ロングバーケーション　ポスター完成版.png
END:VEVENT
END:VCALENDAR