BEGIN:VCALENDAR
VERSION:2.0
PRODID:-//One Way Street Tokyo - ECPv6.6.2//NONSGML v1.0//EN
CALSCALE:GREGORIAN
METHOD:PUBLISH
X-WR-CALNAME:One Way Street Tokyo
X-ORIGINAL-URL:https://one-way-street.com/zh
X-WR-CALDESC:One Way Street Tokyo的活动
REFRESH-INTERVAL;VALUE=DURATION:PT1H
X-Robots-Tag:noindex
X-PUBLISHED-TTL:PT1H
BEGIN:VTIMEZONE
TZID:Asia/Tokyo
BEGIN:STANDARD
TZOFFSETFROM:+0900
TZOFFSETTO:+0900
TZNAME:JST
DTSTART:20240101T000000
END:STANDARD
END:VTIMEZONE
BEGIN:VEVENT
DTSTART;TZID=Asia/Tokyo:20240914T143000
DTEND;TZID=Asia/Tokyo:20240914T160000
DTSTAMP:20260424T102940
CREATED:20240826T015401Z
LAST-MODIFIED:20240826T064238Z
UID:5491-1726324200-1726329600@one-way-street.com
SUMMARY:[:zh]Asian Talk 086 徐童纪录片“算命”放映会[:]
DESCRIPTION:【活动主题】 \nAsian Talk 086 \n徐童纪录片“算命”放映会 \n  \n【活动详情】 \n \n｜徐童 \n中国内地纪录片导演、编剧，毕业于中国传媒大学电视系新闻摄影专业。 \n2008年，执导个人首部纪录片《麦收》，该片获得云之南纪录影像展幻面奖（创新奖）和观众最喜爱影片奖。2009年，执导纪录片《算命》，该片入围第5届云之南纪录影像展竞赛单元，获得第6届中国独立影像年度展CIFF年度十佳纪录片。同年《麦收》获得首尔数字电影节首奖。2011年，执导纪录片《老唐头》，该片获得第十届釜山国际电影节CAF奖。2013年，由其创作的小说处女作《珍宝岛》出版。2017年，担任纪录片《两把铁锹》的导演。2022年4月，小说《珍宝岛》改编成的电影《三个十年》在汉中开机。 \n新近完成的纪录片《他们是肉做的》叙述了一个养老院里啼笑皆非的故事，被业内人士称为「邪典纪录片」。 \n  \n \n｜蓝京华 \n艺术家、策展人。广东河源人、生活在北京、东京的自由职业艺术家策展人。 \n代表作：行为艺术《丹凤眼》、数字艺术、AI与行为影像《乌托邦系列》、行为艺术《宋庄的每个饭局都是宋庄当代艺术史》、大地诗歌行为艺术《金字塔史诗》。 \n  \n【活动信息】 \n嘉宾：徐童（导演）、蓝京华（艺术家、策展人） \n时间：2024年9月14日（土）14:30-16:00 \n地点：单向街书店・东京银座店 \n东京都中央区银座1-6-1 \n形式：中文分享会・全席自由 \n—————— \n网上购票：海报二维码、官网主页 \n当日进场：门店柜台购票 \n– \n费用：1500日元 \n点击页面上方「Get Tickets」，填写必要信息完成支付。 \n※购票后不可取消、退款、转让，请提前确认好时间安排。 \n– \n单向街书店·东京银座店年费会员免费 \n点击下方「Going」，完成报名。 \n（会员将由工作人员确认身份后入场） \n—————— \n如有任何问题，请随时联系官方IG或致电0362630116。 \n◎扫码成为年费会员 33\,000日元/年(含税) \n \n【会员权益】 \n１、专属年费会员卡 \n2、赠全品饮料券12张 \n3、免费参与书店活动 \n4、简体中文书购书7折 \n  \n【活动介绍】 \n算命是徐童导演游民三部曲中的一部，影片讲述了一个名叫历百程的算命先生和他40岁时花钱买来的残疾人妻子一起生活的故事。\n导演徐童以历百程为起点，将他生活圈子里的人连接起来，刻画了中国底层社会的边缘人物们哀而不伤的生存情景。\n本片曾多次获奖，被誉为中国纪录片的巅峰之作。 \n  \n【相关作品】 \n  \n \n《算命》 \n导演：徐童 \n  \n《算命》主要纪录了算命先生厉百程在21世纪初的生活，包括他给40多岁时遇到的妻子、聋哑人石珍珠打理生活，给妓女算命、购买算命符咒、道具等生活中的点滴小事，兼纪录厉百程周围的小人物。
URL:https://one-way-street.com/zh/event/asian-talk-086/
LOCATION:One Way Street Tokyo\, 東京都中央区銀座1丁目6−1\, 東京\, Japan
ATTACH;FMTTYPE=image/png:https://one-way-street.com/wp-content/uploads/2024/08/at-086.png
END:VEVENT
END:VCALENDAR