BEGIN:VCALENDAR
VERSION:2.0
PRODID:-//One Way Street Tokyo - ECPv6.6.2//NONSGML v1.0//EN
CALSCALE:GREGORIAN
METHOD:PUBLISH
X-WR-CALNAME:One Way Street Tokyo
X-ORIGINAL-URL:https://one-way-street.com/zh
X-WR-CALDESC:One Way Street Tokyo的活动
REFRESH-INTERVAL;VALUE=DURATION:PT1H
X-Robots-Tag:noindex
X-PUBLISHED-TTL:PT1H
BEGIN:VTIMEZONE
TZID:Asia/Tokyo
BEGIN:STANDARD
TZOFFSETFROM:+0900
TZOFFSETTO:+0900
TZNAME:JST
DTSTART:20240101T000000
END:STANDARD
END:VTIMEZONE
BEGIN:VEVENT
DTSTART;TZID=Asia/Tokyo:20240901T143000
DTEND;TZID=Asia/Tokyo:20240901T160000
DTSTAMP:20260424T102941
CREATED:20240810T101140Z
LAST-MODIFIED:20240826T031556Z
UID:5305-1725201000-1725206400@one-way-street.com
SUMMARY:[:zh]Asian Talk 076 “浩瀚与永恒”戈鲁宇宙能量作品展主题对谈[:]
DESCRIPTION:【活动主题】 \nAsian Talk 076 \n“浩瀚与永恒”戈鲁宇宙能量作品展主题对谈 \n  \n【活动详情】 \n~嘉宾~ \n戈鲁（现代抽象表现主义画家、诗人、绘本作家） \n蓝京华（艺术家、策展人） \n  \n2024年9月1日（周日）14：30～16：00 \n会场：单向街书店・银座店 \n地址：东京都中央区银座1-6-1 \n中文分享会・全席自由（40席） \n—————— \n入场免费 \n线上报名：海报二维码、官网主页 \n—————— \n【报名】 \n点击下方「Going」，完成报名。 \n（会员将由工作人员确认身份后入场） \n—————— \n如有任何问题，请随时联系官方IG或致电0362630116。 \n◎扫码成为年费会员 33\,000日元/年(含税) \n \n【会员权益】 \n１、专属年费会员卡 \n2、赠全品饮料券12张 \n3、免费参与书店活动（部分除外） \n4、简体中文书购书7折 \n  \n【活动介绍】 \n浩瀚与永恒\,是一次关于宇宙能量的探索之旅。艺术家戈鲁将自己的思考与自然、宇宙的奥秘相结合\,将星际太空、日月星辰\,大地海洋、湖河山川、人间烟火、人类文明等大千世界之所有溶于画上\,创作出了一幅幅震撼人心的当代艺术作品——“宇宙能量”系列。 \n其中\,百米巨作《天上人间·星辰大海》是“宇宙能量”系列作品的代表作\,艺术家从上帝的视角、人的视角、从地球看宇宙的视角、宇宙看宇宙的视角四个维度\,呈现了人间的生态之美和生生不息的强大生命力。 \n  \n百米巨作《天上人间·星辰大海》 \n7 x 100米长卷，曾以装置的方式在 NFT2024NYC(第七届)贾维茨国际会展中心展出 \n  \n戈鲁被誉为”世界画坛的中国自由女神”。作为早期走向国际的代表艺术家之一\,戈鲁的画面没有任何束缚和约束\,构图、空间、透视、平衡等传统的绘画技法与审美观念在她的绘画中找不到踪迹。她的作品体现了一种全新的由女性角度导出的文化观念和艺术形态\,她把自己的梦想、人生观和对宇宙的情怀\,用抽象的画面来表现\,成为中国当代抽象艺术最早的探索者。 \n9月 1 日（周日）14:30-16:00， 值“浩瀚与永恒”戈鲁宇宙能量作品展在书店举办之际，戈鲁将作为出展作家与策展人蓝京华来到单向街书店·东京银座店，亲自讲述她游历世界的经历，分享作品创作背后的故事。 \n  \n【嘉宾介绍】 \n \n｜戈鲁 \n原名陈慧颖，自由艺术家，诗人，及多部绘本作家，出版多部作品。参与策划并制作57号自媒体，出品多部艺术短片和访谈，系列艺术家专访节目《戈鲁访友记》。制作多部旅行纪录片《清迈四月》，《桂林》，《东乌旗》，《午夜巴黎》，《巴黎晃荡》，《蓬皮杜》，《威尼斯》，《吉庆街》等。 \n  \n \n｜蓝京华 \n艺术家 、策展人。广东河源人，生活在北京、东京的自由职业艺术家策展人。代表作：行为艺术《丹凤眼》，数字艺术、AI与行为影像《乌托邦系列》，行为艺术《宋庄的每个饭局都是宋庄当代艺术史》\,大地诗歌行为艺术《金字塔史诗》。 \n  \n【画展介绍】 \nAsian Talk 076 “浩瀚与永恒”戈鲁宇宙能量作品展 \n艺术家：戈鲁 / 学术主持：Klaas Ruitenbeek/策展人：蓝京华 \n主办：东京单向街书店单向街GALLERY \n地址：东京都中央区银座1-6-1 \n展期：2024.8.31-9.2 \n  \n【相关作品】 \n \n　　星球浩渺 \n　　100cm×100cm \n  \n银河落九天 \n100cm×100cm \n \n天地玄黄 \n100cm×100cm \n \n宇宙之律 \n120cm×100cm \n \n光耀 \n80cm×80cm \n \n熵 \n80cm×80cm \n \n穹苍 \n80cm×80cm \n \n宇宙之旋 \n120cm×100cm \n \n起源 \n80cm×80cm
URL:https://one-way-street.com/zh/event/asian-talk-076/
LOCATION:One Way Street Tokyo\, 東京都中央区銀座1丁目6−1\, 東京\, Japan
ATTACH;FMTTYPE=image/png:https://one-way-street.com/wp-content/uploads/2024/08/at-076.png
END:VEVENT
END:VCALENDAR