BEGIN:VCALENDAR
VERSION:2.0
PRODID:-//One Way Street Tokyo - ECPv6.6.2//NONSGML v1.0//EN
CALSCALE:GREGORIAN
METHOD:PUBLISH
X-ORIGINAL-URL:https://one-way-street.com/zh
X-WR-CALDESC:One Way Street Tokyo的活动
REFRESH-INTERVAL;VALUE=DURATION:PT1H
X-Robots-Tag:noindex
X-PUBLISHED-TTL:PT1H
BEGIN:VTIMEZONE
TZID:Asia/Tokyo
BEGIN:STANDARD
TZOFFSETFROM:+0900
TZOFFSETTO:+0900
TZNAME:JST
DTSTART:20240101T000000
END:STANDARD
END:VTIMEZONE
BEGIN:VEVENT
DTSTART;TZID=Asia/Tokyo:20240715T143000
DTEND;TZID=Asia/Tokyo:20240715T160000
DTSTAMP:20260424T131102
CREATED:20240624T101851Z
LAST-MODIFIED:20240624T102840Z
UID:4795-1721053800-1721059200@one-way-street.com
SUMMARY:[:zh]Asian Talk 069 播客“起朱楼宴宾客”东京线下听友会[:]
DESCRIPTION:【活动主题】 \nAsian Talk 069 \n播客“起朱楼宴宾客”东京线下听友会 \n  \n【活动详情】 \n嘉宾：大卫翁 \n时间：2024年7月15日（周一·祝日）14:30-16:30 \n会场：单向街书店・银座店（东京都中央区银座1-6-1） \n中文分享会・全席自由 \n—————— \n费用：1500日元 \n单向街书店・银座店年费会员免费 \n网上购票：海报二维码、官网主页 \n当日进场：门店柜台购票 \n—————— \n– \n【网上购票】 \n点击页面上方「Get Tickets」，填写必要信息完成支付。 \n※购票后不可取消、退款、转让，请提前确认好时间安排。 \n– \n【单向街书店・银座店年费会员】 \n点击下方「Going」，完成报名。 \n（会员将由工作人员确认身份后入场） \n—————— \n如有任何问题，请随时联系官方IG或致电0362630116。 \n◎扫码成为年费会员 33\,000日元/年(含税) \n  \n \n【会员权益】 \n１、专属年费会员卡 \n2、赠全品饮料券12张 \n3、免费参与书店活动（部分除外） \n4、简体中文书购书7折 \n  \n【活动介绍】 \n“起朱楼宴宾客”是一档致力于从宏观和金融视角记录大时代的中文播客（公众号同名），同时兼顾金融投资知识的科普以及资产配置理念的传播。开播两年多来，小宇宙订阅量逾14万，全网播放量超过500万，曾获得2022小宇宙播客大赏“年度新播客”、2023小宇宙播客大赏“年度趋势播客”、 喜马拉雅“2023中文商业评论排行榜TOP30”等奖项。 \n主理人大卫翁是运用大类资产配置理念进行个人投资理财的坚定拥护者和科普者，宏观经济、金融市场、商业公司大事件的观察者和叙事者。 \n2024是全球宏观形势和资本市场愈发错综复杂的一年，从全球多个国家的大选结果到发达国家股市的一枝独秀，从中资红利股被持续追捧到贵金属和大宗商品的超级周期，资产价格起起伏伏之下是否有清晰脉络可循？对于普通人而言又该如何在这样的时代做合理的资产配置？此次是“起朱楼宴宾客”首次在海外举办线下听友见面会，除了大卫翁会进行现场分享之外，还会有在节目中广受喜爱的神秘嘉宾飞来日本现场与他进行对谈，同时和现场的朋友进行深度的交流互动。敬请期待！ \n\n\n\n\n\n\n\n\n\n\n\n  \n\n\n\n\n\n\n\n\n\n\n\n【嘉宾介绍】 \n \n｜大卫翁 \n播客/公众号“起朱楼宴宾客”、“犬生活”主理人，CFA持证人，逾十五年金融从业经验，前头部中资券商董事总经理，曾在央行、国家主权基金、金融科技上市公司等机构任职。现任一家科技独角兽公司首席运营官，常驻日本。
URL:https://one-way-street.com/zh/event/asian-talk-069/
LOCATION:One Way Street Tokyo\, 東京都中央区銀座1丁目6−1\, 東京\, Japan
ATTACH;FMTTYPE=image/png:https://one-way-street.com/wp-content/uploads/2024/06/311719224884_.pic_hd.png
END:VEVENT
END:VCALENDAR