BEGIN:VCALENDAR
VERSION:2.0
PRODID:-//One Way Street Tokyo - ECPv6.6.2//NONSGML v1.0//EN
CALSCALE:GREGORIAN
METHOD:PUBLISH
X-WR-CALNAME:One Way Street Tokyo
X-ORIGINAL-URL:https://one-way-street.com/zh
X-WR-CALDESC:One Way Street Tokyo的活动
REFRESH-INTERVAL;VALUE=DURATION:PT1H
X-Robots-Tag:noindex
X-PUBLISHED-TTL:PT1H
BEGIN:VTIMEZONE
TZID:Asia/Tokyo
BEGIN:STANDARD
TZOFFSETFROM:+0900
TZOFFSETTO:+0900
TZNAME:JST
DTSTART:20240101T000000
END:STANDARD
END:VTIMEZONE
BEGIN:VEVENT
DTSTART;TZID=Asia/Tokyo:20240714T143000
DTEND;TZID=Asia/Tokyo:20240714T160000
DTSTAMP:20260424T131057
CREATED:20240619T111513Z
LAST-MODIFIED:20240626T033902Z
UID:4712-1720967400-1720972800@one-way-street.com
SUMMARY:[:zh]Asian Talk 061 Timeless Tresures feat.Yuuki Nakanishi[:ja]Asian Talk 061 Timeless Tresures feat.Yuuki Nakanishi[:]
DESCRIPTION:【活动主题】 \nAsian Talk 061 \nTimeless Tresures feat.Yuuki Nakanishi \n  \n【活动详情】 \n嘉宾：中西悠綺 \n主持：向蕾蕾 \n  \n2024年7月14日（周日）14:30-16:00 \n单向街书店・银座店 \n东京都中央区银座1-6-1 \n中文分享会 \n全席自由 \n—————— \n费用：1500日元 \n单向街书店・银座店年费会员免费 \n网上购票：海报二维码、官网主页 \n当日进场：门店柜台购票 \n—————— \n– \n【网上购票】 \n点击页面上方「Get Tickets」，填写必要信息完成支付。 \n※购票后不可取消、退款、转让，请提前确认好时间安排。 \n– \n【单向街书店・银座店年费会员】 \n点击下方「Going」，完成报名。 \n（会员将由工作人员确认身份后入场） \n—————— \n如有任何问题，请随时联系官方IG或致电0362630116。 \n◎扫码成为年费会员 33\,000日元/年(含税) \n \n【会员权益】 \n１、专属年费会员卡 \n2、赠全品饮料券12张 \n3、免费参与书店活动（部分除外） \n4、简体中文书购书7折 \n  \n【活动介绍】 \nTIMELESSTREASURES 将于 2024 年 4 月 17 日推出“名曲复兴计划”的第一弹作品，包括两首邓丽君 80 年代的经典歌曲，《任时光从身边流逝（時の流れに身をまかせ）》和《偿还（つぐない）》。 \n在本次活动中，我们邀请到嘉宾中西悠綺：她将作为来自日本的“逆输入”艺术家，用中文为我们带来歌曲演唱和一场值得期待的文化座谈会。 \n\n\n\n\n\n\n\n\n\n\n\n  \n\n\n\n\n\n\n\n\n\n\n\n【嘉宾介绍】 \n \n｜中西 悠綺 \n出生于日本三重县，在中华文化圈社交网站上拥有 60万名粉丝，中国語 HSK6级。 \n19 岁在台湾留学深造中文，立志成为在亚洲表现活跃的演员。 在香港学习武术，并在北京中央戏剧学院（章子怡等著名演员之毕业院校）学习表演。 曾出演多部电影及电视剧，并曾作为演员、歌手和主持人开展范围广泛的演艺活动。 \n■ 作为首位日本人，在中国电影《神奇旅侠》中担任主演 \n■「全国素人美少女発掘企画（ヤングジャンプギャルコン）」2021 最优秀奖 \n■ 高桥爱GOKI-GENs组合成员
URL:https://one-way-street.com/zh/event/asian-talk-061/
LOCATION:One Way Street Tokyo\, 東京都中央区銀座1丁目6−1\, 東京\, Japan
ATTACH;FMTTYPE=image/png:https://one-way-street.com/wp-content/uploads/2024/06/881719024013_.pic_hd.png
END:VEVENT
END:VCALENDAR