BEGIN:VCALENDAR
VERSION:2.0
PRODID:-//One Way Street Tokyo - ECPv6.6.2//NONSGML v1.0//EN
CALSCALE:GREGORIAN
METHOD:PUBLISH
X-ORIGINAL-URL:https://one-way-street.com/zh
X-WR-CALDESC:One Way Street Tokyo的活动
REFRESH-INTERVAL;VALUE=DURATION:PT1H
X-Robots-Tag:noindex
X-PUBLISHED-TTL:PT1H
BEGIN:VTIMEZONE
TZID:Asia/Tokyo
BEGIN:STANDARD
TZOFFSETFROM:+0900
TZOFFSETTO:+0900
TZNAME:JST
DTSTART:20240101T000000
END:STANDARD
END:VTIMEZONE
BEGIN:VEVENT
DTSTART;TZID=Asia/Tokyo:20240713T143000
DTEND;TZID=Asia/Tokyo:20240713T160000
DTSTAMP:20260424T131103
CREATED:20240630T060313Z
LAST-MODIFIED:20240701T095412Z
UID:4833-1720881000-1720886400@one-way-street.com
SUMMARY:[:zh]Asian Talk 070 宋庄的历史和艺术生态——暨陈蜀艺术个展对话[:]
DESCRIPTION:【活动主题】 \nAsian Talk 070 \n宋庄的历史和艺术生态——暨陈蜀艺术个展对话 \n  \n【活动详情】 \n嘉宾：蓝京华、徐家康、陈蜀 \n时间：2024年7月13日（周六）14:30-16:00 \n会场：单向街书店・银座店（东京都中央区银座1-6-1） \n中文分享会・全席自由 \n—————— \n【入场免费】 \n—————— \n– \n【网上购票】 \n点击页面上方「Get Tickets」，填写必要信息完成支付。 \n※购票后不可取消、退款、转让，请提前确认好时间安排。 \n– \n【单向街书店・银座店年费会员】 \n点击下方「Going」，完成报名。 \n（会员将由工作人员确认身份后入场） \n—————— \n如有任何问题，请随时联系官方IG或致电0362630116。 \n◎扫码成为年费会员 33\,000日元/年(含税) \n  \n \n【会员权益】 \n１、专属年费会员卡 \n2、赠全品饮料券12张 \n3、免费参与书店活动（部分除外） \n4、简体中文书购书7折 \n  \n【活动介绍】 \n宋庄之兴，始于艺术。 \n21世纪初，已有上千名绘画、雕塑、诗歌、音乐、影视行业的艺术家在这里创作、安家、生儿育女，今天宋庄成为了全国乃至世界最大的艺术聚集区。 \n它是一群艺术理想主义者的家园，是一个精神乌托邦，中国文化人的聚集地与精神圣地。 \n以「艺术」驱动地方发展，从「乡村乌托邦」向「文化硅谷」蜕变—— \n一路至今，宋庄已给出自己的典范答卷。 \n\n\n\n\n\n\n\n\n\n\n\n  \n\n\n\n\n\n\n\n\n\n\n\n【嘉宾介绍】 \n \n｜蓝京华 \n自由艺术家、宋庄资深策展人 \n  \n \n｜徐家康 \n净心斋主，画家，中国书法家协会会员 \n  \n \n｜陈蜀 \n自由艺术家
URL:https://one-way-street.com/zh/event/asian-talk-070/
LOCATION:One Way Street Tokyo\, 東京都中央区銀座1丁目6−1\, 東京\, Japan
ATTACH;FMTTYPE=image/png:https://one-way-street.com/wp-content/uploads/2024/06/7081719739673_.pic_hd.png
END:VEVENT
END:VCALENDAR