BEGIN:VCALENDAR
VERSION:2.0
PRODID:-//One Way Street Tokyo - ECPv6.6.2//NONSGML v1.0//EN
CALSCALE:GREGORIAN
METHOD:PUBLISH
X-WR-CALNAME:One Way Street Tokyo
X-ORIGINAL-URL:https://one-way-street.com/zh
X-WR-CALDESC:One Way Street Tokyo的活动
REFRESH-INTERVAL;VALUE=DURATION:PT1H
X-Robots-Tag:noindex
X-PUBLISHED-TTL:PT1H
BEGIN:VTIMEZONE
TZID:Asia/Tokyo
BEGIN:STANDARD
TZOFFSETFROM:+0900
TZOFFSETTO:+0900
TZNAME:JST
DTSTART:20240101T000000
END:STANDARD
END:VTIMEZONE
BEGIN:VEVENT
DTSTART;TZID=Asia/Tokyo:20240629T143000
DTEND;TZID=Asia/Tokyo:20240629T160000
DTSTAMP:20260424T143543
CREATED:20240620T000747Z
LAST-MODIFIED:20240620T020024Z
UID:4718-1719671400-1719676800@one-way-street.com
SUMMARY:[:zh]Asian Talk 060 KOL成长和直播变现逻辑——如何玩转海外IP？[:]
DESCRIPTION:【活动主题】 \nAsian Talk 060 \nKOL成长和直播变现逻辑——如何玩转海外IP？ \n  \n【活动详情】 \n嘉宾：辛迪 \n主持：向蕾蕾 \n  \n2024年6月29日（周六）14:30-16:00 \n单向街书店・银座店 \n东京都中央区银座1-6-1 \n中文分享会 \n全席自由 \n—————— \n费用：1500日元 \n单向街书店・银座店年费会员免费 \n网上购票：海报二维码、官网主页 \n当日进场：门店柜台购票 \n—————— \n– \n【网上购票】 \n点击页面上方「Get Tickets」，填写必要信息完成支付。 \n※购票后不可取消、退款、转让，请提前确认好时间安排。 \n– \n【单向街书店・银座店年费会员】 \n点击下方「Going」，完成报名。 \n（会员将由工作人员确认身份后入场） \n—————— \n如有任何问题，请随时联系官方IG或致电0362630116。 \n◎扫码成为年费会员 33\,000日元/年(含税) \n \n【会员权益】 \n１、专属年费会员卡 \n2、赠全品饮料券12张 \n3、免费参与书店活动（部分除外） \n4、简体中文书购书7折 \n  \n【活动介绍】 \n在全球化日益加剧的今天，长居海外的人们拥有了独特的视角和资源优势。如何利用这些优势，充分利用海外生活中掌握的资源，打造自己的内容型达人账号，创造更多的可能性和机会呢？在此基础之上，如何摸索一套适合自己，又能够实现价值的变现方式呢？本次，我们邀请到日本买手联盟会长，从事电商行业14年的辛迪老师。她将分享如何利用海外优势，从0开始打造内容型达人账号的思路与方法。 \n不仅如此，本次分享还包括如何有效推广海外IP，转型为直播达人的部分。为您详细解说从内容沉淀到变现的策略与技巧，挑选直播平台的细节与方法等等，以帮助各位实现直播事业的快速发展。 \n如果您对海外内容创作和直播带货感兴趣，不知道如何入门，请一定参与本次活动。敬请期待！ \n\n\n\n\n\n\n\n\n\n\n\n  \n\n\n\n\n\n\n\n\n\n\n\n【嘉宾介绍】 \n \n｜辛迪 \n日本买手联盟会长，从事电商行业14年。自2017年平台成立以来，成功举办了多次线下展会和直播大赛，从0-1孵化了十几个主播，与上百个主播有合作关系，是日中跨境电商的先驱者。
URL:https://one-way-street.com/zh/event/asian-talk-060/
LOCATION:One Way Street Tokyo\, 東京都中央区銀座1丁目6−1\, 東京\, Japan
ATTACH;FMTTYPE=image/png:https://one-way-street.com/wp-content/uploads/2024/06/6671718848695_.pic_hd.png
END:VEVENT
END:VCALENDAR