BEGIN:VCALENDAR
VERSION:2.0
PRODID:-//One Way Street Tokyo - ECPv6.6.2//NONSGML v1.0//EN
CALSCALE:GREGORIAN
METHOD:PUBLISH
X-ORIGINAL-URL:https://one-way-street.com/zh
X-WR-CALDESC:One Way Street Tokyo的活动
REFRESH-INTERVAL;VALUE=DURATION:PT1H
X-Robots-Tag:noindex
X-PUBLISHED-TTL:PT1H
BEGIN:VTIMEZONE
TZID:Asia/Tokyo
BEGIN:STANDARD
TZOFFSETFROM:+0900
TZOFFSETTO:+0900
TZNAME:JST
DTSTART:20240101T000000
END:STANDARD
END:VTIMEZONE
BEGIN:VEVENT
DTSTART;TZID=Asia/Tokyo:20240623T143000
DTEND;TZID=Asia/Tokyo:20240623T160000
DTSTAMP:20260424T143609
CREATED:20240617T080440Z
LAST-MODIFIED:20240622T093012Z
UID:4694-1719153000-1719158400@one-way-street.com
SUMMARY:[:zh]Asian Talk 059 新NISA制度概要[:ja]Asian Talk 059 新NISA制度概要[:]
DESCRIPTION:【活动主题】 \nAsian Talk 059 \n新NISA制度概要 \n  \n【活动详情】 \n嘉宾：尹名月 \n主持：向蕾蕾 \n  \n2024年6月23日（周日）14:30-16:00 \n单向街书店・银座店 \n东京都中央区银座1-6-1 \n中文分享会 \n全席自由 \n—————— \n费用：1500日元 \n单向街书店・银座店年费会员免费 \n网上购票：海报二维码、官网主页 \n当日进场：门店柜台购票 \n—————— \n如有任何问题，请随时联系官方IG或致电0362630116。 \n◎扫码成为年费会员 33\,000日元/年(含税) \n \n【会员权益】 \n１、专属年费会员卡 \n2、赠全品饮料券12张 \n3、免费参与书店活动（部分除外） \n4、简体中文书购书7折 \n  \n【活动介绍】 \n本次的Business Seminar，我们邀请到野村证券私人财富管理部的尹明月老师。她将为我们详细解说2024年新NISA的制度，优缺点，以及常见问题。如果您感到日本股票和投资信托等投资产品种类繁杂，不知道如何投资，请一定参与本次活动。敬请期待！ \n【嘉宾介绍】 \n \n｜尹名月  \n野村证券株式会社 私人财富管理部 Global Team \n生于中国大连。2018 年毕业于庆应义塾大学经济学部，后加入野村集团。在支行，总行负责高净值客户的资产管理。 \n 
URL:https://one-way-street.com/zh/event/asian-talk-059/
LOCATION:One Way Street Tokyo\, 東京都中央区銀座1丁目6−1\, 東京\, Japan
ATTACH;FMTTYPE=image/png:https://one-way-street.com/wp-content/uploads/2024/06/6月23日（日）1430-1600.png
END:VEVENT
END:VCALENDAR