BEGIN:VCALENDAR
VERSION:2.0
PRODID:-//One Way Street Tokyo - ECPv6.6.2//NONSGML v1.0//EN
CALSCALE:GREGORIAN
METHOD:PUBLISH
X-ORIGINAL-URL:https://one-way-street.com/zh
X-WR-CALDESC:One Way Street Tokyo的活动
REFRESH-INTERVAL;VALUE=DURATION:PT1H
X-Robots-Tag:noindex
X-PUBLISHED-TTL:PT1H
BEGIN:VTIMEZONE
TZID:Asia/Tokyo
BEGIN:STANDARD
TZOFFSETFROM:+0900
TZOFFSETTO:+0900
TZNAME:JST
DTSTART:20240101T000000
END:STANDARD
END:VTIMEZONE
BEGIN:VEVENT
DTSTART;TZID=Asia/Tokyo:20240424T184500
DTEND;TZID=Asia/Tokyo:20240424T203000
DTSTAMP:20260424T203553
CREATED:20240330T124000Z
LAST-MODIFIED:20240402T050933Z
UID:3953-1713984300-1713990600@one-way-street.com
SUMMARY:[:zh]她故事——女性主题读书会 第二课[:]
DESCRIPTION:【活动主题】 \n她故事——女性主题读书会 第二课 \n  \n【活动详情】 \n嘉宾：闾丘露薇 \n读书会主持：孙海玉 \n时间：2024年4月24日（周三）18:45-20:30 \n地点：单向街书店・银座店 \n东京都中央区银座1-6-1 \n形式：中文交流会 \n  \n—————— \n费用：1500日元 \n单向街书店・银座店年费会员免费 \n  \n网上购票：海报二维码、官网主页 \n当日进场：门店柜台购票 \n—————— \n  \n– \n【网上购票】 \n点击页面上方「Get Tickets」，填写必要信息完成支付。 \n※购票后不可取消、退款、转让，请提前确认好时间安排。 \n– \n【单向街书店・银座店年费会员】 \n点击下方「Going」，完成报名。 \n（会员将由工作人员确认身份后入场） \n  \n—————— \n如有任何问题，请随时联系官方IG或致电0362630116。 \n  \n◎扫码成为年费会员 33\,000日元/年(含税) \n \n【会员权益】 \n１、专属年费会员卡 \n2、赠全品饮料券12张 \n3、免费参与书店活动 \n4、简体中文书购书7折 \n  \n【活动介绍】 \n缘起：“她故事”女性主题读书会 \n“女性如何在公共与私人领域安顿自己？” \n美国学者让・爱尔斯坦在其著作《公共的男人，私人的女人》中提出的这个议题，描述了女性的困境： \n无论在公共、抑或私人领域，女性承担的多重身份与责任，常常带来“不可承受之重”。女性要摆脱这种困境，不仅要从私人向公共领域转换，更要在个人生活与公共生活中寻找到自我的真实需求，以敏锐的感知力、强大的行动力以及宽广的创造力，去实现自己的生命意义。近年，经由图书出版的推动，女性议题得到越来越多的关注。 \n我们相信通过阅读书籍，可以追溯女性身份的历史建构，梳理女性议题的多元表达，揭开女性成长的困局，共情女性生命与个体经验的记述。 \n阅读，也许无法让我们抵达终点，但至少在开拓一条接近的路途。我们相信，通过共同的阅读与分享，我们在这条路上并不孤独。 \n这就是“她故事”女性主题读书会的缘起。 \n—————— \n这并非女性单一的读书会，因为我们相信，在“生而为人”的探寻中，女性与男性的追求是一致的； \n这又是一个女性主导的读书会，我们期待通过阅读与分享，创造女性之间的连接与友谊，最终找到自己。 \n  \n \n本期主讲书籍：《一间自己的房间》 \n（[英]维吉尼亚·伍尔夫 ） \n文艺女神伍尔芙的魅力哲学是：聪明女性的独立方式，从拥有一间自己的房间开始——独立而自由的灵魂，才是幸福之源。做自己，比任何事都更重要。本书源自伍尔夫在剑桥大学的演讲，一经出版，风靡全球，感动千万读者，被誉为“激发女性精神觉醒的心灵之书”。 \n  \n目录\n导读 01\n一间自己的房间 001\n应该怎样读一本书？ 255\n画家小传 282 \n  \n【嘉宾介绍】 \n \n｜闾丘露薇 \n前媒体人，现为香港浸会大学传理学院副教授。 \n记者时代的闾丘露薇以“战地玫瑰”的身份广为人知。凭借在硝烟中多次作为战地记者勇闯前线的事迹，很多人记住了她探求真相的勇气。她不仅是积极的行动派，更是一位勤奋的写作者。记者生涯中，她执笔出版了《行走的玫瑰》、《我已出发》、《不分东西》多部专著。转型为学者后，也相继出版了数部新闻研究相关著作。 \n  \n \n｜孙海玉（读书会主持） \n编辑、译者、书店策展人
URL:https://one-way-street.com/zh/event/herstoryvol2/
LOCATION:One Way Street Tokyo\, 東京都中央区銀座1丁目6−1\, 東京\, Japan
ATTACH;FMTTYPE=image/png:https://one-way-street.com/wp-content/uploads/2024/03/1801711858520_.pic_hd.png
END:VEVENT
END:VCALENDAR