BEGIN:VCALENDAR
VERSION:2.0
PRODID:-//One Way Street Tokyo - ECPv6.6.2//NONSGML v1.0//EN
CALSCALE:GREGORIAN
METHOD:PUBLISH
X-WR-CALNAME:One Way Street Tokyo
X-ORIGINAL-URL:https://one-way-street.com/zh
X-WR-CALDESC:One Way Street Tokyo的活动
REFRESH-INTERVAL;VALUE=DURATION:PT1H
X-Robots-Tag:noindex
X-PUBLISHED-TTL:PT1H
BEGIN:VTIMEZONE
TZID:Asia/Tokyo
BEGIN:STANDARD
TZOFFSETFROM:+0900
TZOFFSETTO:+0900
TZNAME:JST
DTSTART:20240101T000000
END:STANDARD
END:VTIMEZONE
BEGIN:VEVENT
DTSTART;TZID=Asia/Tokyo:20240418T150000
DTEND;TZID=Asia/Tokyo:20240418T160000
DTSTAMP:20260424T203533
CREATED:20240413T033100Z
LAST-MODIFIED:20240413T035254Z
UID:4062-1713452400-1713456000@one-way-street.com
SUMMARY:[:zh]《闻道长安》新书发表会　[:]
DESCRIPTION:【活动主题】 \n《闻道长安》新书发表会 \n  \n【活动介绍】 \n正如评论家李星先生所言，“萧迹《闻道长安》的创作彻底颠覆了传统的阅读习惯。” \n这部小说打破了以时间为轴，围绕主要人物性格发展的情节描写方式，朝代前后腾挪，人物变幻毫无逻辑，将长安置于四维空间，在人与鬼，人与兽，人与神，人与人……的矛盾中，就关于人性的探讨贯以始终。 \n此次，银座单向街书店邀请作家萧迹到店开展新作《闻道长安》新书发表会，将与大家一起聊聊这部作品中频繁切换的碎片式小说结构与其创作上的深意。敬请期待！ \n  \n【活动详情】 \n嘉宾：萧迹 \n时间：2024年4月18日（周四）15:00-16:00 \n地点：单向街书店・银座店 \n东京都中央区银座1-6-1 \n形式：中文分享会 \n全席自由 \n—————— \n入场免费・来宾赠咖啡一杯 \n网上报名：海报二维码、官网主页 \n当日进场：门店签到 \n—————— \n点击下方「Going」，完成线上报名。 \n—————— \n如有任何问题，请随时联系官方IG或致电0362630116。 \n  \n◎扫码成为年费会员 33\,000日元/年(含税) \n \n【会员权益】 \n１、专属年费会员卡 \n2、赠全品饮料券12张 \n3、免费参与书店活动（部分除外） \n4、简体中文书购书7折 \n  \n【嘉宾介绍】 \n  \n\n｜萧迹 \n中国作家协会会员 陕西省作协签约作家 西安市百名骨干艺术家 西安市碑林区作协主席 \n已创作出版长篇小说《团委书记》、《宣传处长》、《网上杀手》、《活给别人看》、《面子》、《谁是你的情人》、《大铁路》、《平·安》、《古城》、《楼观秘籍》、《平凡人生》、《高家堡》、《闻道长安》、《云深不知处》，散文集《请珍惜在一起的日子》、《美景都在路上》等约七百余万字。 \n  \n【相关作品】 \n \n《闻道长安》 \n萧迹（著） \n东亚出版 \n2024年4月
URL:https://one-way-street.com/zh/event/wendaochangan/
LOCATION:One Way Street Tokyo\, 東京都中央区銀座1丁目6−1\, 東京\, Japan
ATTACH;FMTTYPE=image/png:https://one-way-street.com/wp-content/uploads/2024/04/901712979337_.pic_.png
END:VEVENT
BEGIN:VEVENT
DTSTART;TZID=Asia/Tokyo:20240418T160000
DTEND;TZID=Asia/Tokyo:20240418T170000
DTSTAMP:20260424T203533
CREATED:20240413T035553Z
LAST-MODIFIED:20240413T035919Z
UID:4074-1713456000-1713459600@one-way-street.com
SUMMARY:[:zh]日文版《烟台传》新书发表会[:]
DESCRIPTION:【活动主题】 \n日文版《烟台传》新书发表会 \n  \n【活动介绍】 \n烟台地处胶东半岛，三面环海，是一方神奇的土地。曾经，秦皇汉武东巡到这里，徐福从这里东渡，东方海上丝绸之路从这里启航，全真道教在这里创立，丘处机、戚继光、王懿荣、张弼士等著名人物与这里有过历史性的“相遇”。自然风光与人文历史在这里交融，既有厚重底蕴，又具浪漫色彩，是有“根”的诗意存在。 \n作家王月鹏在烟台生活与工作了近30年，对这座城市有着独特的理解。在《烟台传》中，城市发展与个人境遇的互为观照，日常生活与历史的互为观照，以及节制的书写与充盈的情感之间形成的张力，平实的叙述与诗意的表达之间形成的错落感和留白感，使得内容更加厚重，是针对这座城市独具特色的多维解读。 \n在日文版《烟台传》出版之际，银座单向街书店邀请到本作的作者王月鹏到店开展日文版《烟台传》新书发表会，与大家聊聊烟台，这个如烟似雾般露出琼楼台阁。她既是作者王月鹏地理意义上的故乡，也是他的文学创作根据地。 \n半岛、大海、仙山、奇人与神话传说，都在烟台这座小城的舞台上映。敬请期待！ \n  \n【活动详情】 \n嘉宾：王月鹏 \n时间：2024年4月18日（周四）16:00-17:00 \n地点：单向街书店・银座店 \n东京都中央区银座1-6-1 \n形式：中文分享会 \n全席自由 \n—————— \n入场免费・来宾赠咖啡一杯 \n网上报名：海报二维码、官网主页 \n当日进场：门店签到 \n—————— \n点击下方「Going」，完成线上报名。 \n—————— \n如有任何问题，请随时联系官方IG或致电0362630116。 \n◎扫码成为年费会员 33\,000日元/年(含税) \n \n【会员权益】 \n１、专属年费会员卡 \n2、赠全品饮料券12张 \n3、免费参与书店活动（部分除外） \n4、简体中文书购书7折 \n  \n【嘉宾介绍】 \n\n｜王月鹏 \n中国作家协会会员　一级作家 \n1974年出生，山东海阳人。主要作品有《海上书》《怀着怕和爱》《渔灯》《拆迁笔记》等十余部。曾获百花文学奖、泰山文艺奖、在场主义散文奖、年度华文最佳散文奖。现居烟台。 \n  \n【相关作品】 \n \n日文版《烟台传》 \n王月鹏（著）小山长州(译) \n东亚出版 \n2024年4月
URL:https://one-way-street.com/zh/event/yantaizhuan/
LOCATION:One Way Street Tokyo\, 東京都中央区銀座1丁目6−1\, 東京\, Japan
ATTACH;FMTTYPE=image/png:https://one-way-street.com/wp-content/uploads/2024/04/981712980696_.pic_.png
END:VEVENT
END:VCALENDAR