BEGIN:VCALENDAR
VERSION:2.0
PRODID:-//One Way Street Tokyo - ECPv6.6.2//NONSGML v1.0//EN
CALSCALE:GREGORIAN
METHOD:PUBLISH
X-ORIGINAL-URL:https://one-way-street.com/zh
X-WR-CALDESC:One Way Street Tokyo的活动
REFRESH-INTERVAL;VALUE=DURATION:PT1H
X-Robots-Tag:noindex
X-PUBLISHED-TTL:PT1H
BEGIN:VTIMEZONE
TZID:Asia/Tokyo
BEGIN:STANDARD
TZOFFSETFROM:+0900
TZOFFSETTO:+0900
TZNAME:JST
DTSTART:20240101T000000
END:STANDARD
END:VTIMEZONE
BEGIN:VEVENT
DTSTART;TZID=Asia/Tokyo:20240413T143000
DTEND;TZID=Asia/Tokyo:20240413T160000
DTSTAMP:20260424T203552
CREATED:20240328T094004Z
LAST-MODIFIED:20240330T040133Z
UID:3929-1713018600-1713024000@one-way-street.com
SUMMARY:[:zh]岩茶之旅：从采摘到我们面前的一泡茶[:]
DESCRIPTION:【活动主题】 \n岩茶之旅：从采摘到我们面前的一泡茶 \n  \n【活动详情】 \n主讲嘉宾：Rena、唐开恩 \n古琴表演嘉宾：李维 \n时间：2024年4月13日（周六）14:30-16:00 \n地点：单向街书店・银座店 \n东京都中央区银座1-6-1 \n形式：茶席交流会、古琴演奏・全席自由 \n  \n—————— \n费用：5000日元 \n单向街书店・银座店年费会员半价=2500日元 \n  \n网上购票：海报二维码、官网主页 \n当日进场：门店柜台购票 \n—————— \n  \n– \n【网上购票】 \n点击页面上方「Get Tickets」，填写必要信息完成支付。 \n※购票后不可取消、退款、转让，请提前确认好时间安排。 \n– \n【单向街书店・银座店年费会员】 \n点击下方「Going」，完成报名。 \n（会员将由工作人员确认身份后入场） \n  \n—————— \n如有任何问题，请随时联系官方IG或致电0362630116。 \n  \n◎扫码成为年费会员 33\,000日元/年(含税) \n \n【会员权益】 \n１、专属年费会员卡 \n2、赠全品饮料券12张 \n3、免费参与书店活动 \n4、简体中文书购书7折 \n  \n【活动介绍】 \n一场从茶叶采摘到泡制成一杯温馨茶水的旅程即将开启。由资深岩茶专家亲自带领，让我们一同揭秘岩茶的生长、采摘、制作全过程。在这次探索中，不仅可以深入了解岩茶悠久的历史、独特的制茶工艺以及那令人难忘的独特风味是如何炼成的，还能在专家的指导下亲手实践，体验制茶的乐趣。无论你是茶的初学者还是深度爱好者，这都是一次深入岩茶世界、全新理解茶文化的绝佳机会。此外，现场您还将享受到非遗琴人带来的古琴演奏，让这次的茶旅不仅是味觉的享受，也是听觉的盛宴。诚邀您加入我们，一起开启这段茶的旅行，探索茶的奥秘。 \n  \n【嘉宾介绍】 \n \n｜Rena \n自幼生长在秀丽的武夷山中，15岁起便开始深入学习中国茶艺，至今已获得高级茶艺师资格。她不仅在中国茶艺领域有着深厚的造诣，同时对日本传统文化也有深入的研究，获得小笠原流煎茶道初级传授资格和草月流花道二级证书。除此之外，她还精通中国的传统乐器古筝和古琴，是一位才华横溢的文化传承者。Rena不仅致力于传播中国的茶文化，还将日本的传统艺术融入其中，以其丰富的文化底蕴不断展现独特的魅力。 \n  \n \n｜唐开恩 \n著名制茶师。武夷山古传唐焙茶业有限公司创始人。师从国家级非物质文化遗产传承人王顺明，二十余年来一直致力于传统制茶技艺的守护与传承。他在长期的研究和探索中积累了丰富的焙茶经验与知识，因其的技艺被誉为“鬼火神工”，专注于古法炭焙，追求非凡的茶味。 \n  \n｜李维 \n出生于中国四川省，从小学习古琴，至今已有20多年的演奏经验。他曾在中学加入广陵派，大学之后深入研究蜀派技艺，成为国家级非物质文化遗产传承人曾成伟和邓丽珠的学生。李维将广陵派的技巧与蜀派的表现力结合，形成了自己独特的演奏风格。2017年来到日本后，他以关西为中心推广古琴文化，并于2019年在关东创立雲岩琴社，通过演奏会、讲座和教学等多种方式，活跃于文化交流活动。
URL:https://one-way-street.com/zh/event/yanchazhilv/
LOCATION:One Way Street Tokyo\, 東京都中央区銀座1丁目6−1\, 東京\, Japan
ATTACH;FMTTYPE=image/png:https://one-way-street.com/wp-content/uploads/2024/03/1591711765292_.pic_hd.png
END:VEVENT
END:VCALENDAR