BEGIN:VCALENDAR
VERSION:2.0
PRODID:-//One Way Street Tokyo - ECPv6.6.2//NONSGML v1.0//EN
CALSCALE:GREGORIAN
METHOD:PUBLISH
X-ORIGINAL-URL:https://one-way-street.com/zh
X-WR-CALDESC:One Way Street Tokyo的活动
REFRESH-INTERVAL;VALUE=DURATION:PT1H
X-Robots-Tag:noindex
X-PUBLISHED-TTL:PT1H
BEGIN:VTIMEZONE
TZID:Asia/Tokyo
BEGIN:STANDARD
TZOFFSETFROM:+0900
TZOFFSETTO:+0900
TZNAME:JST
DTSTART:20240101T000000
END:STANDARD
END:VTIMEZONE
BEGIN:VEVENT
DTSTART;TZID=Asia/Tokyo:20240317T143000
DTEND;TZID=Asia/Tokyo:20240317T160000
DTSTAMP:20260424T203552
CREATED:20240225T102236Z
LAST-MODIFIED:20240312T150524Z
UID:3560-1710685800-1710691200@one-way-street.com
SUMMARY:[:zh]#Asian Talk 044 我是我的坐标 ——加藤周一的世界与世界观[:ja]#Asian Talk 044 わたしはわたしの座標軸だーー加藤周一の世界と世界観[:]
DESCRIPTION:嘉宾：刘争  片冈大右 王前 \n时间：2024年3月17日（周日）14:30-16:00 \n地点：单向街书店·东京银座店 \n地址：东京都中央区银座1-6-1 \n费用：1500日元 · 会员免费 \n参与方式：扫码购票&门店线下购票 \n报名后不可取消、退款，请提前确认好时间安排。 \n  \n  \n【活动介绍】 \n医学、文学、艺术、思想、音乐……看似迥然相异的领域，都是思想者加藤周一的思考素材，也是他乐于不断跨越的界限。 \n在战争笼罩的东京度过了青少年时代的他本该成为一名医生，母亲的去世和法国留学彻底改变了他的人生。加藤周一决定弃医从文，并在日本成名后再次奔赴欧洲和美国执教了多年。他和丸山真男一样关心日本的传统和未来，与此同时，他比大多数日本知识人更关心中国的过去和现在，并曾多次到中国各地访问。晚年的他和大江健三郎、鹤见俊辅等人一起发起了“九条会”，反对战争呼吁和平，积极奔走。 \n经过了地理上的游历和思想上的沉淀，加藤周一成为了一名与众不同的旁观者，同时也成为了一名“例外”的参与者。 \n作为这样一个独特的人，加藤周一所提倡的“杂交种文化”是什么样的文化？ \n他所指出的“本土世界观”又是什么样的世界观？ \n在当今如此多元化和国际化的世界上、在民族文化的传统和现代社会的价值观复杂交织的文化地图上，一个人该如何确立自己的坐标呢？ \n  \n【作者介紹】 \n \n劉争 \n（りゅうじゅん） \n比较思想学者。关西国际大学讲师。目前主要研究领域是战后日本思想和中国现代思想。在日本和中国分别出版了由中日比较思想角度撰写的加藤周一研究专著 （《 例外的思想： 战 后知识分子加藤周一的射程》现代图书，以及《例外的个体论加藤周一及其思想》知识产权出版社。 \n  \n  \n  \n \n片岡大右 \n (Daisuke KATAOKA) \n评论家。东京大学、早稻田大学等兼职讲师 。专攻社会思想史和法国文学。著有并译有《批评与生活 第十个缪斯的未来》（晶文社）、《共和国或宗教或 还是 十九世纪法国的光与影》（合著，白水社）、《古井幸吉：文学的奇迹》（合著，河出书房新社）、《为在二十一世纪继承加藤周一 加藤周一诞辰一百周年国际学术研讨会记录》（合著，水声社），译著有大卫・格雷伯 《民主主义的非西方起源 间空间的民主主义》（以文社）；保罗・贝尼丘《作家的圣别 法国浪漫主义1 》 （合译，水声社）。 \n  \n  \n  \n  \n \n王前 \n（おうぜん） \n人文学者，主要研究领域为政治哲学与思想史。著有《中国が読んだ現代思想》(讲谈社2011年)，合著有《近代日本政治思想史》(ナカニシヤ出版2014年)、《現代中国と市民社会―普遍的《近代》の可能性》(勉成出版2017年)、《世界哲学史》(第八卷)(筑摩书房2020年)等。代表論文《「尊敬すべき敵」と味方――20世紀思想史におけるバーリン、シュミットと丸山眞男》(『思想』2021年6月号、「アイザイァ・バーリン特集」、岩波書店)。译著有《普遍的価値を求める:中国現代思想の新潮流》(許紀霖著\,中島隆博 王前監訳、叢書ウニベルシタス、法政大学出版局2020年)等。此外，学术随笔和论文散见于『南方周末』『上海书评』『新京报读书周刊』『知识分子论丛』『思想』(台湾联经出版)等媒体。 \n  \n  \n【相关图书】 \n \n刘争著《例外的个体—论加藤周一及其思想》知识产权出版社，2023。 \n本书意图阐述日本战后评论家加藤周一的思想射程。加藤周一自法国留学回到日本后不久即发表了《杂种文化——日本的小希望》一文，这篇著名的小文在五十年代的日本社会引起轰动，其内容既批评了日本文化至上的国粹主义者，又否定了那些西欧文化崇拜者。其后，加藤周一在杂种文化论的基础上继续深挖日本文化土壤，将日本、中国、印度、西方的宗教文化世界观一字排开，以独特的角度分析日本文化对中国儒学、佛教以及西方基督教的接收与改造过程，呕心沥血十几年写成了一部畅销世界多个国家，被翻译成八种文字出版的著作《日本文学史序说》。作者着眼于加藤通过这部著作描绘的日本思想文化史中的“例外”的个体，以及这些个体在历史时空中的呼应组成的“孤立的系列“，发现加藤周一独特的思想架构，即 “例外”的存在本身不仅具有特殊性且具有普遍性，不仅具有个别性且具有整体性这一事实。“本土世界观”与 “例外的个体”之间具有相对紧张的双关关系和相关关系。
URL:https://one-way-street.com/zh/event/katosyuuichi/
LOCATION:One Way Street Tokyo\, 東京都中央区銀座1丁目6−1\, 東京\, Japan
ATTACH;FMTTYPE=image/png:https://one-way-street.com/wp-content/uploads/2024/02/791709633519_.pic_hd.png
END:VEVENT
END:VCALENDAR