BEGIN:VCALENDAR
VERSION:2.0
PRODID:-//One Way Street Tokyo - ECPv6.6.2//NONSGML v1.0//EN
CALSCALE:GREGORIAN
METHOD:PUBLISH
X-WR-CALNAME:One Way Street Tokyo
X-ORIGINAL-URL:https://one-way-street.com/zh
X-WR-CALDESC:One Way Street Tokyo的活动
REFRESH-INTERVAL;VALUE=DURATION:PT1H
X-Robots-Tag:noindex
X-PUBLISHED-TTL:PT1H
BEGIN:VTIMEZONE
TZID:Asia/Tokyo
BEGIN:STANDARD
TZOFFSETFROM:+0900
TZOFFSETTO:+0900
TZNAME:JST
DTSTART:20240101T000000
END:STANDARD
END:VTIMEZONE
BEGIN:VEVENT
DTSTART;TZID=Asia/Tokyo:20240313T184500
DTEND;TZID=Asia/Tokyo:20240313T203000
DTSTAMP:20260424T203600
CREATED:20240309T034453Z
LAST-MODIFIED:20240309T075930Z
UID:3695-1710355500-1710361800@one-way-street.com
SUMMARY:[:zh]“她故事”女性主义读书会第一课 :《从零开始的女性主义》分享问题[:]
DESCRIPTION:缘起 \n“女性如何在公共与私人领域安顿自己？”  \n美国学者让 爱尔斯坦在其著作《公共的男人，私人的女人》中提出的这个议题，描述了女性的困境：无论在公共、抑或私人领域，女性承担的多重身份与责任，常常带来 “不可承受之重”。女性要摆脱这种困境，不仅要从私人向公共领域转换，更要在个人生活与公共生活中寻找到自我的真实需求，以敏锐的感知力、强大的行动力以及宽广的创造力，去实现自己的生命意义。 \n  \n近些年来，经由图书出版的推动，女性议题得到越来越多的关注。我们相信通过阅读书籍，可以追溯女性身份的历史建构，梳理女性议题的多元表达，揭开女性成长的困局，共情女性生命与个体经验的记述。阅读，也许无法让我们抵达终点，但至少在开拓一条接近的路途。。 \n我们相信，通过共同的阅读与分享，我们在这条路上并不孤独。这就是“她故事”女 性主题读书会的缘起。  \n这并非女性单一的读书会，因为我们相信，在“生而为人”的探寻中，女性与男性的追求是一致的；这又是一个女性主导的读书会，我们期待通过阅读与分享，创造女性之间的连接与友谊，最终找到自己。 \n  \n读书会第一课《从零开始的女性主义》 \n在参加读书会之前，请务必阅读《从零开始的女性主义》中文版。从单向街书店购买。可享受八折优惠 \n  \n【活动信息】\n主持人：孙海玉 \n时间：2023年3月13日（周三）18:45-20:30 \n地点：单向街书店·东京银座店 \n地址：东京都中央区银座1-6-1 \n形式：中文读书会 \n费用：1500 日元 \n           〔单向街书店·东京银座店年费会员免费〕 \n成为年费会员，点击页尾「Going」免费登记 \n※购票后不可取消、退款、转让，请提前确认好时间安排，如有任何问题，请随时联系官方IG或致电0362630116。 \n\n ◎扫码成为年费会员 33\,000日元/年(含税)\n \n【会员权益】\n１、专属年费会员卡 \n2、赠全品饮料券12张 \n3、免费参与书店活动 \n4、简体中文书购书7折
URL:https://one-way-street.com/zh/event/%e4%b8%ad%e6%96%87-%e5%a5%b9%e6%95%85%e4%ba%8b%e5%a5%b3%e6%80%a7%e4%b8%bb%e4%b9%89%e8%af%bb%e4%b9%a6%e4%bc%9a%e7%ac%ac%e4%b8%80%e8%af%be-%e3%80%8a%e4%bb%8e%e9%9b%b6%e5%bc%80/
LOCATION:One Way Street Tokyo\, 東京都中央区銀座1丁目6−1\, 東京\, Japan
ATTACH;FMTTYPE=image/jpeg:https://one-way-street.com/wp-content/uploads/2024/03/WechatIMG476.jpg
END:VEVENT
END:VCALENDAR