BEGIN:VCALENDAR
VERSION:2.0
PRODID:-//One Way Street Tokyo - ECPv6.6.2//NONSGML v1.0//EN
CALSCALE:GREGORIAN
METHOD:PUBLISH
X-ORIGINAL-URL:https://one-way-street.com/zh
X-WR-CALDESC:One Way Street Tokyo的活动
REFRESH-INTERVAL;VALUE=DURATION:PT1H
X-Robots-Tag:noindex
X-PUBLISHED-TTL:PT1H
BEGIN:VTIMEZONE
TZID:Asia/Tokyo
BEGIN:STANDARD
TZOFFSETFROM:+0900
TZOFFSETTO:+0900
TZNAME:JST
DTSTART:20240101T000000
END:STANDARD
END:VTIMEZONE
BEGIN:VEVENT
DTSTART;TZID=Asia/Tokyo:20240310T143000
DTEND;TZID=Asia/Tokyo:20240310T160000
DTSTAMP:20260424T203701
CREATED:20240219T083909Z
LAST-MODIFIED:20240308T053140Z
UID:3499-1710081000-1710086400@one-way-street.com
SUMMARY:[:zh]野村证券：日本经济的重大转折点[:ja]野村證券：大きな転換点を迎える日本経済[:]
DESCRIPTION:【活动介绍】\n日本经济迎来从通货膨胀到良性循环的转折点。 \n在此过程中，通过企业改革，日经平均股价力争创下历史新高。 \n增加的入境需求和企业吸引带来的正面影响也不容忽视。 \n3月10日，野村证券联手单向街书店向您介绍日本经济当前处于什么样的环境，以及未来可能蕴藏哪些可能性。 \n\n【嘉宾介绍】\n \n东英宪 \n野村证券株式会社投资情报部部长 \n生于鹿儿岛。1990年加入野村集团。\n他曾担任调布支店，盛冈支店，奈良支店和岐阜支店的支店长，后在本社Solution＆Support部担任部长 \n为客户提供企业继承及M&A的解决方案和支持。 \n同时也在日本全国范围内举办金融和经济环境讲座。 \n(公社) CFP日本证券分析师协会认证分析师 \n【活动信息】\n嘉宾：东英宪 \n时间：2023年3月10日（周日）14:30-16:00 \n地点：单向街书店·东京银座店 \n地址：东京都中央区银座1-6-1 \n形式：日文分享会 \n自由席：50席（坐席不设预定，先到先得） \n费用：3000 日元 \n           〔单向街书店·东京银座店年费会员免费〕 \n参与方式：\n①点击页首「Get Tickets」付款报名 \n② 门店线下购票 \n③成为年费会员，点击页尾「Going」免费登记 \n※购票后不可取消、退款、转让，请提前确认好时间安排，如有任何问题，请随时联系官方IG或致电0362630116。 \n\n ◎扫码成为年费会员 33\,000日元/年(含税)\n \n【会员权益】\n１、专属年费会员卡 \n2、赠全品饮料券12张 \n3、免费参与书店活动 \n4、简体中文书购书7折
URL:https://one-way-street.com/zh/event/reaching-a-major-turning-point/
LOCATION:One Way Street Tokyo\, 東京都中央区銀座1丁目6−1\, 東京\, Japan
ATTACH;FMTTYPE=image/png:https://one-way-street.com/wp-content/uploads/2024/02/WechatIMG34.png
END:VEVENT
END:VCALENDAR