BEGIN:VCALENDAR
VERSION:2.0
PRODID:-//One Way Street Tokyo - ECPv6.6.2//NONSGML v1.0//EN
CALSCALE:GREGORIAN
METHOD:PUBLISH
X-ORIGINAL-URL:https://one-way-street.com/zh
X-WR-CALDESC:One Way Street Tokyo的活动
REFRESH-INTERVAL;VALUE=DURATION:PT1H
X-Robots-Tag:noindex
X-PUBLISHED-TTL:PT1H
BEGIN:VTIMEZONE
TZID:Asia/Tokyo
BEGIN:STANDARD
TZOFFSETFROM:+0900
TZOFFSETTO:+0900
TZNAME:JST
DTSTART:20240101T000000
END:STANDARD
END:VTIMEZONE
BEGIN:VEVENT
DTSTART;TZID=Asia/Tokyo:20240303T143000
DTEND;TZID=Asia/Tokyo:20240303T160000
DTSTAMP:20260424T202128
CREATED:20240217T034317Z
LAST-MODIFIED:20240224T035658Z
UID:3477-1709476200-1709481600@one-way-street.com
SUMMARY:[:zh]亲密关系管理智慧分享会：什么样的伴侣值得结婚？如何从女性主义视角构建深度亲密？[:]
DESCRIPTION:活动介绍 \n  \n陈历杰老师讲带领自己的新书《亲密关系管理》，并结合自己的亲密关系故事和丰富实践经验，和大家分享如何找到合适伴侣和经营好深度亲密关系的智慧。尤其是对于女性主义视角如何构建平等高质量的亲密关系会给出独到的经验分享，并有性价比超高的现场答疑活动。 \n  \n嘉宾介绍 \n \n陈历杰 \n     陈历杰老师曾到海外名校进行深造，教育背景与知识结构丰富，涉及管理学、心理学、法学和教育学，擅长将自身多元化知识融合，并结合丰富的冲突实战经验，进行亲密关系和心理能量的有效管理。 \n  \n在任北京法官期间，他参与审理与调解过上千件婚姻家庭纠纷。成为亲密关系咨询师后，他的学员几乎遍布全国，为众多伴侣与家庭因他解开心结，让爱重归流动。 \n \n  \n相关图书： \n \n相关图书： \n帮大家明确亲密关系的目标，认清自我的真正需要，找到真正适合自己的伴侣。并规避亲密关系经营的主要风险，管理好冲突，学习越“吵”越亲密的沟通智慧，尤其是学会情绪管理的技巧，真正做一个懂爱，会爱和被爱的人。 \n中国式亲密关系的主要问题是，中国男性的成长速度远远跟不上中国女性的觉醒速度。看看法院的离婚诉讼7成以上由女方提出，就可以知道中国男性确实需要在亲密关系中茁壮成长了。 \n作为一名男性咨询师，陈历杰老师能够更好的启发与引导那些抱着“大男子主义”心态的直男老公们，让他们真正意识到看见与懂得老婆的情绪是一件“一本万利”的事情，更能从管理学、心理学和法学的理性视角，为他们剖析某些潜藏在情感问题中的经营风险，帮他们梳理清楚应对婚姻冲突和危机的方法与思路。 \n陈历杰老师还通过丰富的咨询和调解实践，总结了一整套亲密关系风险管理、风险管理、冲突管理和情绪管理的方法，并通过情景演练与步骤分解，让这些方法落实到具体的生活细节中，让很多情侣和夫妻得到了真正的帮助。尤其是对很多经历爱情幻灭与伤害的伴侣，帮助他们在面对伤害时重建信任与亲密，让脱轨的爱情列车重回正轨。虽然这个过程很艰难，但是好的经营会让我们的亲密关系之路更加顺畅，同时也能防患于未然，所以，学会亲密关系的管理，用心经营，才能让爱情列车始终行驶在正确的方向上。而我上面提到的所有知识、经验和方法，在《亲密关系管理》里有更完整的呈现，有30个简单实用的方法，为中国式婚恋关系量身定造的深度亲密关系养成手册，是一本亲密关系管理上的“工具书”。 \n本书将和大家分享很多真实的情感咨询案例，让大家在他人的故事中看到自己，就像参与一场超值、深入的情感疗愈体验。 \n  \n日期：2024年3 月3日（周日） \n地点：单向街书店·东京银座店 \n地址：东京都中央区银座1-6-1 \n形式：中文分享会 \n费用：1500日元（会员免费） \n自由席：30（座位不设预定，先到先得） \n参与方式：码下拉至页面底部，购票报名
URL:https://one-way-street.com/zh/event/relationship-management/
LOCATION:One Way Street Tokyo\, 東京都中央区銀座1丁目6−1\, 東京\, Japan
ATTACH;FMTTYPE=image/jpeg:https://one-way-street.com/wp-content/uploads/2024/02/WechatIMG108.jpg
END:VEVENT
END:VCALENDAR