BEGIN:VCALENDAR
VERSION:2.0
PRODID:-//One Way Street Tokyo - ECPv6.6.2//NONSGML v1.0//EN
CALSCALE:GREGORIAN
METHOD:PUBLISH
X-ORIGINAL-URL:https://one-way-street.com/zh
X-WR-CALDESC:One Way Street Tokyo的活动
REFRESH-INTERVAL;VALUE=DURATION:PT1H
X-Robots-Tag:noindex
X-PUBLISHED-TTL:PT1H
BEGIN:VTIMEZONE
TZID:Asia/Tokyo
BEGIN:STANDARD
TZOFFSETFROM:+0900
TZOFFSETTO:+0900
TZNAME:JST
DTSTART:20240101T000000
END:STANDARD
END:VTIMEZONE
BEGIN:VEVENT
DTSTART;TZID=Asia/Tokyo:20240212T143000
DTEND;TZID=Asia/Tokyo:20240212T160000
DTSTAMP:20260424T202130
CREATED:20240201T125001Z
LAST-MODIFIED:20240201T130225Z
UID:3259-1707748200-1707753600@one-way-street.com
SUMMARY:[:ja]Series１【自由な想像と表現を抱きしめる 】私たちの絵本 ―親子で作る唯一無二の一冊―[:]
DESCRIPTION:对不起，此内容只适用于日文。
URL:https://one-way-street.com/zh/event/a20240212/
LOCATION:One Way Street Tokyo\, 東京都中央区銀座1丁目6−1\, 東京\, Japan
ATTACH;FMTTYPE=image/png:https://one-way-street.com/wp-content/uploads/2024/02/绘本.png
END:VEVENT
END:VCALENDAR