BEGIN:VCALENDAR
VERSION:2.0
PRODID:-//One Way Street Tokyo - ECPv6.6.2//NONSGML v1.0//EN
CALSCALE:GREGORIAN
METHOD:PUBLISH
X-WR-CALNAME:One Way Street Tokyo
X-ORIGINAL-URL:https://one-way-street.com/zh
X-WR-CALDESC:One Way Street Tokyo的活动
REFRESH-INTERVAL;VALUE=DURATION:PT1H
X-Robots-Tag:noindex
X-PUBLISHED-TTL:PT1H
BEGIN:VTIMEZONE
TZID:Asia/Tokyo
BEGIN:STANDARD
TZOFFSETFROM:+0900
TZOFFSETTO:+0900
TZNAME:JST
DTSTART:20240101T000000
END:STANDARD
END:VTIMEZONE
BEGIN:VEVENT
DTSTART;TZID=Asia/Tokyo:20240203T143000
DTEND;TZID=Asia/Tokyo:20240203T160000
DTSTAMP:20260424T203529
CREATED:20240128T025241Z
LAST-MODIFIED:20240201T072401Z
UID:3084-1706970600-1706976000@one-way-street.com
SUMMARY:[:zh]#AsianTalk037 你一定要读林达夫[:ja]#AsianTalk037 蘇る林達夫―20世紀日本を代表する思想家の政治的「したたかさ」に学ぶ―[:]
DESCRIPTION:【活动介绍】 \n林达夫(1896-1984)这个名字，即便是对AsianTalk很有兴趣的读书人大概也都没有听说过吧。而事实上林达夫在加藤周一(1919-2008)之前担任过日本最著名的大百科全书、平凡社版《世界大百科事典》的总编，在二十世界日本人文学界，他是被视为跟丸山真男(1914-1996)等人齐名的最杰出的思想家之一。 \n  \n这位西学大师除了精通法语、德语、英语外，还通包括西方古典语言在内的好多门其它外语。林达夫除了学问好，还有一点也非常令人佩服。那就是他具备无比顽强的“韧性”，这让他能在1930-40年代日本天皇制法西斯时期沉潜下去，“毫发无伤”地度过那个艰难时代。跟同时代的小林秀雄(1902-1983)等文学家和哲学家不同，他在跟日本军部保持一种微妙关系的同时，从未积极拥护对外侵略战争，而是写了很多批判文章。一直到无法再发声的最后关头他才放下了笔，而那个时机的选择堪称绝妙。诸如此类的行动，林达夫为我们提供了在非常态下如何处世的一种典范。 \n  \n在渡边一民写的《林达夫及其时代》中译本即将出版之际，我们请来了负责中译本校译的人文学者王前和集英社《亚洲人物史》总编、《林达夫的编辑精神》一书的作者落合胜人，听他们介绍林达夫这位似乎被忘却了的重要思想家，畅谈当下阅读这位“现代日本错得最少的知识人”(鹤见俊辅语)的可能性和意义。 \n  \n \n【活动信息】 \n嘉宾：落合胜人、付怡琳 \n时间：2024年2月3日（周六）14:30-16:00 \n地点：东京单向街书店・东京银座店 \n地址：东京都中央区银座1-6-1 \n形式：日语对谈 \n自由席：40席 \n费用：1500日元 \n东京单向街书店・东京银座店年费会员免费 \n  \n【嘉宾介绍】 \n \n落合胜人 \n1969年生，集英社新书总编。1993年进入集英社，编辑过文艺书、小说すばる等，2001年开始在新书编辑部工作。经他之手出版过姜尚中的《烦恼力》等许多好书。在工作之余学习思想史，于2019年修完法政大学研究生院政治学研究科博士课程，获得政治学博士学位。在博士论文的基础上，出版了第一本独著《林达夫的编辑精神》(岩波书店)。 \n  \n \n伏怡琳 \n复旦大学日语语言文学系毕业，早稻田大学国文学研究科硕士 \n日本文学译者，译有《国宝》（吉田修一著）《第七官界彷徨 : 尾崎翠中短篇小说集》《闯入者》（安部公房著）《摇滚妈妈》（角田光代著）《他们自在别处》（小川洋子著）《阪急电车》（有川浩著）等。 \n  \n【相关书籍】 \n \n《林达夫的编辑精神》 \n出版年月  2021年8月 \n面对关东大地震和战争带来的巨大破坏，终生对人的脆弱抱有深刻同情心的思想家采取了一个很独特的行动。本书聚焦于《历史的黄昏》和《共产主义者》的作者林达夫作为编辑的一面，是部重新叙述其生涯的力作。对林达夫而言，重新“编辑”书籍的周围，跟建设小小的社会是同义词。
URL:https://one-way-street.com/zh/event/asiantalk037/
LOCATION:One Way Street Tokyo\, 東京都中央区銀座1丁目6−1\, 東京\, Japan
ATTACH;FMTTYPE=image/png:https://one-way-street.com/wp-content/uploads/2024/01/林达夫.png
END:VEVENT
BEGIN:VEVENT
DTSTART;TZID=Asia/Tokyo:20240203T170000
DTEND;TZID=Asia/Tokyo:20240203T192000
DTSTAMP:20260424T203529
CREATED:20240125T071325Z
LAST-MODIFIED:20240126T041300Z
UID:3017-1706979600-1706988000@one-way-street.com
SUMMARY:[:zh]Nostalgia【思乡】 华语电影展映——八月[:]
DESCRIPTION:【活动信息】 \n一年一度的中国春节马上要到了，对于居住在日本的中国人来说，可能也是一年一度的乡愁格外浓郁的时段。单向街与FIRST主动放映单元合作，准备了近年来备受影界关注的三部华语影片联映，希望能带来属于故乡的复杂与平静。 \n  \n\n八月\n\n    \n【张大磊导演的长片处女作，第53届金马影展最佳影片，第29届东京电影节最佳影片提名】 \n九十年代初的小城，结束了小升初考试的张小雷终于迎来了暑假。恰逢那一年开始实施国有单位转型，张小雷父亲的单位也受到改革冲击，他们的生活也发生了变化。电影从平凡而朴素的生活本身出发，把具有同等重要意义的许多社会现象与问题，综合成一个整体表现生活的复杂性和多义性。 \n  \n地点：单向街书店·东京银座店 \n地址：东京都中央区银座1-6-1 \n形式：【八月】电影赏析以及映后主创视频分享会 \n费用：2000日元
URL:https://one-way-street.com/zh/event/a20240303/
LOCATION:One Way Street Tokyo\, 東京都中央区銀座1丁目6−1\, 東京\, Japan
ATTACH;FMTTYPE=image/png:https://one-way-street.com/wp-content/uploads/2024/01/グラフィックス1.png
END:VEVENT
END:VCALENDAR