BEGIN:VCALENDAR
VERSION:2.0
PRODID:-//One Way Street Tokyo - ECPv6.6.2//NONSGML v1.0//EN
CALSCALE:GREGORIAN
METHOD:PUBLISH
X-WR-CALNAME:One Way Street Tokyo
X-ORIGINAL-URL:https://one-way-street.com/zh
X-WR-CALDESC:One Way Street Tokyo的活动
REFRESH-INTERVAL;VALUE=DURATION:PT1H
X-Robots-Tag:noindex
X-PUBLISHED-TTL:PT1H
BEGIN:VTIMEZONE
TZID:Asia/Tokyo
BEGIN:STANDARD
TZOFFSETFROM:+0900
TZOFFSETTO:+0900
TZNAME:JST
DTSTART:20240101T000000
END:STANDARD
END:VTIMEZONE
BEGIN:VEVENT
DTSTART;TZID=Asia/Tokyo:20240113T150000
DTEND;TZID=Asia/Tokyo:20240113T170000
DTSTAMP:20260424T185049
CREATED:20231226T143319Z
LAST-MODIFIED:20231228T041903Z
UID:2501-1705158000-1705165200@one-way-street.com
SUMMARY:[:zh]#AsianTalk 033 商业空间的意识与潜在意识的动态[:]
DESCRIPTION:【活动信息】\nAsian Talk 033 商业空间的意识与潜在意识的动态\n嘉宾：Ken Cheung、CM Jao \n时间：2024年1月13日（周六）15:00-17:00 \n地点：单向街书店·东京银座店 \n地址：东京都中央区银座1-6-1 \n形式：中文分享会 \n自由席：35席（坐席不设预定，先到先得） \n费用：1500 日元〔单向街书店·东京银座店年费会员免费〕 \n  \n参与方式：\n①点击页首「Get Tickets」付款报名 \n② 门店线下购票 \n③成为年费会员，点击页尾「Going」免费登记 \n※购票后不可取消、退款、转让，请提前确认好时间安排，如有任何问题，请随时联系官方IG或致电0362630116。 \n  \n ◎扫码成为年费会员 33\,000日元/年(含税)\n \n【会员权益】\n１、专属年费会员卡 \n2、赠全品饮料券12张 \n3、免费参与书店活动 \n4、简体中文书购书7折 \n  \n【活动介绍】\n商业空间远不止交易的场所，它们是文化脉络、社会节奏与集体记忆的映射。单向街书店联合天空设计大奖邀您参与一场独特的探讨——由香港OFT设计总监Ken Cheung及CM Jao主导，带领我们深入「商业空间」中的设计。每一期的Asian Talk都是开启新视野的窗口，这一次，我们将透过资深设计师的眼睛，探索那些在平凡空间中隐藏的非凡创意，挖掘其独特的美学与价值。 \n我们热烈欢迎每位对设计、文化艺术生活抱有热情的朋友参与这场关于商业空间深层意义的探讨。从寻常的视角中汲取一些新的灵感，一起感受设计中意识与潜意识动态的奥妙。 \n  \n【嘉宾介绍】\n \nCM JAO \nCM于2007年毕业于香港理工大学设计学院，之后在国际知名的室内设计公司工作多年，负责与购物中心和休闲空间相关的项目。他是一位专业且拥有丰富室内空间设计和规划经验的专业人士。2013年，CM与Ken共同创办了Oft Interiors Ltd，旨在为城市的设计领域注入活力和能量。 \nKen Cheung \nKen Cheung于2008年毕业于香港理工大学设计学院，后来从事商业设计工作。他是一位具备建筑结构、空间概念和环境规划全面知识的专业人士。他于2013年与CM共同创办了Oft Interiors Ltd.，渴望通过他们的作品唤起空间的原始意义和感觉。
URL:https://one-way-street.com/zh/event/at033/
LOCATION:One Way Street Tokyo\, 東京都中央区銀座1丁目6−1\, 東京\, Japan
ATTACH;FMTTYPE=image/jpeg:https://one-way-street.com/wp-content/uploads/2023/12/2024-OFT-01-13_FINAL-scaled.jpg
END:VEVENT
END:VCALENDAR