BEGIN:VCALENDAR
VERSION:2.0
PRODID:-//One Way Street Tokyo - ECPv6.6.2//NONSGML v1.0//EN
CALSCALE:GREGORIAN
METHOD:PUBLISH
X-ORIGINAL-URL:https://one-way-street.com/zh
X-WR-CALDESC:One Way Street Tokyo的活动
REFRESH-INTERVAL;VALUE=DURATION:PT1H
X-Robots-Tag:noindex
X-PUBLISHED-TTL:PT1H
BEGIN:VTIMEZONE
TZID:Asia/Tokyo
BEGIN:STANDARD
TZOFFSETFROM:+0900
TZOFFSETTO:+0900
TZNAME:JST
DTSTART:20230101T000000
END:STANDARD
END:VTIMEZONE
BEGIN:VEVENT
DTSTART;TZID=Asia/Tokyo:20231229T180000
DTEND;TZID=Asia/Tokyo:20231229T200000
DTSTAMP:20260424T202130
CREATED:20231211T090152Z
LAST-MODIFIED:20231211T094239Z
UID:2276-1703872800-1703880000@one-way-street.com
SUMMARY:[:zh]2023年単向忘年会！ 第一回単向忘年会の開催です！[:]
DESCRIPTION:【活动信息】\n2023年単向忘年会！\n第一回単向忘年会の開催です！\n时间：2023年12月29日（周五）18:00-20:00 \n地点：单向街书店·东京银座店 \n地址：东京都中央区银座1-6-1 \n费用：3500日元（年会员免费）\n包含食物和饮料 \n自由席：30席 \n  \n  \n参与方式：\n码下拉至页面底部，购票报名 \n※购票后不可取消、退款、转让，请提前确认好时间安排，如有任何问题，请随时联系官方IG或致电0362630116。 \n  \n ◎ 会扫码成为年费会员 33\,000日元/年(含税)\n \n【会员权益】\n１、专属年费会员卡 \n2、赠全品饮料券12张 \n3、免费参与书店活动 \n4、简体中文书购书7折 \n  \n【活动详情】\n試運転開始から合わせると単向街書店銀座店が始まり約5ヶ月。まだ5ヶ月！されど5ヶ月！こんなにもたくさんの皆さまに出会い、たくさんの恩をいただけるとは開業前には想像もしていませんでした。 \n暗中模索で始まった7月でしたが、今となっては風雨も気づかず走り続けたような感じがします。もちろん今後もたくさんのドラマがあるでしょう。 \n悩みも寂しさも、うずく好奇心や日常の物足りなさも、この書店に来ることでなんだか少し満たされた、考えるきっかけが生まれた・・・など日常にわずかな栄養を注ぎ続けることで、いつかみなさまの心に大切な存在として根づける書店になれるよう努めてまいります。 \n今年の最後にみなさまと顔を合わせ、たくさんのことを語り合えたら嬉しいです。書店スタッフも参加させていただきます。 \n  \n 
URL:https://one-way-street.com/zh/event/year-end-party2023/
LOCATION:One Way Street Tokyo\, 東京都中央区銀座1丁目6−1\, 東京\, Japan
ATTACH;FMTTYPE=image/png:https://one-way-street.com/wp-content/uploads/2023/12/76d72bb2b1ac3cde9f60e2387c2ec71.png
END:VEVENT
END:VCALENDAR