BEGIN:VCALENDAR
VERSION:2.0
PRODID:-//One Way Street Tokyo - ECPv6.6.2//NONSGML v1.0//EN
CALSCALE:GREGORIAN
METHOD:PUBLISH
X-WR-CALNAME:One Way Street Tokyo
X-ORIGINAL-URL:https://one-way-street.com/zh
X-WR-CALDESC:One Way Street Tokyo的活动
REFRESH-INTERVAL;VALUE=DURATION:PT1H
X-Robots-Tag:noindex
X-PUBLISHED-TTL:PT1H
BEGIN:VTIMEZONE
TZID:Asia/Tokyo
BEGIN:STANDARD
TZOFFSETFROM:+0900
TZOFFSETTO:+0900
TZNAME:JST
DTSTART:20230101T000000
END:STANDARD
END:VTIMEZONE
BEGIN:VEVENT
DTSTART;TZID=Asia/Tokyo:20231224T163000
DTEND;TZID=Asia/Tokyo:20231224T180000
DTSTAMP:20260424T201946
CREATED:20231213T062556Z
LAST-MODIFIED:20231215T103410Z
UID:2332-1703435400-1703440800@one-way-street.com
SUMMARY:[:zh]#Asian Talk 030 这些年我因为看动画被问的那些蠢问题——日谈公园 x 天地無用・东京见面会[:]
DESCRIPTION:【活动信息】\nAsian Talk 030 这些年我因为看动画被问的那些蠢问题\n嘉宾：李志明（播客《日谈公园》主播）、3000（播客《天地无用》主播） \n时间：2023年12月24日（周六）16:30-18:00 \n地点：单向街书店·东京银座店 \n地址：东京都中央区银座1-6-1 \n形式：中文分享会 \n自由席：30席（坐席不设预定，先到先得） \n费用：1500 日元(含指定饮料一杯) \n           〔单向街书店·东京银座店年费会员免费〕 \n  \n参与方式：\n①点击页首「Get Tickets」付款报名 \n② 门店线下购票 \n③成为年费会员，点击页尾「Going」免费登记 \n※购票后不可取消、退款、转让，请提前确认好时间安排，如有任何问题，请随时联系官方IG或致电0362630116。 \n  \n ◎扫码成为年费会员 33\,000日元/年(含税)\n \n【会员权益】\n１、专属年费会员卡 \n2、赠全品饮料券12张 \n3、免费参与书店活动 \n4、简体中文书购书7折 \n  \n【活动介绍】\n你看动漫啊，你一定是个二次元吧？\n你真有童心。\n你看动漫啊，我也最爱看动漫了。\n你看动漫啊，你是个小画家吧？\n你看动漫，你来负责这次的水泥品牌国潮创新营销吧。\n这些年我们因为看动画被问的那些蠢问题，不知道有多少。 \n《日谈公园》和《天地无用》两档播客的首次海外听友见面会。李志明和3000两位主播，加在一起做了十五年的播客，看了八十年的动画。想邀请东京的听友来到银座的单向街书店，一起聊聊为何到今天我们还在看动画。在嘉宾对谈环节之后，还会有45分钟的听友互动环节，大家可以和主播尽兴交流，分享自己和播客的故事。 \n  \n【嘉宾介绍】\n \n李志明\n播客《日谈公园》创始人、主播。资深媒体人及动画爱好者，曾与嘉宾3000共同推出《神作！一看入魂的日本动画电影》系列对谈音频节目。 \n \n3000\n播客《天地无用》创始人、主播。资深漫画编辑、动画制片人。由其主持的音频播客节目《天地无用》定位于“视觉文艺杂谈”，探讨关于动漫游戏、小说电影等大家喜爱的作品或其引发的话题。
URL:https://one-way-street.com/zh/event/at030/
LOCATION:One Way Street Tokyo\, 東京都中央区銀座1丁目6−1\, 東京\, Japan
END:VEVENT
END:VCALENDAR