BEGIN:VCALENDAR
VERSION:2.0
PRODID:-//One Way Street Tokyo - ECPv6.6.2//NONSGML v1.0//EN
CALSCALE:GREGORIAN
METHOD:PUBLISH
X-WR-CALNAME:One Way Street Tokyo
X-ORIGINAL-URL:https://one-way-street.com/zh
X-WR-CALDESC:One Way Street Tokyo的活动
REFRESH-INTERVAL;VALUE=DURATION:PT1H
X-Robots-Tag:noindex
X-PUBLISHED-TTL:PT1H
BEGIN:VTIMEZONE
TZID:Asia/Tokyo
BEGIN:STANDARD
TZOFFSETFROM:+0900
TZOFFSETTO:+0900
TZNAME:JST
DTSTART:20230101T000000
END:STANDARD
END:VTIMEZONE
BEGIN:VEVENT
DTSTART;TZID=Asia/Tokyo:20231209T150000
DTEND;TZID=Asia/Tokyo:20231209T163000
DTSTAMP:20260424T230440
CREATED:20231114T060845Z
LAST-MODIFIED:20231123T102031Z
UID:1434-1702134000-1702139400@one-way-street.com
SUMMARY:[:zh]#Asian Talk 024 日本人该如何在海外生活？[:ja]#Asian Talk 024 日本人は海外で活躍できる？[:]
DESCRIPTION:【活动信息】\n日本人该如何在海外生活？\n嘉宾：加藤万奈、长屋英章 \n时间：2023年12月9日（周六）15:00-16:30 \n地点：单向街书店·东京银座店 \n地址：东京都中央区银座1-6-1 \n形式：日语分享会 \n自由席：30席（坐席不设预定，先到先得） \n费用：1500 日元(含指定饮料一杯) \n           〔单向街书店·东京银座店年费会员免费〕 \n  \n参与方式：\n①点击页首「Get Tickets」付款报名 \n② 门店线下购票 \n③成为年费会员，点击页尾「Going」免费登记 \n※购票后不可取消、退款、转让，请提前确认好时间安排，如有任何问题，请随时联系官方IG或致电0362630116。 \n  \n ◎扫码成为年费会员 33\,000日元/年(含税)\n \n【会员权益】\n１、专属年费会员卡 \n2、赠全品饮料券12张 \n3、免费参与书店活动 \n4、简体中文书购书7折 \n  \n【活动介绍】\n为什么选择活跃于海外？在海外的日本人有哪些共同点？日本人的特质是？多样性又意味着什么？ \n在法国、英国、香港和新加坡有超过15年海外生活经验的同时，作为日语教师亦接触过来自不同背景的学习者的加藤万奈女士，将与活跃于在法国、香港和泰国的美食设计师长屋英章先生共同进行一场坦率的对话。 \n2023年12月9日（周六）15:00-16:30，我们想邀请对海外、外语、以及外国文化感兴趣的你来到银座的单向街书店。听听拥有如此丰富经历的嘉宾如何看待在海外的生活，他们在海外又会如何审视自身拥有的“日本气质”呢？ \n  \n【嘉宾介绍】\n \n加藤万奈 \n日语教师、作家。在15年以上的海外生活中，保持对人们多样的生活方式的好奇。曾旅居于英国、法国、香港、新加坡。二子之母，与爱尔兰籍的丈夫一起四人生活。东京都人。著有《我的香港小旅行》 \n  \n \n长屋英章 \n美食设计师。旅居法国、香港后，现以长野县白马村为根据地在亚洲广泛活动。2024年起计划将根据地转移至泰国。 \n  \n【相关作品】\n \n《我的香港小旅行》 \n作者：加藤万奈 \n译者：孙海玉 \n出版时间：2020年9月 \n出版社：香港中和出版 \n  \n放弃日本护照，入籍香港的港队球员中村祐人；《亚洲星光大道》走红，备受欢迎的节目主持和泉素行；港乐全职小提琴家田中知子……旅居香港的日语教师加藤万奈，走访多位在香港生活，于不同行业均有所成就的日本人，并透过访谈，深入了解他们的经历，及在不同文化冲击下，如何一步一步实现理想的过程，呈现出日本人诸多面相的个性。
URL:https://one-way-street.com/zh/event/asian-talk-023/
LOCATION:One Way Street Tokyo\, 東京都中央区銀座1丁目6−1\, 東京\, Japan
ATTACH;FMTTYPE=image/jpeg:https://one-way-street.com/wp-content/uploads/2023/11/日本人该如何在海外生活_大横-1.jpg
END:VEVENT
END:VCALENDAR