BEGIN:VCALENDAR
VERSION:2.0
PRODID:-//One Way Street Tokyo - ECPv6.6.2//NONSGML v1.0//EN
CALSCALE:GREGORIAN
METHOD:PUBLISH
X-ORIGINAL-URL:https://one-way-street.com/zh
X-WR-CALDESC:One Way Street Tokyo的活动
REFRESH-INTERVAL;VALUE=DURATION:PT1H
X-Robots-Tag:noindex
X-PUBLISHED-TTL:PT1H
BEGIN:VTIMEZONE
TZID:Asia/Tokyo
BEGIN:STANDARD
TZOFFSETFROM:+0900
TZOFFSETTO:+0900
TZNAME:JST
DTSTART:20230101T000000
END:STANDARD
END:VTIMEZONE
BEGIN:VEVENT
DTSTART;TZID=Asia/Tokyo:20231004T183000
DTEND;TZID=Asia/Tokyo:20231004T200000
DTSTAMP:20260424T230456
CREATED:20230921T011012Z
LAST-MODIFIED:20230929T144917Z
UID:272-1696444200-1696449600@one-way-street.com
SUMMARY:[:en]読書会＠単向街書店vol.01：『夜の潜水艦（夜晚的潜水艇）』（アストラハウス）[:zh]读书会＠单向街书店vol.01：『夜の潜水艦（夜晚的潜水艇）』（アストラハウス）[:ja]【募集終了】読書会＠単向街書店vol.01：『夜の潜水艦（夜晚的潜水艇）』（アストラハウス）[:]
DESCRIPTION:读书会＠单向街书店vol.01：『夜の潜水艦（夜晚的潜水艇）』（アストラハウス） \n时间：10月４日（周三）晚上６点半〜闭店８点\n使用语言：日语\n限员：10位　　※不设直播\n费用：1000日元（附饮料）【报名成功后不可取消、退款，支付前请先确认好时间安排。】
URL:https://one-way-street.com/zh/event/%e6%97%a5%e6%9c%ac%e8%aa%9e-%e8%aa%ad%e6%9b%b8%e4%bc%9a%ef%bc%a0%e5%8d%98%e5%90%91%e8%a1%97%e6%9b%b8%e5%ba%97vol-01%ef%bc%9a%e3%80%8e%e5%a4%9c%e3%81%ae%e6%bd%9c%e6%b0%b4%e8%89%a6%ef%bc%88%e5%a4%9c/
LOCATION:One Way Street Tokyo\, 東京都中央区銀座1丁目6−1\, 東京\, Japan
ATTACH;FMTTYPE=image/jpeg:https://one-way-street.com/wp-content/uploads/2023/09/添加标题.jpg
END:VEVENT
END:VCALENDAR