BEGIN:VCALENDAR
VERSION:2.0
PRODID:-//One Way Street Tokyo - ECPv6.6.2//NONSGML v1.0//EN
CALSCALE:GREGORIAN
METHOD:PUBLISH
X-WR-CALNAME:One Way Street Tokyo
X-ORIGINAL-URL:https://one-way-street.com/zh
X-WR-CALDESC:One Way Street Tokyo的活动
REFRESH-INTERVAL;VALUE=DURATION:PT1H
X-Robots-Tag:noindex
X-PUBLISHED-TTL:PT1H
BEGIN:VTIMEZONE
TZID:Asia/Tokyo
BEGIN:STANDARD
TZOFFSETFROM:+0900
TZOFFSETTO:+0900
TZNAME:JST
DTSTART:20250101T000000
END:STANDARD
END:VTIMEZONE
BEGIN:VEVENT
DTSTART;TZID=Asia/Tokyo:20250601T150000
DTEND;TZID=Asia/Tokyo:20250601T163000
DTSTAMP:20260423T185527
CREATED:20250522T085548Z
LAST-MODIFIED:20250525T023504Z
UID:8047-1748790000-1748795400@one-way-street.com
SUMMARY:[:zh]【艺术空间】心影之旅・东京——赵琼、邹丽萍手机摄影作品展[:]
DESCRIPTION:【艺术空间】\n心影之旅・东京\n赵琼、邹丽萍手机摄影作品展\n艺术家：赵琼、邹丽萍 \n策展人：蓝京华 \n展期： 2025.5.31 SAT – 6.2 MON \n  \n【艺术对话 活动信息】\n艺术对话嘉宾：赵琼、邹丽萍、蓝京华 \n时间：2025年6月1日（周日）15:00-16:30 \n地点：单向街书店・东京银座店 \n东京都中央区银座1-6-1 \n费用：免费入场 \n  \n【艺术家介绍】\n赵琼 \n编辑，写作者，摄影爱好者。 \n“从小学六年级拥有人生第一台傻瓜相机开始，我就喜欢用镜头捕捉身边的细节。拍过森林晨雾、城市灯光、欢颜笑意，拍过独行者的背影，也拍过街角的猫。 \n“我换过相机，从胶片到数码，从单反到现在最爱的iPhone，但从未停止按快门。过去三十多年里，拍下了上万张关于生活、关于人的照片。 \n“摄影于我，不是炫技，也不是猎奇，而是一种慢慢靠近生活的方式，每一张照片里，都藏着一个我想认识的人，一个我想知道的故事。” \n  \n  \n \n邹丽萍 \n中国非遗传统文化传承人\n日本华人美术家协会副会长兼副秘书长\n中国写生会日本分会副会长\n日本太平洋美术会会员\n《东方美术》编委 \n曾任职于日本出版社。曾为日贸出版社《楽しい動物の切り絵》提供剪纸作品。 \n翻译并出版《日本南部铁器》（山东画报出版社）。近几年多次参加中日美术展览，并举办中日绘画艺术交流展。作品获得金奖、荣誉奖和东京都知事奖等多种奖项。致力于日中绘画交流，组织动漫游学及画展策展。 \n2024年度视频号优秀创作者，2025年获中国文化中心颁发的文化传播贡献奖、讲座荣誉奖。 \n艺术创作领域：油画、岩彩画、剪纸、水墨画。 \n  \n  \n【部分作品展示】\n \n《水户稻香》，邹丽萍，2017年5月 \n  \n  \n \n《侘寂》，赵琼，2025年5月 \n  \n 
URL:https://one-way-street.com/zh/event/exhibition-20250531/
LOCATION:One Way Street Tokyo\, 東京都中央区銀座1丁目6−1\, 東京\, Japan
ATTACH;FMTTYPE=image/png:https://one-way-street.com/wp-content/uploads/2025/05/default-17.png
END:VEVENT
BEGIN:VEVENT
DTSTART;TZID=Asia/Tokyo:20250606T183000
DTEND;TZID=Asia/Tokyo:20250606T200000
DTSTAMP:20260423T185527
CREATED:20250530T093300Z
LAST-MODIFIED:20250604T105637Z
UID:8082-1749234600-1749240000@one-way-street.com
SUMMARY:[:zh]Asian Talk 163 许知远《伯克利的魔山》新书分享会[:]
DESCRIPTION:【活动主题】\nAsian Talk 163 \n许知远《伯克利的魔山》新书分享会 \n  \n【活动介绍】\n他曾在喧嚣中寻找孤独者的声音，也曾在时代夹缝里叩问理想的可能。\n这一次，许知远带着他的最新作品——《伯克利的魔山》，走进东京单向街书店，与读者面对面，分享他在思想、精神与现实之间往返穿行的旅程。 \n《伯克利的魔山》是一封写给现代灵魂的长信，一场远离潮流语境的沉思之旅。在这本书中，他游走于加州的思想地景，回望历史深处的身影，探寻在技术与权力剧烈变动的今天，人如何重新安放自己的位置。它是他多年观察、游历与思考的结晶，也是对自我与时代关系的再一次叩问。 \n\n\n\n\n\n\n\n\n\n\n\n  \n\n\n\n\n\n\n\n\n\n\n\n【嘉宾介绍】\n \n许知远 \n作家，单向空间联合创始人，谈话节目《十三邀》主创。 \n著作包括《祖国的陌生人》《一个游荡者的世界》《那些忧伤的年轻人》等，他正在撰写五卷本梁启超传记，其中两卷《梁启超：青年变革者 1873—1898》《梁启超：亡命（1898—1903）》现已出版。 \n  \n \n孙靖涵 \n前央视主持人  制片人 \n  \n【相关作品】\n \n作者：许知远 \n出版社：广西师范大学出版社 \n出版年：2025-4 \n《十三邀》主创许知远精选随笔集，“游荡集”系列开篇之作。 \n在北京大学图书馆里，年轻的许知远发现了一本李普曼传记，从此找到自己的路——以文字为业。《伯克利的魔山》是“游荡集”系列的第一部，诚实地记录了一位写作者十八年来的精 神历程：他如何游荡世界，如何理解时代，如何认识他人 ，如何以今日之我更新昨日之我。 \n这本书记录的，是作家许知远自己的声音：阅读，游荡，穿梭于不同的时间与空间，观察体验这个万花筒般的世界，伴随着永不停息的自我分析的冲动。 \n  \n【活动信息】\n嘉宾：许知远 \n主持：孙靖涵 \n时间：2025年6月6日（星期五）18:30-20:00 \n地点：单向街书店・东京银座店 \n东京都中央区银座1-6-1 \n形式：中文分享会・全席自由席（60席） \n———————————————————————————————————— \n【一般入场券】 \n费用：2000円 \n点击页面上方「Get Tickets」，进入预约页面，填写必要信息，完成支付。 \n【入场券+《伯克利的魔山》套装优惠价】 \n费用：5000円 \n点击页面上方「Get Tickets」，进入预约页面，填写必要信息，完成支付。 \n※购票后不可取消、退款、转让，请提前确认好时间安排。 \n  \n【年费会员入场券】 \n单向街书·东京银座店年费会员可免费参加本次活动。 \n点击下方「Going」，进入预约页面，填写必要信息，完成报名。 \n＊活动当日，请年费会员向工作人员提示会员卡，确认身份后入场＊ \n———————————————————————————————————— \n致来店参加的各位顾客 \n活动开始时间前30分钟起，开放入场。 \n如有任何问题，请随时联系致电0362630116。 \n———————————————————————————————————— \n本店活动席位为自由席，无指定座位，先到者优先选座。 \n———————————————————————————————————— \n致来店参加的各位顾客 \n活动开始时间前30分钟起，开放入场。 \n如有任何问题，请随时联系致电0362630116。 \n———————————————————————————————————— \n【扫码成为单向街书店·东京银座店年费会员】 \n \n◎年费会员 会费：33\,000日元/年(含税) \n【会员权益】 \n１、专属年费会员卡 \n2、赠全品饮料券12张 \n3、免费参与书店活动 \n4、简体中文书购书7折
URL:https://one-way-street.com/zh/event/asian-talk-163/
LOCATION:One Way Street Tokyo\, 東京都中央区銀座1丁目6−1\, 東京\, Japan
ATTACH;FMTTYPE=image/png:https://one-way-street.com/wp-content/uploads/2025/05/イベントポスターのコピー-7.png
END:VEVENT
BEGIN:VEVENT
DTSTART;TZID=Asia/Tokyo:20250607T143000
DTEND;TZID=Asia/Tokyo:20250607T170000
DTSTAMP:20260423T185527
CREATED:20250521T125559Z
LAST-MODIFIED:20250521T133441Z
UID:8036-1749306600-1749315600@one-way-street.com
SUMMARY:[:zh]Asian Talk 154  徐童纪录片《两把铁锹》放映会[:]
DESCRIPTION:【活动主题】\nAsian Talk 154\n徐童纪录片《两把铁锹》放映会\n  \n【嘉宾介绍】\n \n｜徐童\n1965年生于北京。1983年就读于中国传媒大学新闻摄影专业。 \n2008年至2010年，完成纪录片作品《麦收》、《算命》、《老唐头》，合称“游民三部曲”，广为流传； \n之后，相继完成纪录片《四哥》、《挖眼睛》、《两把铁锹》、《赤脚医生》等作品。多次参加国内外电影节、影展并获奖。 \n新作《他们是肉做的&肉是怎么做的》以丧心病狂的天真姿态，拍出一部关于纪录片的纪录片。 \n2013年长篇小说《珍宝岛》由长江文艺出版社出版。 \n  \n \n｜蓝京华\n艺术家、策展人。 \n广东河源人、生活在北京、东京的自由职业艺术家策展人。 \n代表作：行为艺术《丹凤眼》、数字艺术、AI与行为影像《乌托邦系列》、 \n行为艺术《宋庄的每个饭局都是宋庄当代艺术史》、大地诗歌行为艺术《金字塔史诗》。 \n  \n  \n【电影介绍】\n \n《两把铁锹》\n导演：徐童 \n年代: 2017 \n片长: 62分钟 \n类型: 纪录片 \n｜剧情简介 \n在完成《老唐头》中对唐家的拍摄后，徐童将焦点转向了老唐头的第三个儿子唐老三，他因涉嫌谋杀而被逮捕。他被门卫老金诬告偷了两把铁锹，并在争执中意外杀死了老金。因此，老金的家人要求赔偿48万元人民币。老三的18岁儿子即将参加全国高考，为了挽救父亲，他急切地四处借钱。 \n导演徐童深刻关注无法在不幸中得到社会援助的底层人民的生活境况。他提出社会不公的问题，并通过电影表达对底层人的同情。 \n  \n｜导演自述 \n小宝子扑通一声跪在爷爷脚下，梆梆梆磕了三个响头，起身抱住爷爷，哇哇大哭起来。我端着摄像机愣在了一边。拍摄这个纪录片，让我看到了一个年轻人内心深处的挣扎。在底层人那里，遇到灭顶之灾，只能靠自身肉搏，却得不到来自社会的援助。杀人应该偿命，但是如何做到公平公正？案子的细枝末节如何细致探究？怎么去监督？对此底层人如同盲人瞎马，只能听天由命。小宝子，一个18岁的孩子，又如何能应对得了？我特别邀请到了音乐人刘冬虹先生，为该片作曲并演唱。他独特的旋律和嗓音，不仅有效地推动了叙事，更为片子平添了很多观赏性，令人回味无穷。 \n*以上文字引用自华语独立影像资料馆 \n  \n  \n【活动信息】\n嘉宾：徐童（导演）、蓝京华（艺术家、策展人） \n时间：2025年6月7日（土）14:30-17:00 \n地点：单向街书店・东京银座店 \n东京都中央区银座1-6-1 \n形式：中文分享会・全席自由席（40席） \n本店活动席位为自由席，无指定座位，先到者优先选座。 \n———————————————————————————————————— \n费用：学术放映  免费 \n（入场请点一杯饮料，以支持本次活动） \n———————————————————————————————————— \n致来店参加的各位顾客 \n活动开始时间前30分钟起，开放入场。 \n如有任何问题，请随时联系致电0362630116。 \n———————————————————————————————————— \n【扫码成为单向街书店·东京银座店年费会员】 \n \n◎年费会员 会费：33\,000日元/年(含税) \n【会员权益】 \n１、专属年费会员卡 \n2、赠全品饮料券12张 \n3、免费参与书店活动 \n4、简体中文书购书7折
URL:https://one-way-street.com/zh/event/miove-the-two-shovels/
LOCATION:One Way Street Tokyo\, 東京都中央区銀座1丁目6−1\, 東京\, Japan
ATTACH;FMTTYPE=image/png:https://one-way-street.com/wp-content/uploads/2025/05/イベントポスターのコピー-5.png
END:VEVENT
BEGIN:VEVENT
DTSTART;TZID=Asia/Tokyo:20250608T143000
DTEND;TZID=Asia/Tokyo:20250608T160000
DTSTAMP:20260423T185527
CREATED:20250529T044846Z
LAST-MODIFIED:20250529T083947Z
UID:8070-1749393000-1749398400@one-way-street.com
SUMMARY:[:ja]Asian Talk 161　中国新移民の最新動向と今後の見通し[:]
DESCRIPTION:对不起，此内容只适用于日文。
URL:https://one-way-street.com/zh/event/asian-talk-161/
LOCATION:One Way Street Tokyo\, 東京都中央区銀座1丁目6−1\, 東京\, Japan
ATTACH;FMTTYPE=image/png:https://one-way-street.com/wp-content/uploads/2025/05/cgi-bin_mmwebwx-bin_webwxgetmsgimg__MsgID7145931445026144583skey@crypt_2b6780f2_86241c0fb51a3cac9440b4f73bef9c31mmweb_appidwx_webfilehelper.png
END:VEVENT
BEGIN:VEVENT
DTSTART;TZID=Asia/Tokyo:20250614T143000
DTEND;TZID=Asia/Tokyo:20250614T160000
DTSTAMP:20260423T185527
CREATED:20250527T092154Z
LAST-MODIFIED:20250611T024634Z
UID:8061-1749911400-1749916800@one-way-street.com
SUMMARY:[:ja]Asian Talk 162 『新中国語』とは何か？中国人の目、日本人の目で相手国を認識する [:]
DESCRIPTION:对不起，此内容只适用于日文。
URL:https://one-way-street.com/zh/event/asian-talk-162/
LOCATION:One Way Street Tokyo\, 東京都中央区銀座1丁目6−1\, 東京\, Japan
ATTACH;FMTTYPE=image/png:https://one-way-street.com/wp-content/uploads/2025/05/イベントポスターのコピー-4-1.png
END:VEVENT
BEGIN:VEVENT
DTSTART;TZID=Asia/Tokyo:20250620T200000
DTEND;TZID=Asia/Tokyo:20250620T213000
DTSTAMP:20260423T185527
CREATED:20250603T072301Z
LAST-MODIFIED:20250611T034327Z
UID:8141-1750449600-1750455000@one-way-street.com
SUMMARY:[:ja]川島ケイジ　スペシャルライブ[:]
DESCRIPTION:对不起，此内容只适用于日文。
URL:https://one-way-street.com/zh/event/kawashima-live5/
ATTACH;FMTTYPE=image/png:https://one-way-street.com/wp-content/uploads/2025/06/川岛直播6.6.png
END:VEVENT
BEGIN:VEVENT
DTSTART;TZID=Asia/Tokyo:20250621T143000
DTEND;TZID=Asia/Tokyo:20250621T160000
DTSTAMP:20260423T185527
CREATED:20250610T085231Z
LAST-MODIFIED:20250611T104347Z
UID:8168-1750516200-1750521600@one-way-street.com
SUMMARY:[:zh]Asian Talk 164 如何认识宋代？[:ja]Asian Talk 164 宋王朝をいかに認識するか[:]
DESCRIPTION:【活动主题】\nAsian Talk 164\n如何认识宋代？\n  \n【活动介绍】\n历来，对宋代有着截然相反的两种评价。一种是积贫积弱、割地纳币、被动挨打的“陋宋”；一种是华夏文化造极于赵宋，近年来的“宋代热”也让许多人觉得宋代是中国历史上最好的时代，甚至想穿越回宋代。 \n究竟哪一种评价比较接近历史真实？内藤湖南提出的唐宋变革论有何贡献？其学说能否涵盖宋代以后全部历史？宋代的政治特征是什么？北宋与南宋有什么区别？“崖山之后无中国”的说法能否成立？宋代留给今天有什么样的精神遗产？ \n讲座者积近五十年宋史研究之经历，以漫谈的形式讲述自己的认识，介绍自己的研究，回答上述问题以及听众所感兴趣的相关话题。 \n  \n【嘉宾介绍】\n \n王瑞来（主讲人） \n史学博士 \n现为学习院大学东洋文化研究所研究员，并执教于早稻田大学，中国国内担任四川大学特聘教授、河南大学讲座教授、北京大学客座教授等。研究方向为以宋代为主的历史学、文献学与思想史，旁及日本古代史。 \n1982年毕业于北京大学中文系古典文献专业。自1979年发表第一篇论文始，40多年来单独出版有《宋宰辅编年录校补》、《宋代の皇帝権力と士大夫政治》等31种中、日文版研究和古籍整理著作。其中《君臣——士大夫政治下的权力场》再版多次，近著有《士人走向民间——宋元变革与社会转型》。 \n刊发论文300余篇。2015年出版的《王瑞来学术文丛》（共5卷）收录了其主要单篇论文。《王瑞来学术文丛》共5卷，分别以《近世中国：从唐宋变革到宋元变革》《知人论世：宋代人物考述》《天地间气：范仲淹研究》《文献可征：宋代史籍丛考》《仇雠相对：版本校勘学述论》为题。 \n  \n \n王前（主持人） \n人文学者 \n先后任教于东京大学、早稻田大学和明治大学，主要研究领域为政治哲学与思想史。 \n  \n【活动信息】\n嘉宾：王瑞来、王前 \n时间：2025年6月21日（星期六）14:30-16:00 \n地点：单向街书店・东京银座店 \n东京都中央区银座1-6-1 \n形式：中文・日文双语 \n全席自由席（40席） \n本店活动席位为自由席，无指定座位，先到者优先选座。 \n———————————————————————————————————— \n【一般入场券】 \n费用：1500円 \n点击页面上方「Get Tickets」，进入预约页面，填写必要信息，完成支付。 \n※购票后不可取消、退款、转让，请提前确认好时间安排。 \n  \n【当日券】 \n费用：1500円 \n可在活动当天于店内一楼柜台购票。 \n  \n【年费会员入场券】 \n单向街书·东京银座店年费会员可免费参加本次活动。 \n点击下方「Going」，进入预约页面，填写必要信息，完成报名。 \n＊活动当日，请年费会员向工作人员提示会员卡，确认身份后入场＊ \n———————————————————————————————————— \n致来店参加的各位顾客 \n活动开始时间前30分钟起，开放入场。 \n如有任何问题，请随时联系致电0362630116。 \n———————————————————————————————————— \n【扫码成为单向街书店·东京银座店年费会员】 \n \n◎年费会员 会费：33\,000日元/年(含税) \n【会员权益】 \n１、专属年费会员卡 \n2、赠全品饮料券12张 \n3、免费参与书店活动 \n4、简体中文书购书7折 \n 
URL:https://one-way-street.com/zh/event/asian-talk-164/
LOCATION:One Way Street Tokyo\, 東京都中央区銀座1丁目6−1\, 東京\, Japan
ATTACH;FMTTYPE=image/png:https://one-way-street.com/wp-content/uploads/2025/06/イベントポスターのコピー-10.png
END:VEVENT
BEGIN:VEVENT
DTSTART;TZID=Asia/Tokyo:20250622T143000
DTEND;TZID=Asia/Tokyo:20250622T160000
DTSTAMP:20260423T185527
CREATED:20250615T085404Z
LAST-MODIFIED:20250616T021711Z
UID:8190-1750602600-1750608000@one-way-street.com
SUMMARY:[:zh]Asian Talk 165:《红楼梦》和《金瓶梅》哪个更伟大？第二讲[:]
DESCRIPTION:【活动主题】\nAsian Talk 165\n《红楼梦》和《金瓶梅》哪个更伟大？\n第二讲\n\n\n【活动介绍】\n喜欢《金瓶梅》的，爱把它跟《红楼梦》比，往往觉得金比红更好，因为金更真实。 \n高晓松就说：《金瓶梅》写的才是“真正的生活”，相比之下，《红楼梦》就是经典的偶像剧，太理想，太乌托邦了。哈佛大学的田晓菲也有类似观点，她说《红楼梦》是真正意义上的“通俗小说”、“诗意小说”，是“贾府的肥皂剧”……《金瓶梅》的世界才真实。 \n刘晓蕾认为，“真实”是一种主观感受。《金瓶梅》写市井，《红楼梦》写贵族，前者之所以显得更真实，是因为《金瓶梅》的商业社会和城市生活，跟我们现在多有重叠。而荣国府的精致大观园的美好，却显得有点遥远。 \n不过，生活和审美虽然没法复制，但人性却是相通的。 \n《红楼梦》写贵族：荣国府、大观园，元春省亲、秦可卿的豪华葬礼，还有雀金呢、凫靥裘、还有“紫檀透雕，嵌着大红纱透绣花卉并草字诗词的璎珞”……已经远去，但作诗、赏花、吃螃蟹，琉璃世界白雪红梅，这其中的美，我们却未必不能理解，也未必不能拥有。 \n《金瓶梅》写的是市井生活：小贩们走街串巷，摇着惊闺叶；妻妾们勾心斗角，争风吃醋；西门庆升官发财，喝酒偷情找女人，结义兄弟拍马溜须打秋风……这样的人心与世情，这样的生活，以及其中的贪婪、焦虑和软弱，如今我们也正在经历。 \n我们实在是距离《金瓶梅》更近。 \n刘晓蕾认为，《金瓶梅》写最平常的市井生活，直接进入人性的深渊；而《红楼梦》则努力活得尊贵、超拔。《金瓶梅》写人心与欲望，写沉重的肉身，《红楼梦》呈现爱、美与尊严，发现丰美的灵魂，都是生命之书，都心怀慈悲。 \n《红楼梦》和《金瓶梅》双峰并峙，同时拥有它们，是读者的幸运。 \n  \n  \n【嘉宾介绍】\n\n刘晓蕾\n作家，文学博士，大学教师。 \n得到APP《刘晓蕾讲透〈金瓶梅〉》课程主理人， \n《文汇报》《腾讯大家》专栏作家， \n著有《刘晓蕾〈红楼梦〉十二讲》、《作为欲望号的〈金瓶梅〉》、《情僧、英雄与正经人：十四位人物解透〈红楼梦〉》等。 \n  \n【活动相关图书】\n \n《刘晓蕾〈红楼梦〉十二讲》 \n刘晓蕾著，译林出版社，2022年出版 \n本书是“得到”、新东方经典领读人刘晓蕾写给《红楼梦》初读者的十二堂课。 \n全书按“部编高中语文教材整本阅读要求”拟定框架，从成书背景、人物故事、经典桥段，到诗词语言、社会习俗、文学艺术价值诸方面，正本清源，做扎实精当又富于个性的解读。 \n随书附录《致读者的一封信》；三幅阅读地图——人物关系图、情节脉络图、时间线索图；精选清代改琦图咏，再现红楼风华。 \n  \n  \n \n《作为欲望号的〈金瓶梅〉》 \n刘晓蕾著，生活·读书·新知三联书店，2021出版 \n《金瓶梅》属于成年人：它的世界经不起打量，处处都是破绽，每个人的内心都有一个黑暗的江湖。书里的人，个个欲望丰沛，携带着丰富的秘密和深渊，一言难尽。如果我们诚实一点，谦卑一点，是能从他们身上辨认出自己的。 \n刘晓蕾带领读者走进《金瓶梅》的世界，对这部经典名著进行文学的、有生命感的解读，领略人性的复杂和幽微。 \n全书分“伤花怒放”“另眼相看”“生死问题”“乱红错金”四个部分，探讨了金瓶梅的大小人物，以及世相与人情。 \n  \n  \n \n《情僧、英雄与正经人：14位人物解透红楼梦》 \n刘晓蕾著，江苏凤凰文艺出版社，2024年出版 \n本书选取了《红楼梦》中十四位具有典型性的主要人物，对其性格、精神特质以及人物间的复杂关系进行细致解读，力图还原曹雪芹笔下辽阔而深远的人性世界。 \n作者文采飞扬，从哲理与世情的角度重新品读红楼，引领我们走过书中人的一生，体悟生命的鲜活与脆弱，也目睹每个人的局限与命运。 \n同时，作者将情节、主题、前八十回与续作之别、版本之别等内容掰开揉碎融入其中，帮助读者真正读懂作为生命之书的《红楼梦》。 \n  \n  \n【活动信息】\n嘉宾：刘晓蕾 \n时间：2025年6月22日（星期日）14:30-16:00 \n地点：单向街书店・东京银座店 \n东京都中央区银座1-6-1 \n形式：中文分享会・全席自由席（40席） \n本店活动席位为自由席，无指定座位，先到者优先选座。 \n———————————————————————————————————— \n【一般入场券】 \n费用：1500円 \n点击页面上方「Get Tickets」，进入预约页面，填写必要信息，完成支付。 \n※购票后不可取消、退款、转让，请提前确认好时间安排。 \n【当日券】 \n费用：1500円 \n可在活动当天于店内一楼柜台购票。 \n【年费会员入场券】 \n单向街书·东京银座店年费会员可免费参加本次活动。 \n点击下方「Going」，进入预约页面，填写必要信息，完成报名。 \n＊活动当日，请年费会员向工作人员提示会员卡，确认身份后入场＊ \n———————————————————————————————————— \n致来店参加的各位顾客 \n活动开始时间前30分钟起，开放入场。 \n如有任何问题，请随时联系致电0362630116。 \n———————————————————————————————————— \n【扫码成为单向街书店·东京银座店年费会员】 \n \n◎年费会员 会费：33\,000日元/年(含税) \n【会员权益】 \n１、专属年费会员卡 \n2、赠全品饮料券12张 \n3、免费参与书店活动 \n4、简体中文书购书7折 \n 
URL:https://one-way-street.com/zh/event/asian-talk-165/
LOCATION:One Way Street Tokyo\, 東京都中央区銀座1丁目6−1\, 東京\, Japan
ATTACH;FMTTYPE=image/png:https://one-way-street.com/wp-content/uploads/2025/06/イベントポスターのコピー-12.png
END:VEVENT
BEGIN:VEVENT
DTSTART;TZID=Asia/Tokyo:20250628T143000
DTEND;TZID=Asia/Tokyo:20250628T160000
DTSTAMP:20260423T185527
CREATED:20250615T103408Z
LAST-MODIFIED:20250616T061045Z
UID:8197-1751121000-1751126400@one-way-street.com
SUMMARY:[:zh]Asian Talk 166　东京的华人作家们在写什么[:]
DESCRIPTION:【活动主题】\nAsian Talk 166\n东京的华人作家们在写什么\n  \n【活动介绍】\n在异国，用母语写作，这是一种什么体验？ \n在离散或跨文化语境中，身份认同常处于流动与张力之中。母语成为确认文化身份最直接的、最深沉的内在声音。用母语书写是在异质文化环境中确立自我坐标、对抗文化同质化或边缘化的有力方式，也是构建“华人性”的一个现实定位。 \n本次活动邀请到几位在东京的华人作家及学者们，分享写作心路及经验。 \n  \n【嘉宾介绍】\n \n李长声\n作家、随笔家 \n曾任吉林人民出版社编辑、日本文学杂志副主编。1988年自费东渡，侨居至今。 \n1990年代以来写有关日本的随笔，结集《长声闲话》（五卷）、《李长声自选集》（三卷）等。 \n翻译《黄昏清兵卫》（藤泽周平著）等日本小说。 \n  \n \n金蔚\n诗人、翻译家 \n出版诗集《玫瑰心事》、《花之眼》。译作有《夕照遐思录》（野村喜和夫著）。 \n并有诗歌与散文、小说发表在国内外等报刊以及多处网络平台。 \n  \n  \n \n陈醒哲\n传记文学作家 \n已出版著作有《赵尔巽传》（上下卷）、《陈官俊传》。 \n《赵尔巽传》全书70万字，分九部五十八节，采用了新史传文学的写法，除重笔描写主要人物人生经历外，还展现了同时期许多人物的状态，通过纵横交错的叙述描写论述等非虚构文学的表现手法，全景式再现了晚清的社会历史面貌。 \n《陈官俊传》为历时五年完成的鸿篇巨制，陈醒哲通过考据史料，调查访谈，对陈官俊经历的时代背景和重要事件进行了再现和描述，全面细致展示了陈官俊的生命历程和历史功绩。 \n近期正执笔有关东京华人生活的长篇小说。 \n  \n \n刘红\n学者，东洋文库研究員 \n主要研究题目为胡适，著有多篇论文，曾就“胡适的学术研究活动及其近代性意义”、“胡适的先进文学观及其翻译实践活动”等题目进行过公开发表。 \n近期著作有『実験主義者胡適の思想と実践―社会改良、政治改革から対日米外交まで（1891-1942）』（東京書房出版\, 2024）。 \n  \n  \n \n金晓明\n翻译家 \n1977年毕业于大连外国语大学日语专业，曾就职国家基本建设委员会，其间曾仼国家领导人翻译，并在书刊、杂志、报纸等发表多篇译作，有着丰富的翻译经验。 \n十几年来专心致力于《万叶集》的翻译、研究与写作，曾发表《万叶集概说》（中文导报）、《浅论万叶集的文学美》（日本华文作家协会文选）、《从万叶集看日本古代的爱情生活》（阳光导报 万叶讲堂）、《世界文化遗产奈良平城宫遗址》（阳光导报连载）等相关文章。 \n近期出版著作《格律诗词翻译万叶集》。 \n  \n  \n【活动信息】\n嘉宾：李长声、金蔚、陈醒哲、刘红、金晓明 \n主持人：姜建强 \n时间：2025年6月28日（星期六）14:30-16:00 \n地点：单向街书店・东京银座店 \n东京都中央区银座1-6-1 \n形式：中文分享会・全席自由席（40席） \n费用：免费入场 \n本店活动席位为自由席，无指定座位，先到者优先选座。 \n———————————————————————————————————— \n致来店参加的各位顾客 \n活动开始时间前30分钟起，开放入场。 \n如有任何问题，请随时联系致电0362630116。 \n———————————————————————————————————— \n【扫码成为单向街书店·东京银座店年费会员】 \n \n◎年费会员 会费：33\,000日元/年(含税) \n【会员权益】 \n１、专属年费会员卡 \n2、赠全品饮料券12张 \n3、免费参与书店活动 \n4、简体中文书购书7折
URL:https://one-way-street.com/zh/event/asian-talk-166/
LOCATION:One Way Street Tokyo\, 東京都中央区銀座1丁目6−1\, 東京\, Japan
ATTACH;FMTTYPE=image/png:https://one-way-street.com/wp-content/uploads/2025/06/cgi-bin_mmwebwx-bin_webwxgetmsgimg__MsgID8423045245014142803skey@crypt_2b6780f2_6bbf0c3ec8a6a55c8feee41a5fe659f0mmweb_appidwx_webfilehelper.png
END:VEVENT
BEGIN:VEVENT
DTSTART;TZID=Asia/Tokyo:20250629T143000
DTEND;TZID=Asia/Tokyo:20250629T160000
DTSTAMP:20260423T185527
CREATED:20250622T073107Z
LAST-MODIFIED:20250625T081148Z
UID:8234-1751207400-1751212800@one-way-street.com
SUMMARY:[:zh]【艺术空间】对墨·重构 吴蓉东京个展[:]
DESCRIPTION:【艺术空间】\n对墨·重构\n吴蓉东京个展\n艺术家：吴蓉 \n策展人：蓝京华 \n展期： 2025.6.29 SUN – 7.03 TUR \n  \n【艺术对话 活动信息】\n艺术对话嘉宾：吴蓉、蓝京华 \n时间：2025年6月29日（周日）14:30-16:00 \n地点：单向街书店・东京银座店 \n东京都中央区银座1-6-1 \n费用：免费入场 \n使用语言：中文 \n  \n【艺术家介绍】\n  \n \n吴蓉 \n艺术家、古琴文化艺术委员会会员 \n1974年出生于江苏苏州 \n2005年，到北京宋庄从事艺术创作至今。 \n2003年，师承吴派传人、斫琴专家裴金宝习古琴。 \n2015年，师从国画大师丈木先生、上延下日师父习国画。 \n2014年，创办公众号《拾花间》，记录宋庄女性艺术家艺术生活。 \n——主要参与展览——\n2025年\n第六届城市艺术博览会《将生活·以艺术》 北京王府半岛酒店\n2024年\n横滨国际艺术展暨第20届日中水墨协会展 日本横滨神奈川县民大会堂\n2023年\n第五届北京城市艺术博览会《将生活·以艺术》 北京四季酒店\n妳 一 国际女性艺术联展 Bifrost Gallery x研物舍\n宋庄艺术节“一江两岸”采风写生交流展  北京上上美术馆\n“醉美”吴蓉水墨&「汉泽西」双联展 北京大洲玉文化艺术中心\n松阳第一届横坑“竹也”大地艺术节 浙江丽水玖层云水·美术馆\n2022年\n《潜行的美人鱼》女性艺术家作品展 北京1503艺术区\n2021年\n微艺术博览会 浙江丽水莲都玖层·下南山美术馆\n2020年\n汉泽西书房雅集 北京大洲玉文化艺术中心\n2019年\n一张棉花纸 北京玖层美术馆\n2018年\n新年礼物 北京慧空间\n2017年\n一张棉花纸 北京山海美术馆\n回忆里的时间 北京10SPACE\n2015年\n艺术的力量——梅里雪山清洁计划 三玄国际文化中心\n2014年\n迷你展 北京艺术库\n115位艺术家自画像 北京当代美术馆\n在喧哗中寂静成长 北京唐王艺术中心\n2013年\n迷你艺术 北京玖层美术馆\n迷你展 石家庄自在空间\n自画像展 宋庄美术馆\n2012年\n宋庄边缘自由艺术家联展 北京艺兵空间\n\n——个人展览——\n2017年 个展《黑白间》 北京 10 SPACE\n  \n  \n【作品展示】\n \n \n \n 
URL:https://one-way-street.com/zh/event/exhibition-20250629/
LOCATION:One Way Street Tokyo\, 東京都中央区銀座1丁目6−1\, 東京\, Japan
ATTACH;FMTTYPE=image/png:https://one-way-street.com/wp-content/uploads/2025/06/単向街書店・東京銀座店-2.png
END:VEVENT
END:VCALENDAR