BEGIN:VCALENDAR
VERSION:2.0
PRODID:-//One Way Street Tokyo - ECPv6.6.2//NONSGML v1.0//EN
CALSCALE:GREGORIAN
METHOD:PUBLISH
X-ORIGINAL-URL:https://one-way-street.com/zh
X-WR-CALDESC:One Way Street Tokyo的活动
REFRESH-INTERVAL;VALUE=DURATION:PT1H
X-Robots-Tag:noindex
X-PUBLISHED-TTL:PT1H
BEGIN:VTIMEZONE
TZID:Asia/Tokyo
BEGIN:STANDARD
TZOFFSETFROM:+0900
TZOFFSETTO:+0900
TZNAME:JST
DTSTART:20250101T000000
END:STANDARD
END:VTIMEZONE
BEGIN:VEVENT
DTSTART;TZID=Asia/Tokyo:20250301T143000
DTEND;TZID=Asia/Tokyo:20250301T160000
DTSTAMP:20260423T233625
CREATED:20250210T095156Z
LAST-MODIFIED:20250228T161316Z
UID:7228-1740839400-1740844800@one-way-street.com
SUMMARY:[:zh]Asian Talk 141　新井一二三谈40年中日文书写[:]
DESCRIPTION:【活动主题】\nAsian Talk 141\n新井一二三谈40年中日文书写\n  \n【活动介绍】\n土生土长的东京人新井一二三，19岁上大学汉语课，瞬间跟这门外语坠入爱河，不仅喜欢说说听听，更喜欢以其写作，过去40年里，在各地中文媒体上发表的文章竟超过1000篇。 \n一个日本人这么深刻地爱上中文到底是怎么回事？这次在单向街书店银座店，新井一二三跟读者分享40年中日文书写的心路历程。 \n  \n  \n【嘉宾介绍】\n \n新井一二三，日本东京人，早稻田大学政治经济学系毕业，现任明治大学教授。 \n1980年代去北京外国语学院、中山大学留学，开始为各地中文杂志报纸供稿，前后在北京《万象》、上海《澎湃新闻》、广州《南方都市报》、香港《星岛日报》、台湾《中国时报》等多份刊物以及网路媒体上开专栏。 \n中文著作有《我这一代东京人》《独立，从一个人旅行开始》《我和中文谈恋爱》《123成人式》等50多种。日文著作有《青椒肉絲の絲、麻婆豆腐の麻》《中国語 楽 》《台湾物語》《中国、香港、台湾映画の の日本》等。 \n  \n【活动信息】\n嘉宾：新井一二三 \n时间：2025年3月1日（土）14:30-16:00 \n地点：单向街书店・东京银座店 \n东京都中央区银座1-6-1 \n形式：中文・全席自由席（40席） \n本店活动席位为自由席，无指定座位，先到者优先选座。 \n———————————————————————————————————— \n【一般入场券】 \n费用：1500円 \n点击页面上方「Get Tickets」，进入预约页面，填写必要信息，完成支付。 \n※购票后不可取消、退款、转让，请提前确认好时间安排。 \n【当日券】 \n费用：1500円 \n可在活动当天于店内一楼柜台购票。 \n【年费会员入场券】 \n单向街书店·东京银座店年费会员可免费参加本次活动。 \n点击下方「Going」，进入预约页面，填写必要信息，完成报名。 \n＊活动当日，请年费会员向工作人员提示会员卡，确认身份后入场＊ \n———————————————————————————————————— \n致来店参加的各位顾客 \n活动开始时间前30分钟起，开放入场。 \n如有任何问题，请随时联系致电0362630116。 \n———————————————————————————————————— \n【扫码成为单向街书店·东京银座店年费会员】 \n \n◎年费会员 会费：33\,000日元/年(含税) \n【会员权益】 \n１、专属年费会员卡 \n2、赠全品饮料券12张 \n3、免费参与书店活动 \n4、简体中文书购书7折
URL:https://one-way-street.com/zh/event/asian-talk-141/
LOCATION:One Way Street Tokyo\, 東京都中央区銀座1丁目6−1\, 東京\, Japan
ATTACH;FMTTYPE=image/png:https://one-way-street.com/wp-content/uploads/2025/02/イベントポスターのコピー-6.png
END:VEVENT
BEGIN:VEVENT
DTSTART;TZID=Asia/Tokyo:20250302T153000
DTEND;TZID=Asia/Tokyo:20250302T170000
DTSTAMP:20260423T233625
CREATED:20250218T102108Z
LAST-MODIFIED:20250220T024209Z
UID:7346-1740929400-1740934800@one-way-street.com
SUMMARY:[:ja]『石門』映画鑑賞シェア会[:]
DESCRIPTION:对不起，此内容只适用于日文。
URL:https://one-way-street.com/zh/event/movie-shimen/
LOCATION:One Way Street Tokyo\, 東京都中央区銀座1丁目6−1\, 東京\, Japan
ATTACH;FMTTYPE=image/png:https://one-way-street.com/wp-content/uploads/2025/02/石門Image_20250219184553.png
END:VEVENT
BEGIN:VEVENT
DTSTART;TZID=Asia/Tokyo:20250308T143000
DTEND;TZID=Asia/Tokyo:20250308T173000
DTSTAMP:20260423T233625
CREATED:20250222T094157Z
LAST-MODIFIED:20250225T094443Z
UID:7391-1741444200-1741455000@one-way-street.com
SUMMARY:[:zh]Asian Talk142  徐童纪录片《挖眼睛》放映会[:]
DESCRIPTION:【活动主题】\nAsian Talk 142\n徐童纪录片《挖眼睛》放映会\n  \n【嘉宾介绍】\n \n｜徐童\n中国内地纪录片导演、编剧，毕业于中国传媒大学电视系新闻摄影专业。 \n2008年，执导个人首部纪录片《麦收》，该片获得云之南纪录影像展幻面奖（创新奖）和观众最喜爱影片奖。 \n2009年，执导纪录片《算命》，该片入围第5届云之南纪录影像展竞赛单元，获得第6届中国独立影像年度展CIFF年度十佳纪录片。同年《麦收》获得首尔数字电影节首奖。 \n2011年，执导纪录片《老唐头》，该片获得第十届釜山国际电影节CAF奖。 \n2013年，由其创作的小说处女作《珍宝岛》出版。 \n2017年，担任纪录片《两把铁锹》的导演。 \n2022年4月，小说《珍宝岛》改编成的电影《三个十年》在汉中开机。 \n新近完成的纪录片《他们是肉做的》叙述了一个养老院里啼笑皆非的故事，被业内人士称为「邪典纪录片」。 \n  \n  \n｜蓝京华\n艺术家、策展人。 \n广东河源人、生活在北京、东京的自由职业艺术家策展人。 \n代表作：行为艺术《丹凤眼》、数字艺术、AI与行为影像《乌托邦系列》、行为艺术《宋庄的 \n每个饭局都是宋庄当代艺术史》、大地诗歌行为艺术《金字塔史诗》。 \n  \n【活动信息】\n嘉宾：徐童（导演）、蓝京华（艺术家、策展人） \n时间：2025年3月8日（土）14:30-17:30 \n地点：单向街书店・东京银座店 \n东京都中央区银座1-6-1 \n形式：中文分享会・全席自由 \n—————— \n费用：入场免费（需要点一杯饮料入场） \n＊ 学术放映  免费＊ \n—————— \n如有任何问题，请随时联系官方 I G或致电0362630116。 \n◎扫码成为年费会员 33\,000日元/年(含税) \n \n【会员权益】 \n１、专属年费会员卡 \n2、赠全品饮料券12张 \n3、免费参与书店活动 \n4、简体中文书购书7折 \n  \n【活动介绍】\n纪录片《挖眼睛》记录了二后生的日常生活，追述了那些不堪的往事。呈现了他以死延生的人生境遇。 \n二后生五十出头，是个唱二人台的江湖艺人。游走在内蒙古河套地区。二十四年前，他在一个村子卖唱时认识了三女子。三女子有男人，家境苦寒，男人让她跟上二后生卖唱养家。不料日久生情，二后生要带三女子远走高飞。男人知道后叫上自家的两个兄弟，把二后生诓到村里，挖掉了他的双眼。二后生死里逃生，保全性命。后来便把这段经历编成了二人台曲子，曲名叫《挖眼睛》。红及内蒙晋北一代。 \n  \n【相关作品】\n \n《挖眼睛》：一个以死延生的故事\n导演：徐童\n编剧: 徐童\n主演: 二后生\n类型: 纪录片 / 传记 / 历史\n制片国家/地区: 中国大陆\n语言: 汉语普通话\n上映日期: 2014\n片长: 96分钟\n又名:  Cut Out The Eyes
URL:https://one-way-street.com/zh/event/miove-wayanjing/
LOCATION:One Way Street Tokyo\, 東京都中央区銀座1丁目6−1\, 東京\, Japan
ATTACH;FMTTYPE=image/png:https://one-way-street.com/wp-content/uploads/2025/02/挖眼睛观影会-1.png
END:VEVENT
BEGIN:VEVENT
DTSTART;TZID=Asia/Tokyo:20250308T180000
DTEND;TZID=Asia/Tokyo:20250308T190000
DTSTAMP:20260423T233625
CREATED:20250217T084323Z
LAST-MODIFIED:20250218T062351Z
UID:7315-1741456800-1741460400@one-way-street.com
SUMMARY:[:zh]神秘园 ：杨平东京个展[:ja]Secret Garden 神秘な園：楊平東京個展[:en]Secret Garden: a solo exhibition by Yangping in Tokyo[:]
DESCRIPTION:【活动主题】\n神秘园\n杨平东京个展\n艺术家：杨平 \n策展人：蓝京华 \n学术支持：贾方舟、鲁虹、王端廷、杨卫 \n展期： 2025.3.08 SAT – 3.10 MON \n  \n【艺术对话 活动信息】\n艺术对话嘉宾：贾方舟、鲁虹、王端廷、杨卫 \n杨平、蓝京华（现场&视频连线） \n时间：2025年3月8日（周六）18:00-19:00 \n地点：单向街书店・东京银座店 \n东京都中央区银座1-6-1 \n费用：免费入场 \n  \n【艺术家介紹】\n \n杨平 \n毕业于中央美术学院中国画学院，获硕士学位。 \n中国美术家协会会员、中国书法家协会会员、香港画院研究员 \n当代独立艺术家、Young平空间创始人 \n工作生活于北京。 \n  \n部分个展 \n2024    蓝调——杨平艺术展  锦都艺术中心  北京  中国（策展人荣剑） \n2023    如云——杨平个展  合美术馆   武汉 湖北 中国（策展人孙江舒 ） \n2022    花 . 凝视——杨平个展   798悦.美术馆   北京 中国（ 策展人鲁虹 ） \n2019   “我在——杨平的水墨世界”济南市美术馆   济南市 山东 中国（ 策展人杨卫 ） \n2019   “诧.紫”杨平个展    798悦.美术馆   北京  中国（ 策展人鲁虹 ） \n2017   “纸上的徒步与回眸——杨平水墨作品展“ 798感叹号画廊 北京（ 策展人杨卫 ） \n2017  “随心．虚境——杨平水墨作品展”  山东威海富城艺术馆  山东 中国 \n2015  “心象——杨平水墨艺术作品展”   山东滨州 时.杰美术馆  山东 中国 \n2013  “水墨清韵——杨平中国画书法作品展” 山东威海美术馆   山东 中国 \n部分群展 \n2024    第十六届大艺博（武汉）  武汉  湖北  中国 \n2024    2024悦在龙年——美术馆里的新年艺术展   悦.美术馆  北京  中国 \n2023    第四届大艺博（武汉）  武汉  湖北  中国 \n2023    望——当代中国艺术展  意大利罗马文书院达芬奇博物馆等联合策展（线上） \n2022    2022后海派艺术大展——水墨壹佰     上海嘉定博物馆  上海  中国 \n2020    她水墨——中国当代女艺术家水墨大展    今日美术馆    北京   中国 \n2020    水墨进行时：2000—2019      广东美术馆      广州    广东   中国 \n2019    水墨新进——第二届武汉水墨双年展之预热平行展   武汉美术馆  湖北  中国 \n2018   “墨．生——2018当代水墨艺术巡展”  上上美术馆龙成国际艺术空间 北京 中国 \n2018   “墨．境——中央美术学院优秀青年艺术家推介展”  博宝美术馆  北京  中国 \n2017    画坛翘楚全球巡展四国      纽约、圣彼得堡、墨尔本、北京 \n2016    中央美术学院研究生毕业作品展  中央美术学院美术馆  北京  中国 \n2015    “相生——中央美术学院研究生作品展” 北京炎黄艺术馆  北京  中国 \n2015    “研墨雅集——中央美术学院中国画学院研究生作品集萃展” 中国国家画院国展中心  北京  中国 \n2015    全国“第二届——朝圣敦煌全国美术作品展览”优秀奖  甘肃敦煌  甘肃  中国 \n2014    “吴冠中艺术馆第二届全国中国画作品展”优秀奖  江苏宜兴    江苏  中国 \n2014    第十二届全国美展山东展区优秀作品展  山东济南   山东  中国 \n2012    中国书协主办的“首届赵孟頫书法艺术作品展”    湖州   中国 \n2012    中国书协主办的第五届全国妇女书法艺术作品展    广州   中国 \n作品收藏于武汉合美术馆、中珈资本（武汉）、北京锦都艺术中心、济南市美术馆、798悦.美术馆、上上国际美术馆、 \n龙成国际艺术空间、吴冠中艺术馆、未来四方集团、时．杰美术馆、威海美术馆等，以及私人藏家收藏。 \n作品入编《中国当代艺术史1978-2018》大学教材和《中国当代艺术史2000-2019》，发表于《美术》、《艺收藏》、《美术天地》、 \n《艺术品投资与交流》、《中国当代艺术文献2015提名艺术家作品集》、《收藏参考》等专业刊物，并出版个人作品集多种。 \n出版物 \n2024年出版《如云——杨平个展》武汉合美术馆 \n2019年出版《如云.如花》作品集 \n2018年出版《我在——杨平的水墨世界》作品集（天津人民美术出版社） \n2017年出版《收藏参考——杨平水墨作品集》（天津人民美术出版社） \n2016年出版《走过——杨平水墨系列作品集》 \n2014年出版《收藏参考——杨平书法作品集》（天津人民美术出版社） \n2014年出版《融合．意境——杨平水墨写生新象》（天津人民美术出版社） \n2013年6月出版《中国书画百杰作品集——杨平》（天津人民美术出版社） \n  \n【作品展示】\n \n无意识情绪系列-8   50x100cm 纸本水墨  2024 \n \n无意识情绪系列-9   50x100cm 纸本水墨  2024 \n \nunable to express in words-1无以言表-1  50x50cm  纸本水墨  2025 \n \nunable to express in words-9无以言表-9  50x50cm  纸本水墨  2025 \n \nSecret Garden series 2（5） 神秘园系列二 （5）  50x100cm  纸本水墨  2024 \n \nSecret Garden series 2（6） 神秘园系列二 （6）  50x100cm  纸本水墨  2024 \n \nSecret Garden -2神秘园系列-2    50x50cm   2024 \n \nSecret Garden -3神秘园系列-3    50x50cm   2024 \n \nSecret Garden -4神秘园系列-4    50x50cm   2024 \n \nSecret Garden -5神秘园系列-5    50x50cm   2024 \n \nSecret Garden -6神秘园系列-6    50x50cm   2024 \n \n如花系列.晚香玉-7  38x38cm   纸本水墨  2021 \n \n如花系列.晚香玉-8  38x38cm   纸本水墨  2021 \n \nYour indifference is a knife (Japanese) 你们的冷漠是一把刀  33x67cm 纸本水墨  2024 \n \nNot far or not near (Chinese)  不远不近（中文） 33x67cm 纸本水墨  2024 \n \nNever look back(Chinese)   决不回头（中文） 33x67cm 纸本水墨  2024 \n \nMild rebellion (Chinese)     温和的叛逆（中文） 33x67cm 纸本水墨  2024 \n \nFalse mask(Japanese)     虚伪的面具（日文） 33x67cm 纸本水墨  2024 \n \nCold and warm only you know 冷暖自知（中文）33x67cm 纸本水墨  2024 \n \n香袭-6   50x50cm    纸本水墨  2021 \n \n香袭-8   50x50cm    纸本水墨  2021 \n \n神秘园(组合形态2)  21x30x7cm  纸板  宣纸  水墨  泥金纸  锦缎  日本颜彩  2025 \n———————————————————————————————————— \n如有任何问题，请随时联系致电0362630116。 \n【扫码成为单向街书店·东京银座店年费会员】 \n \n◎年费会员 会费：33\,000日元/年(含税) \n【会员权益】 \n１、专属年费会员卡 \n2、赠全品饮料券12张 \n3、免费参与书店活动 \n4、简体中文书购书7折
URL:https://one-way-street.com/zh/event/exhibition-2025-03-08/
LOCATION:One Way Street Tokyo\, 東京都中央区銀座1丁目6−1\, 東京\, Japan
ATTACH;FMTTYPE=image/png:https://one-way-street.com/wp-content/uploads/2025/02/杨平老师-个展海报英日.png
END:VEVENT
BEGIN:VEVENT
DTSTART;TZID=Asia/Tokyo:20250309T143000
DTEND;TZID=Asia/Tokyo:20250309T160000
DTSTAMP:20260423T233625
CREATED:20250225T083708Z
LAST-MODIFIED:20250225T084333Z
UID:7417-1741530600-1741536000@one-way-street.com
SUMMARY:[:zh]Asian Talk 143 AI与芯片 Deepseek冲击波下的产业变革 [:]
DESCRIPTION:【活动主题】\nAsian Talk 143\nAI与芯片\nDeepseek冲击波下的产业变革\n  \n【活动简介】\nDeepseek为什么会形成如此大的冲击？Deepseek的训练成本真的那么低吗？其对英伟达等芯片行业有哪些影响？接下来2年，AI和芯片将会有什么样的发展和前景？ \n王韵先生在人工智能、半导体及智能计算领域拥有20年以上的经验，曾在知名日系半导体企业担任亚太地区高管，负责市场战略与技术商业化，并深耕AI计算、智能硬件及高性能计算领域，推动跨国技术创新与产业融合。 \n本次活动邀请到王韵先生，讲解AI和芯片行业之间的深层联系和行业前景。 \n  \n【嘉宾介紹】\n \n王韵 \n株式会社Truesight Japan代表取締役社長 \n曾创办超级计算机芯片设计企业，推动智能计算技术在生物制药与金融领域的突破，并荣获AMD全球智能计算大奖。凭借在智能计算及产业落地方面的积累，曾受邀在高盛TechDay发表演讲，探讨高性能计算如何重塑行业格局。 \n目前负责总部位于新加坡的人工智能企业在日本的业务拓展，专注于AI在影像处理、自动化分析及智能优化方面的应用，并推动AI技术在多个行业的落地。曾多次受邀在日本国内论坛发表演讲，分享AI技术趋势、产业变革的影响。 \n中欧工商学院校友会CMO俱乐部理事，致力于推动中欧CMO校友在科技与商业的深度融合。 \n  \n【活动信息】\n嘉宾：王韵 \n时间：2025年3月9日（日）14:30-16:00 \n场所：单向街书店・东京银座店 \n东京都中央区银座1-6-1 \n形式：中文分享会・全席自由席（40席） \n本店活动席位为自由席，无指定座位，先到者优先选座。 \n———————————————————————————————————— \n【一般入场券】 \n费用：1500円 \n点击页面上方「Get Tickets」，进入预约页面，填写必要信息，完成支付。 \n※购票后不可取消、退款、转让，请提前确认好时间安排。 \n【当日券】 \n费用：1500円 \n可在活动当天于店内一楼柜台购票。 \n【年费会员入场券】 \n单向街书·东京银座店年费会员可免费参加本次活动。 \n点击下方「Going」，进入预约页面，填写必要信息，完成报名。 \n＊活动当日，请年费会员向工作人员提示会员卡，确认身份后入场＊ \n———————————————————————————————————— \n致来店参加的各位顾客 \n活动开始时间前30分钟起，开放入场。 \n如有任何问题，请随时联系致电0362630116。 \n———————————————————————————————————— \n【扫码成为单向街书店·东京银座店年费会员】 \n \n◎年费会员 会费：33\,000日元/年(含税) \n【会员权益】 \n１、专属年费会员卡 \n2、赠全品饮料券12张 \n3、免费参与书店活动 \n4、简体中文书购书7折
URL:https://one-way-street.com/zh/event/asian-talk-143/
LOCATION:One Way Street Tokyo\, 東京都中央区銀座1丁目6−1\, 東京\, Japan
ATTACH;FMTTYPE=image/png:https://one-way-street.com/wp-content/uploads/2025/02/イベントポスターのコピー-9.png
END:VEVENT
BEGIN:VEVENT
DTSTART;TZID=Asia/Tokyo:20250314T200000
DTEND;TZID=Asia/Tokyo:20250314T213000
DTSTAMP:20260423T233625
CREATED:20250307T095427Z
LAST-MODIFIED:20250308T132704Z
UID:7572-1741982400-1741987800@one-way-street.com
SUMMARY:[:ja]川島ケイジ　スペシャルライブ[:]
DESCRIPTION:对不起，此内容只适用于日文。
URL:https://one-way-street.com/zh/event/kawashima-live2/
LOCATION:One Way Street Tokyo\, 東京都中央区銀座1丁目6−1\, 東京\, Japan
ATTACH;FMTTYPE=image/png:https://one-way-street.com/wp-content/uploads/2025/03/川岛海报2.png
END:VEVENT
BEGIN:VEVENT
DTSTART;TZID=Asia/Tokyo:20250315T143000
DTEND;TZID=Asia/Tokyo:20250315T160000
DTSTAMP:20260423T233625
CREATED:20250303T062155Z
LAST-MODIFIED:20250306T055516Z
UID:7475-1742049000-1742054400@one-way-street.com
SUMMARY:[:zh]Asian Talk 144 东京的角落 新疆的作家・李娟线上交流会及作品朗读会[:ja]Asian Talk 144 東京の片隅で　新疆の作家・李娟とつないで——作品朗読会[:]
DESCRIPTION:【活动主题】\nAsian Talk 144\n东京的角落\n新疆的作家・李娟线上交流会及作品朗读会\n  \n【活动介绍】\n2024年，散文集《我的阿勒泰》被改编为电视剧，并在中央电视台播出。李娟在中国一跃成为家喻户晓的作家，她那朴实无华、充满生气的文字深深吸引了众多读者。 \n通过本次的活动，《阿勒泰的角落》（日文译名：アルタイの片隅で）和《冬牧场》的日文版翻译者河崎深雪，将通过网络与身处新疆的李娟进行连线，策划一场与读者们的温暖交流会。 \n活动中将介绍日语翻译的契机以及翻译过程中与李娟的互动，并且将用中文和日文朗读作品的部分内容，让李娟也能感受她的作品在日语中的呈现效果。 \n【相关作品】\n \n《阿勒泰的角落》 \n本书收录了李娟自1998年到2003年之间陆续发表在《文汇报》《南方周末》上的短篇散文。依据李娟先后到过的不同地域，分为喀吾图、巴拉尔茨、沙依横布拉克、在桥头、红土地五个章节。 \n书中描写了众多在阿勒泰生活的人，包括李娟的母亲、老外婆、妹妹、当地村民尔沙、纳德亚一家，还包括阿勒泰的风景，同时展现了冬窝子、爬犁、拖依等独特的生活方式、生活习惯。 \n \n贫瘠寒冷的沙漠深处，李娟身体力行与哈萨克牧人生活了一整个冬天。 \n在逐水草而居的动荡生活中，冬季转场是其中最艰辛的一段，李娟深情克制地讲述哈萨克牧人冬季游牧文化，全景式记录北疆大地的游牧景观。 \n人类的命运与荒野的命运丝丝相扣，互相依存。在巨大的寒冷中，李娟写下渺小人类用双手撑开的一小团温暖与安宁——虽然微弱，足以与艰难的现实抗衡。 \n（本书编辑推荐语） \n＊切换至日文可看日文版封面＊ \n【嘉宾介绍】\n \n李娟 \n中国新疆籍作家， \n著有《冬牧场》、《羊道》、《我的阿勒泰》、《遥远的向日葵地》等作品。 \n曾获鲁迅文学奖，人民文学奖等。 \n  \n  \n河崎深雪（Kawasaki Miyuki） \n文学博士，翻译家。国学院大学大学院客座讲师。 \n译作有李娟『アルタイの片隅で（阿勒泰的角落）』、『冬牧場』等。 \n中文著作『汉语角色语言研究（中国語の役割語研究）』商務印書館、 \n日语著作『中国のことばの森の中で―武漢・上海・東京で考えた社会言語学』教養検定会議等。 \n作为诗人，用中文进行诗和散文的创作，作品被杂志《香港文学》、中英双语诗集《中外笔会国际诗文选》（第一辑）、《新世纪诗典》、意大利《Italia-Giappone In Poesia》等收录。 \n  \n \n杜海玲 \n主持人 \n  \n【活动信息】\n嘉宾：李娟（网络连线）、河崎深雪、杜海玲（主持人） \n时间：2025年3月15日（土）14:30-16:00 \n地点：单向街书店・东京银座店 \n东京都中央区银座1-6-1 \n形式：日文・中文交流会 \n全席自由席（40席） \n本店活动席位为自由席，无指定座位，先到者优先选座。 \n———————————————————————————————————— \n【一般入场券】 \n费用：1500円 \n点击页面上方「Get Tickets」，进入预约页面，填写必要信息，完成支付。 \n※购票后不可取消、退款、转让，请提前确认好时间安排。 \n【当日券】 \n费用：1500円 \n可在活动当天于店内一楼柜台购票。 \n【年费会员入场券】 \n单向街书·东京银座店年费会员可免费参加本次活动。 \n点击下方「Going」，进入预约页面，填写必要信息，完成报名。 \n＊活动当日，请年费会员向工作人员提示会员卡，确认身份后入场＊ \n———————————————————————————————————— \n致来店参加的各位顾客 \n活动开始时间前30分钟起，开放入场。 \n如有任何问题，请随时联系致电0362630116。 \n———————————————————————————————————— \n【扫码成为单向街书店·东京银座店年费会员】 \n \n◎年费会员 会费：33\,000日元/年(含税) \n【会员权益】 \n１、专属年费会员卡 \n2、赠全品饮料券12张 \n3、免费参与书店活动 \n4、简体中文书购书7折
URL:https://one-way-street.com/zh/event/asian-talk-144/
LOCATION:One Way Street Tokyo\, 東京都中央区銀座1丁目6−1\, 東京\, Japan
ATTACH;FMTTYPE=image/png:https://one-way-street.com/wp-content/uploads/2025/03/イベントポスターのコピー-15.png
END:VEVENT
BEGIN:VEVENT
DTSTART;TZID=Asia/Tokyo:20250316T143000
DTEND;TZID=Asia/Tokyo:20250316T160000
DTSTAMP:20260423T233625
CREATED:20250225T074402Z
LAST-MODIFIED:20250316T024318Z
UID:7407-1742135400-1742140800@one-way-street.com
SUMMARY:[:zh]Asian Talk 145 在日创业者故事：从SHEIN到CAGUUU ——前SHEIN日本掌门人刘三勇×一桥大学教授孙康勇 深度对话[:ja]Asian Talk 145 在日中国人起業家のストーリー：SHEINからCAGUUUへ 元SHEIN日本責任者・劉三勇 × 一橋大学教授・孫康勇　スペシャルトーク[:]
DESCRIPTION:【活动主题】\nAsian Talk 145\n在日创业者故事：从SHEIN到CAGUUU\n——前SHEIN日本掌门人刘三勇×一桥大学教授孙康勇 深度对话\n  \n【活动简介】\n在中国企业加速出海的当下，跨境电商既是一片红海，更孕育着新机遇：老牌玩家持续加码，新锐品牌逆势破局。竞争白热化之际，如何高效突围？如何建立跨文化团队并实现本地化成功？ \n本次活动，我们邀请曾率领 SHEIN 成功打开日本市场、现任家具电商CAGUUU（卡谷） CEO 的刘三勇先生，与一桥大学孙康勇教授深度对谈，以独角兽品牌的成长经历为切入口，深挖中日人才在创业与职场升级中的关键要素。 \n现场更将开放创始人直聘通道，分享跨文化职场干货，从文化差异到实战案例，全面助力你的职业升级与创业探索。无论你是渴望投身国际市场的职场新人，还是正在筹谋新商业版图的创业者，都能在这里获取有价值的见解与资源。 \n  \n【嘉宾介紹】\n \n刘 三勇 \n前SHEIN日本负责人 / 家具电商品牌「CAGUUU（卡谷）」CEO \n曾成功带领SHEIN进入日本市场，目前正于家具电商领域展开新挑战。 \n  \n \n孙 康勇 \n一桥大学商学院准教授 \n长期致力于国际商务和创业辅导的研究与教学，培养了众多拥有全球视野的人才。 \n  \n【活动信息】\n嘉宾：刘三勇 孙康勇 \n时间：2025年3月16日（周日）14:30-16:00 \n场所：单向街书店・东京银座店 \n东京都中央区银座1-6-1 \n形式：中文分享会・全席自由席（40席） \n本店活动席位为自由席，无指定座位，先到者优先选座。 \n———————————————————————————————————— \n【一般入场券】 \n费用：1500円 \n点击页面上方「Get Tickets」，进入预约页面，填写必要信息，完成支付。 \n※购票后不可取消、退款、转让，请提前确认好时间安排。 \n【当日券】 \n费用：1500円 \n可在活动当天于店内一楼柜台购票。 \n【年费会员入场券】 \n单向街书·东京银座店年费会员可免费参加本次活动。 \n点击下方「Going」，进入预约页面，填写必要信息，完成报名。 \n＊活动当日，请年费会员向工作人员提示会员卡，确认身份后入场＊ \n———————————————————————————————————— \n致来店参加的各位顾客 \n活动开始时间前30分钟起，开放入场。 \n如有任何问题，请随时联系致电0362630116。 \n———————————————————————————————————— \n【扫码成为单向街书店·东京银座店年费会员】 \n \n◎年费会员 会费：33\,000日元/年(含税) \n【会员权益】 \n１、专属年费会员卡 \n2、赠全品饮料券12张 \n3、免费参与书店活动 \n4、简体中文书购书7折
URL:https://one-way-street.com/zh/event/asian-talk-145/
LOCATION:One Way Street Tokyo\, 東京都中央区銀座1丁目6−1\, 東京\, Japan
ATTACH;FMTTYPE=image/png:https://one-way-street.com/wp-content/uploads/2025/02/cgi-bin_mmwebwx-bin_webwxgetmsgimg__MsgID6240233460277827543skey@crypt_2b6780f2_d66a988e14650ebf60e2d95321acc170mmweb_appidwx_webfilehelper.png
END:VEVENT
BEGIN:VEVENT
DTSTART;TZID=Asia/Tokyo:20250316T180000
DTEND;TZID=Asia/Tokyo:20250316T190000
DTSTAMP:20260423T233625
CREATED:20250305T063405Z
LAST-MODIFIED:20250306T052332Z
UID:7505-1742148000-1742151600@one-way-street.com
SUMMARY:[:zh]绿野仙踪 ：徐丽霞东京个展[:ja]緑野仙踪：徐麗霞東京個展[:]
DESCRIPTION:【活动主题】\n绿野仙踪\n徐丽霞东京个展\n艺术家：徐丽霞 \n策展人：蓝京华 \n展期： 2025.3.14 FRI – 3.16 SUN \n  \n【艺术对话 活动信息】\n艺术对话嘉宾：徐丽霞、蓝京华 \n时间：2025年3月16日（周日）18:00-19:00 \n地点：单向街书店・东京银座店 \n东京都中央区银座1-6-1 \n费用：免费入场 \n  \n【展览导言】\n从“绿野”仙踪说开来： \n东方美学的宗旨是尊崇自然与心象的契合。从“外师造化”的形神表现到“”中得心源”的情致表达，从尊重自然的规律到心性豁达的张扬使中国画有着其他画种无法比拟的高蹈境界。即是自然形质的描述又是关照人文的解析。\n徐丽霞近年的作品主是表现以中国各民族样貌特征所舒展开的人与自然的和谐共生。以人物形象和服饰装点的不同特色展示人们对生活美好的追求和不同地域形成的人文特点。\n人与自然是艺术创作亘古不变的主题。在大地上、山水间，不同气候和多样的生存环境中，各民族都有着独特的面对自然所给予的困难和馈赠，最终化作人类宝贵的物质和精神财富。\n“绿野仙踪”的主题是阐述人与自然和谐共生、融合互惠的艺术表现。“”绿野”代表人们以平和的心态、顽强的意志在自然中营造美好的家园。自然给了人们懒以生存的条件，人们将自然升华为美好的境界。\n各民族在和平、互助的社会环境下繁衍生息，人间即是仙境。从画面表达的真挚情感可以看出画家以追求至美的内心表现从维族的俊朗、藏民的质朴到壮乡的俊美、苗女的玲珑，无论自然风貌的异同都将是人们挚爱的热土。\n徐丽霞这类作品以各民族样貌特征、服饰特点为主要展现形质，以中国画传神写照手法创作的人物画作品将技术手段与艺术主旨完美统一在笔墨的汇聚里，展现在纸本的载体上。怡然自得的人物形象带给观者美的享受和内心期许的愿望。\n将受邀前往日本东京单向街书店举办徐丽霞画展的这批作品正是近期她以“绿野仙踪”为主题的一次画作展示。艺术无国界，希望得到日本热爱艺术的有识之士欣赏。画家有国界，希望这批有着中华民族艺术特质的作品受到好评。 \n王天禾乙已岁首于北京 \n  \n【艺术家介紹】\n \n徐丽霞  \n北京人，中国美术家协会会员，中国女画家协会会员， \n中国禅佛书画院委员，北京墨彩画院常务副院长，文化部中国画艺术创作院导师。 \n作品入选第八届全国美展以及多次入选中国美术家协会主办的全国性美术大展并获奖，在国家专业报刊杂志上发表，并被中南海、首都博物馆、北京美术家协会等中外艺术机构和个人收藏。 \n  \n艺术经历 \n作品《瑶乡三月》入选“第八届全国美展” \n作品《苗乡情》被中南海珍藏入编珍藏画集第二卷 \n作品《三月三》获“95中国体育书画大展”三等奖； \n1998年至2002年作品入选北京市美术作品展； \n作品《瑶乡金秋》入选第九届全国美展广西美术作品展览； \n作品《青苹果》入选“2004年全国中国画提名展”(中国美协主办)； \n作品《灵犀》入选纪念蒲松龄诞辰365周年中国画提名展(中国美协主办)； \n作品《苗乡亲事》入选“2015年全国中国画作品展”(中国美协主办)； \n作品《我欲因之梦家园》“中国梦-黄山魂”全国山水画作品展。(中国美协主办)； \n作品《青涩年华》入选“同心筑梦”第二届中国民族美术双年展(中国美协主办)； \n作品《新兵》入选首届“写意苏州”(人物篇)中国画双年展(中国美协主办)； \n作品《苗乡初春》参加。“心纳万境”首届国展美术名家邀请展； \n作品参加北京中日友好书画艺术交流展； \n作品参加“心象写意”中国画名家北京饭店展； \n作品参加“她~时代”中国当代女画家提名展； \n作品参加【翰墨丹青·匠心清韵】中国美术家协会会员五人精品展(北京)； \n作品《花语》入选时代华彩-首届中国女美术家作品展(中国女画家协会主办)； \n作品参加庆党的生日\,迎祖国华诞——中国画“心象写意”画家组精品展(山东青州)； \n作品参加全国政协礼堂“拥抱新时代 开启新征程”庆祝中华人民共和国成立70周年百名画家邀请展(北京)； \n作品参加江苏盐城现代美术馆【境由心造】中国画名家小品展。2023年在新加坡举办徐丽霞国画作品亚洲巡展 \n  \n  \n【作品展示】\n            \n———————————————————————————————————— \n如有任何问题，请随时联系致电0362630116。 \n【扫码成为单向街书店·东京银座店年费会员】 \n \n◎年费会员 会费：33\,000日元/年(含税) \n【会员权益】 \n１、专属年费会员卡 \n2、赠全品饮料券12张 \n3、免费参与书店活动 \n4、简体中文书购书7折
URL:https://one-way-street.com/zh/event/exhibition-2025-03-14/
LOCATION:One Way Street Tokyo\, 東京都中央区銀座1丁目6−1\, 東京\, Japan
ATTACH;FMTTYPE=image/png:https://one-way-street.com/wp-content/uploads/2025/03/イベントポスターのコピー-14.png
END:VEVENT
BEGIN:VEVENT
DTSTART;TZID=Asia/Tokyo:20250321T150000
DTEND;TZID=Asia/Tokyo:20250321T163000
DTSTAMP:20260423T233625
CREATED:20250319T110535Z
LAST-MODIFIED:20250319T113606Z
UID:7682-1742569200-1742574600@one-way-street.com
SUMMARY:[:zh]东八时区 当代艺术五人展[:]
DESCRIPTION:【活动主题】\n东八时区\n当代艺术五人展\n艺术家：张润萍、庞振勇、梁克刚、郭全红、马越 \n策展人：蓝京华 \n展期： 2025.3.21 FRI – 3.25 TUE \n  \n【艺术对话 活动信息】\n艺术对话嘉宾：张润萍、庞振勇、梁克刚、郭全红、马越、蓝京华 \n时间：2025年3月21日（周五）15:00-16:30 \n地点：单向街书店・东京银座店 \n东京都中央区银座1-6-1 \n费用：免费入场 \n  \n【作品展示】\n  \n庞振勇作品 \n  \n \n张润萍作品 \n  \n郭全红作品\n  \n \n马越作品 \n  \n \n梁克刚作品
URL:https://one-way-street.com/zh/event/exhibition-2025-03-21/
LOCATION:One Way Street Tokyo\, 東京都中央区銀座1丁目6−1\, 東京\, Japan
END:VEVENT
BEGIN:VEVENT
DTSTART;TZID=Asia/Tokyo:20250322T143000
DTEND;TZID=Asia/Tokyo:20250322T160000
DTSTAMP:20260423T233625
CREATED:20250308T114357Z
LAST-MODIFIED:20250310T131044Z
UID:7582-1742653800-1742659200@one-way-street.com
SUMMARY:[:zh]Asian Talk 146 《性事·政治家 歌舞伎町的人权主张》 李小牧新书分享会[:]
DESCRIPTION:【活动主题】\nAsian Talk 146\n《性事·政治家 歌舞伎町的人权主张》 \n李小牧新书分享会 \n  \n【活动简介】\n东京新宿歌舞伎町「不夜城」，牛郎织女的人权谁来发声？李小牧数次参选议员屡败屡战，去台湾观选受震撼教育，盼成日本连外桥梁！ \n开餐厅、写书、经营YT各有市场，李小牧如何又进入政治领域？为何与海外民运人士保持若即若离的关系？台湾「民主富二代」坐享其成？政治制度仍待实践！ \n  \n【嘉宾介紹】\n \n李小牧 \n日籍华人作家、政治人物，生于湖南长沙，因其畅销书自传《歌舞伎町案内人》而闻名日本，现任日中韩文化交流协会会长。李小牧自1988年起开始在东京歌舞伎町做娱乐向导（案内人）。 \n  \n【活动信息】\n嘉宾：李小牧 \n时间：2025年3月22日（周六）14:30-16:00 \n场所：单向街书店・东京银座店 \n东京都中央区银座1-6-1 \n形式：中文分享会・全席自由席（40席） \n本店活动席位为自由席，无指定座位，先到者优先选座。 \n———————————————————————————————————— \n【一般入场券】 \n费用：1500円 \n点击页面上方「Get Tickets」，进入预约页面，填写必要信息，完成支付。 \n※购票后不可取消、退款、转让，请提前确认好时间安排。 \n【当日券】 \n费用：1500円 \n可在活动当天于店内一楼柜台购票。 \n【年费会员入场券】 \n单向街书·东京银座店年费会员可免费参加本次活动。 \n点击下方「Going」，进入预约页面，填写必要信息，完成报名。 \n＊活动当日，请年费会员向工作人员提示会员卡，确认身份后入场＊ \n———————————————————————————————————— \n致来店参加的各位顾客 \n活动开始时间前30分钟起，开放入场。 \n如有任何问题，请随时联系致电0362630116。 \n———————————————————————————————————— \n【扫码成为单向街书店·东京银座店年费会员】 \n \n◎年费会员 会费：33\,000日元/年(含税) \n【会员权益】 \n１、专属年费会员卡 \n2、赠全品饮料券12张 \n3、免费参与书店活动 \n4、简体中文书购书7折
URL:https://one-way-street.com/zh/event/asian-talk-146-1/
LOCATION:One Way Street Tokyo\, 東京都中央区銀座1丁目6−1\, 東京\, Japan
ATTACH;FMTTYPE=image/png:https://one-way-street.com/wp-content/uploads/2025/03/李小牧分享.png
END:VEVENT
BEGIN:VEVENT
DTSTART;TZID=Asia/Tokyo:20250323T143000
DTEND;TZID=Asia/Tokyo:20250323T160000
DTSTAMP:20260423T233625
CREATED:20250310T045254Z
LAST-MODIFIED:20250323T065345Z
UID:7599-1742740200-1742745600@one-way-street.com
SUMMARY:[:zh]Asian Talk 147 在不可能中寻找一丝丝可能——在东京做简体中文出版的故事[:]
DESCRIPTION:【活动主题】\nAsian Talk 147\n在不可能中寻找一丝丝可能\n——在东京做简体中文出版的故事\n  \n【活动简介】\n“在日华人不读书？！” \n当下还有多少人读纸质书？ \n为什么会选择在东京做简体中文图书出版？ \n为什么说在东京做简体中文出版是“在不可能中寻找一丝丝可能”？ \n在东京做简体中文经历了哪些有趣的事情、艰难的事情、难忘的事情？ \n  \n在经历两年时间的市场调查、寻找和摸索之后，一个传统的出版人选择在东京做简体中文出版，他经历了怎样的心路历程？他是如何做的？这件事情前景如何？ \n“読道社”编集长張适之将会将这三年的摸索历程一一道来。如果您也对文化工作感兴趣，也对东京不断出现的书店、讲座、出版社……感兴趣，不妨来听听这背后的故事。 \n  \n【嘉宾介紹】\n \n張适之 \n出版人、“読道社”编集长。 \n曾在北京从事图书出版工作二十年，历任图书编辑、编辑部主任、策划总监、副社长等职务。 \n作为中国图书出版市场的观察者与亲历者，2021年移居东京之后，在海外创建简体中文出版社，从事“简体中文图书出版实验”。目前已经出版“存”系列图书6本。 \n  \n【相关作品】\n \n“読道社”出版的“存”系列作品 \n单向街书店好评销售中 \n  \n【活动信息】\n嘉宾：張适之 \n时间：2025年3月23日（周日）14:30-16:00 \n场所：单向街书店・东京银座店 \n东京都中央区银座1-6-1 \n形式：中文分享会・全席自由席（40席） \n本店活动席位为自由席，无指定座位，先到者优先选座。 \n———————————————————————————————————— \n【一般入场券】 \n费用：1500円 \n点击页面上方「Get Tickets」，进入预约页面，填写必要信息，完成支付。 \n※购票后不可取消、退款、转让，请提前确认好时间安排。 \n【当日券】 \n费用：1500円 \n可在活动当天于店内一楼柜台购票。 \n【年费会员入场券】 \n单向街书店·东京银座店年费会员可免费参加本次活动。 \n点击下方「Going」，进入预约页面，填写必要信息，完成报名。 \n＊活动当日，请年费会员向工作人员提示会员卡，确认身份后入场＊ \n———————————————————————————————————— \n致来店参加的各位顾客 \n活动开始时间前30分钟起，开放入场。 \n如有任何问题，请随时联系致电0362630116。 \n———————————————————————————————————— \n【扫码成为单向街书店·东京银座店年费会员】 \n \n◎年费会员 会费：33\,000日元/年(含税) \n【会员权益】 \n１、专属年费会员卡 \n2、赠全品饮料券12张 \n3、免费参与书店活动 \n4、简体中文书购书7折
URL:https://one-way-street.com/zh/event/asian-talk-147/
LOCATION:One Way Street Tokyo\, 東京都中央区銀座1丁目6−1\, 東京\, Japan
ATTACH;FMTTYPE=image/jpeg:https://one-way-street.com/wp-content/uploads/2025/03/cgi-bin_mmwebwx-bin_webwxgetmsgimg__MsgID5721723917961967768skey@crypt_2b6780f2_9e23c4d9921b67e41e4c096cfaae7405mmweb_appidwx_webfilehelper.jpg
END:VEVENT
BEGIN:VEVENT
DTSTART;TZID=Asia/Tokyo:20250330T143000
DTEND;TZID=Asia/Tokyo:20250330T160000
DTSTAMP:20260423T233625
CREATED:20250312T080330Z
LAST-MODIFIED:20250317T043125Z
UID:7625-1743345000-1743350400@one-way-street.com
SUMMARY:[:zh]Asian Talk 148 几个中国人为什么要拍“東京的小店”？[:en]Asian [:]
DESCRIPTION:【活动主题】\nAsian Talk 148\n几个中国人为什么要拍“東京的小店”？\n  \n【活动简介】\n東京，这座大都市以丰富多元而著称，大街小巷中隐藏着许多宝藏小店。 \n2024年9月，“東京的小店”在YouTube上线了，制作团队是几个中国人，刚来東京生活一年多，连日语都说不了几句。 \n那么，他们为什么要拍東店的小店？在他们的镜头里，东京人习以为常的小店，又有什么有趣的故事？ \n  \n【嘉宾介紹】\n\n金辉 \n从事纪录片工作二十多年 \n《十三邀》前五季监制 \n2017/2018/2019 东京纪录片提案大会（Tokyo Docs）决策人 \n2018/2019 阿姆斯特丹国际纪录片节（International Documentary Film Festival Amsterdam）提案大会决策人 \n  \n \nVicca \n纪录片导演，“東京的小店”制作人 \n  \n \nConley \n纪录片导演，“東京的小店”制作人 \n  \n【相关作品】\n \n东京的小店 – YouTube \n  \n\n团队花絮照 \n  \n【活动信息】\n嘉宾：金辉，Vicca，Conley \n时间：2025年3月30日（周日）14:30-16:00 \n场所：单向街书店・东京银座店 \n东京都中央区银座1-6-1 \n形式：中文分享会・全席自由席（40席） \n本店活动席位为自由席，无指定座位，先到者优先选座。 \n———————————————————————————————————— \n【一般入场券】 \n费用：1500円 \n点击页面上方「Get Tickets」，进入预约页面，填写必要信息，完成支付。 \n※购票后不可取消、退款、转让，请提前确认好时间安排。 \n【当日券】 \n费用：1500円 \n可在活动当天于店内一楼柜台购票。 \n【年费会员入场券】 \n单向街书店·东京银座店年费会员可免费参加本次活动。 \n点击下方「Going」，进入预约页面，填写必要信息，完成报名。 \n＊活动当日，请年费会员向工作人员提示会员卡，确认身份后入场＊ \n———————————————————————————————————— \n致来店参加的各位顾客 \n活动开始时间前30分钟起，开放入场。 \n如有任何问题，请随时联系致电0362630116。 \n———————————————————————————————————— \n【扫码成为单向街书店·东京银座店年费会员】 \n \n◎年费会员 会费：33\,000日元/年(含税) \n【会员权益】 \n１、专属年费会员卡 \n2、赠全品饮料券12张 \n3、免费参与书店活动 \n4、简体中文书购书7折
URL:https://one-way-street.com/zh/event/asian-talk-148/
LOCATION:One Way Street Tokyo\, 東京都中央区銀座1丁目6−1\, 東京\, Japan
ATTACH;FMTTYPE=image/png:https://one-way-street.com/wp-content/uploads/2025/03/イベントポスターのコピー-16.png
END:VEVENT
END:VCALENDAR