BEGIN:VCALENDAR
VERSION:2.0
PRODID:-//One Way Street Tokyo - ECPv6.6.2//NONSGML v1.0//EN
CALSCALE:GREGORIAN
METHOD:PUBLISH
X-ORIGINAL-URL:https://one-way-street.com/zh
X-WR-CALDESC:One Way Street Tokyo的活动
REFRESH-INTERVAL;VALUE=DURATION:PT1H
X-Robots-Tag:noindex
X-PUBLISHED-TTL:PT1H
BEGIN:VTIMEZONE
TZID:Asia/Tokyo
BEGIN:STANDARD
TZOFFSETFROM:+0900
TZOFFSETTO:+0900
TZNAME:JST
DTSTART:20240101T000000
END:STANDARD
END:VTIMEZONE
BEGIN:VEVENT
DTSTART;TZID=Asia/Tokyo:20241102T130000
DTEND;TZID=Asia/Tokyo:20241102T140000
DTSTAMP:20260424T070458
CREATED:20241014T103240Z
LAST-MODIFIED:20241015T055426Z
UID:5998-1730552400-1730556000@one-way-street.com
SUMMARY:[:zh]Asian Talk 105 《盐》劉国義 銀座個展[:]
DESCRIPTION:【活动主题】 \nAsian Talk 105 \n《盐》　劉国義 銀座個展 \n  \n【嘉宾介绍】 \n \n刘国义　Godwin Liu  \n现居北京，独立艺术家、策展人。 \n以梦境寻求本真的独立职业艺术家和艺术寓言化改造的践行者。 \n2024年7月，受联合国邀请参加高级别政治论坛（High Level Political Forumom\, HLPF2024），前往欧美游学 \n  \n作家主要活动节选 \n――个展―― \n2023 \n《无界 · INFINITY》双个展　新加坡品艺画廊 \n《灵知宇宙》刘国义个展 　北京国贸 梵悅108 \n2022 \n《元界密码・刘国义个展》　北京中粮广场 \n2021 \n《元宇宙的种子》　深圳木星美术馆 \n刘国义《太空天使》艺术IP全球首发　广州南丰国际会展中心 \n2020 \n《幻与弦 ~ 刘国义个展》　北京今日美术馆 \n  \n――境外联合展―― \n2024 小于两度计划 纽约联合国总部 \n2023 美国红点迈阿密艺术博览会 迈阿密玛纳会展中心 \n2022 韩、中、日ART国际艺术交流展  韩国光州美术馆 \n2020 台湾城市文化交流巡回展 台中文化中心、彰化美术馆、台南生活美学馆 \n2019 川崎国际艺术节 日本神奈川川崎花园美术馆 \n  \n【活动信息】 \n嘉宾：刘国义（独立艺术家）、蓝京华（策展人） \n展期：2024年11月02日 – 2024年11月06日 \n首日访谈：2024年11月02日 (周六)  13:00〜14:00 \n地点：单向街书店・东京银座店 \n东京都中央区银座1-6-1 \n形式：中语分享会・全席自由 \n—————— \n网上购票：海报二维码、官网主页 \n当日进场：门店柜台购票 \n– \n费用：免费 \n点击页面上方「Get Tickets」，填写必要信息完成支付。 \n※购票后不可取消、退款、转让，请提前确认好时间安排。 \n– \n单向街书店·东京银座店年费会员免费 \n点击下方「Going」，完成报名。 \n（会员将由工作人员确认身份后入场） \n—————— \n如有任何问题，请随时联系官方IG或致电0362630116。 \n \n◎扫码成为年费会员 33\,000日元/年(含税) \n【会员权益】 \n１、专属年费会员卡 \n2、赠全品饮料券12张 \n3、免费参与书店活动 \n4、简体中文书购书7折 \n  \n【活动介绍】 \n刘国义（Godwin Liu），1974年出生于安徽淮南，目前作为独立艺术家和策展人，在中国、日本、新加坡等地积极地进行艺术活动，其作品曾参与过美国红点迈阿密艺术博览会（2023）、川崎国际艺术节（2019）等各大国际性展览。刘国义的作品以其赤诚本真的艺术语言风格以及天马行空的想象力，赢得了海内外艺术爱好者以及收藏家们的喜爱。对其创作理念，本人曾如是描述： \n艺术是我入世之门。\n我的父亲仅有一只眼晴可以视物，他用这只眼晴看见了爱，也看见了光，艺术就是我的那只眼睛。\n我背负着生命之重前行，常在令人沮丧的现实之林中迷路。艺术是忧虑、压抑、痛苦的出口。我被喧器的媒介环境灼伤，艺术是甘甜的泉水和浩瀚的星空。\n艺术是我通往永恒的时空隧道。\n艺术即实践，近几年，我开始探索物质宇宙的边界，游走于无限的精神空间。我的校心关切从物欲的批判，转向灵知的复得。我有一张紫色的捕梦网，它能截获美之哲思。我将灵性注入形象，让它们带着年少时的无畏和期许，搭乘以想象力和创造力为燃料的飞船，前往无际的元宇宙。 \n本次展览《盐》为刘国义于单向街・东京银座店的首次展览，展览首日艺术家将来到现场，畅谈作品的世界观和创作历程等话题，期待各位的来场。
URL:https://one-way-street.com/zh/event/asian-talk105/
LOCATION:One Way Street Tokyo\, 東京都中央区銀座1丁目6−1\, 東京\, Japan
ATTACH;FMTTYPE=image/png:https://one-way-street.com/wp-content/uploads/2024/10/cgi-bin_mmwebwx-bin_webwxgetmsgimg__MsgID435790145206276639skey@crypt_2b6780f2_6f5e9ffc10e02404d4b8f475b52b4397mmweb_appidwx_webfilehelper.png
END:VEVENT
BEGIN:VEVENT
DTSTART;TZID=Asia/Tokyo:20241102T143000
DTEND;TZID=Asia/Tokyo:20241102T160000
DTSTAMP:20260424T070458
CREATED:20241014T080723Z
LAST-MODIFIED:20241014T081721Z
UID:5973-1730557800-1730563200@one-way-street.com
SUMMARY:[:zh]Asian Talk 106 所有的女性面对世界上所有的夜晚[:]
DESCRIPTION:【活动主题】 \nAsian Talk 106  \n所有的女性面对世界上所有的夜晚 \n \n  \n【嘉宾介绍】 \n \n嘉宾 李凤群 \n中国著名青年作家。2002年开始小说创作，中国作家协会会员。 \n著有《大江》《大风》《大野》《大望》等多部长篇。 \n曾获第三、第四届紫金山文学奖，安慰省首届鲁彦周文学奖长篇小说奖，2021年中国好书奖等多数奖项。 \n  \n \n对话人 林祁 \n作家，文学评论家，北京大学文学博士，厦门大学嘉庚学院教授。 \n著有《风骨与物哀之间——日本新华侨华人文学三十年》，诗集《唇边》等。 \n  \n【活动信息】 \n嘉宾：李凤群、林祁 \n时间：2024年11月02日 (周六)  14:30〜16:00 \n地点：单向街书店・东京银座店 \n东京都中央区银座1-6-1 \n形式：中语分享会・全席自由 \n—————— \n网上购票：海报二维码、官网主页 \n当日进场：门店柜台购票 \n– \n费用：免费 \n点击页面上方「Get Tickets」，填写必要信息完成支付。 \n※购票后不可取消、退款、转让，请提前确认好时间安排。 \n– \n单向街书店·东京银座店年费会员免费 \n点击下方「Going」，完成报名。 \n（会员将由工作人员确认身份后入场） \n—————— \n如有任何问题，请随时联系官方IG或致电0362630116。 \n \n◎扫码成为年费会员 33\,000日元/年(含税) \n【会员权益】 \n１、专属年费会员卡 \n2、赠全品饮料券12张 \n3、免费参与书店活动 \n4、简体中文书购书7折 \n  \n【活动介绍】 \n  2021年度“中国好书”奖得主李凤群长篇新作《月下》分享会 \n在本书中，作者通过心理和精神表征极其细腻复杂地表达了一位普通平凡的女性“余文真”在现代社会中半生的困境，她以尖锐的笔触深入当代女性的内心，聚焦中国平凡女性的精神历练之旅，书写她们在时代推动之下犹豫的尝试、孤独的觉醒和单枪匹马的惨烈抗争。 \n【中国作家网推荐语】 \n这是一部将一座小城与一个小人物进行交互性叙述的长篇小说。小说截取2008年到2022年之间的时间段，用一个小城市的繁荣、东迁及停滞和一个小人物的生长、疼痛与自省，利用婚姻亲情、时代物件和城市景观，完成对一个时代的记录。城市与人物是一对生命共同体，城市化的背后是关于人的成长，人在飞速发展的城镇化进程下不断调整姿势。作者试图扯开浪漫的糖衣，还原城市内里与人物心灵深处的沧桑变迁及救赎重生。
URL:https://one-way-street.com/zh/event/asian-talk106/
LOCATION:One Way Street Tokyo\, 東京都中央区銀座1丁目6−1\, 東京\, Japan
ATTACH;FMTTYPE=image/png:https://one-way-street.com/wp-content/uploads/2024/10/cgi-bin_mmwebwx-bin_webwxgetmsgimg__MsgID8638873164319542712skey@crypt_2b6780f2_27fd8f3008a48bc62f11b71a66a920fammweb_appidwx_webfilehelper.png
END:VEVENT
BEGIN:VEVENT
DTSTART;TZID=Asia/Tokyo:20241103T143000
DTEND;TZID=Asia/Tokyo:20241103T160000
DTSTAMP:20260424T070458
CREATED:20241014T085435Z
LAST-MODIFIED:20241014T235321Z
UID:5986-1730644200-1730649600@one-way-street.com
SUMMARY:[:ja]Asian Talk 107 中国小説•翻訳作品の魅力[:]
DESCRIPTION:对不起，此内容只适用于日文。
URL:https://one-way-street.com/zh/event/asian-talk107/
LOCATION:One Way Street Tokyo\, 東京都中央区銀座1丁目6−1\, 東京\, Japan
ATTACH;FMTTYPE=image/png:https://one-way-street.com/wp-content/uploads/2024/10/イベントポスター-2.png
END:VEVENT
BEGIN:VEVENT
DTSTART;TZID=Asia/Tokyo:20241103T190000
DTEND;TZID=Asia/Tokyo:20241103T203000
DTSTAMP:20260424T070458
CREATED:20241015T073644Z
LAST-MODIFIED:20241015T092012Z
UID:6026-1730660400-1730665800@one-way-street.com
SUMMARY:[:zh]Asian Talk 108 三十年，三大洲——从媒体、金融到艺术的东西方文化之旅[:]
DESCRIPTION:【活动主题】 \nAsian Talk 108  \n三十年，三大洲 \n从媒体、金融到艺术的东西方文化之旅 \n  \n【嘉宾介绍】 \n \n蒋璐阳 \n全球首屈一指的艺术界业内人士资讯和顾问平台The Baer Faxt（贝氏艺讯）总裁 \nEero Aarnio Originals董事会顾问 \n蒋璐阳在国际战略规划、公司管理运营和跨文化沟通等方面拥有超过二十多年的领导经验， \n其工作和生活经历跨越亚洲、美洲和欧洲的艺术、金融、媒体、及战略咨询等多个行业。 \n  \n【活动信息】 \n嘉宾：蒋璐阳 \n主持：Helen Sun \n时间：2024年11月03日（周日）19:00-20:30 \n地点：单向街书店・东京银座店 \n东京都中央区银座1-6-1 \n形式：中语讲座 \n—————— \n网上购票：海报二维码、官网主页 \n当日进场：门店柜台购票 \n– \n费用：1500日元 \n点击页面上方「Get Tickets」，填写必要信息完成支付。 \n※购票后不可取消、退款、转让，请提前确认好时间安排。 \n– \n单向街书店·东京银座店年费会员免费 \n点击下方「Going」，完成报名。 \n（会员将由工作人员确认身份后入场） \n—————— \n如有任何问题，请随时联系官方IG或致电0362630116。 \n \n◎扫码成为年费会员 33\,000日元/年(含税) \n【会员权益】 \n１、专属年费会员卡 \n2、赠全品饮料券12张 \n3、免费参与书店活动 \n4、简体中文书购书7折 \n  \n【活动介绍】 \n　　艺术商业领域资深人士蒋璐阳女士分享自己从媒体到金融再到艺术行业的传奇旅程。出生于中国、现居住在欧洲的蒋璐阳在三十年间，生活与职业生涯跨越亚、美、欧三大洲。在本次分享中，她将结合自己从16岁成为媒体记者、19岁成为国家电视台最年轻财经新闻主播，到国际金融、商业战略和艺术行业的传奇经历，分享在全球化背景下，如何通过文化交流与创新构建东西方之间的跨文化桥梁，推动艺术与商业的融合发展。同时，她将分享自己在异文化中如何持续地挖掘自我驱动的能量，实现自我的探寻与成长。
URL:https://one-way-street.com/zh/event/asian-talk108/
LOCATION:One Way Street Tokyo\, 東京都中央区銀座1丁目6−1\, 東京\, Japan
ATTACH;FMTTYPE=image/png:https://one-way-street.com/wp-content/uploads/2024/10/AT108-poster.png
END:VEVENT
BEGIN:VEVENT
DTSTART;TZID=Asia/Tokyo:20241109T143000
DTEND;TZID=Asia/Tokyo:20241109T160000
DTSTAMP:20260424T070458
CREATED:20241019T035741Z
LAST-MODIFIED:20241104T035435Z
UID:6063-1731162600-1731168000@one-way-street.com
SUMMARY:[:ja]Asian Talk 109 世界に誇る日本独自の「手帳文化」[:]
DESCRIPTION:对不起，此内容只适用于日文。
URL:https://one-way-street.com/zh/event/asian-talk-109/
LOCATION:One Way Street Tokyo\, 東京都中央区銀座1丁目6−1\, 東京\, Japan
ATTACH;FMTTYPE=image/jpeg:https://one-way-street.com/wp-content/uploads/2024/10/43d518e35548fddf68c330d467819e40.jpeg
END:VEVENT
BEGIN:VEVENT
DTSTART;TZID=Asia/Tokyo:20241110T143000
DTEND;TZID=Asia/Tokyo:20241110T160000
DTSTAMP:20260424T070458
CREATED:20241021T052628Z
LAST-MODIFIED:20241021T105521Z
UID:6095-1731249000-1731254400@one-way-street.com
SUMMARY:[:zh]AsianTalk110　日本职场如何避免“文化冲突” ——中日视角版“生存指南”[:]
DESCRIPTION:【活动主题】 \nAsianTalk110\n日本职场如何避免“文化冲突”\n——中日视角版“生存指南”\n  \n【嘉宾介绍】 \n \n陈功 \niHunter招聘学院创始人，20年来专注于人才招聘 \n支持100+公司完善招聘体系，1000+候选人转换工作 \n40岁后担任东京/上海“月飞”的斜杠创业者，40岁前担任500强HR/高管猎头/培训师 \n  \n  \n \n真野綾奈 \n株式会社initi代表取締役，现在主要从事企业培训及人才推荐业 \n前日立工程师，北大交换生，曾在台湾的华人企业工作4年 \n  \n【活动信息】 \n嘉宾：陈功（职场&人才专家）、真野綾奈（日语教育&全球人才专家） \n时间：2024年11月10日 (周日)  14:30〜16:00 \n地点：单向街书店・东京银座店 \n东京都中央区银座1-6-1 \n形式：中语分享会・全席自由 \n—————— \n网上购票：海报二维码、官网主页 \n当日进场：门店柜台购票 \n– \n费用：1500日元 \n点击页面上方「Get Tickets」，填写必要信息完成支付。 \n※购票后不可取消、退款、转让，请提前确认好时间安排。 \n– \n单向街书店·东京银座店年费会员免费 \n点击下方「Going」，完成报名。 \n（会员将由工作人员确认身份后入场） \n—————— \n如有任何问题，请随时联系官方IG或致电0362630116。 \n \n◎扫码成为年费会员 33\,000日元/年(含税) \n【会员权益】 \n１、专属年费会员卡 \n2、赠全品饮料券12张 \n3、免费参与书店活动 \n4、简体中文书购书7折 \n  \n【活动介绍】 \n华人如何应聘与选择日本企业？进入企业后哪些要特别注意？常见的“文化冲突”有哪些如何应对？ \n本次活动特邀职场达人真野綾奈与陈功老师，用中日互动的视角，为大家分享真实鲜活的日本职场。 \n活动亮点： \n1. 应聘与选择日本企业的123法则 \n2. 日本职场要/不要做的3件事 \n3. 越早知道越好的“文化冲突”与日式道地思路&做法
URL:https://one-way-street.com/zh/event/asian-talk110/
LOCATION:One Way Street Tokyo\, 東京都中央区銀座1丁目6−1\, 東京\, Japan
ATTACH;FMTTYPE=image/jpeg:https://one-way-street.com/wp-content/uploads/2024/10/cgi-bin_mmwebwx-bin_webwxgetmsgimg__MsgID1810451878483611569skey@crypt_2b6780f2_5b9c82e0f58cf9f8e575fed5be77bdf0mmweb_appidwx_webfilehelper.jpg
END:VEVENT
BEGIN:VEVENT
DTSTART;TZID=Asia/Tokyo:20241114T190000
DTEND;TZID=Asia/Tokyo:20241114T203000
DTSTAMP:20260424T070458
CREATED:20241028T102120Z
LAST-MODIFIED:20241029T100636Z
UID:6171-1731610800-1731616200@one-way-street.com
SUMMARY:[:zh]她故事——女性主题读书会 第八课｜本期主讲书籍：《虔诚的政治》[:]
DESCRIPTION:【活动主题】 \n她故事——女性主题读书会 第八课 \n本期主讲书籍：《虔诚的政治》 \n  \n从她者到她者\n——女性为自由的行动\n  \n【活动详情】 \n导读嘉宾 ：郭婷 \n读书会主持：孙海玉 \n  \n时间：2024年11月14日（周四）19:00-20:30 \n地点：单向街书店・银座店 \n东京都中央区银座1-6-1 \n形式：中文交流会 \n—————— \n费用：1500日元 \n单向街书店・银座店年费会员免费 \n网上购票：海报二维码、官网主页 \n当日进场：门店柜台购票 \n—————— \n– \n【网上购票】 \n点击页面上方「Get Tickets」，填写必要信息完成支付。 \n※购票后不可取消、退款、转让，请提前确认好时间安排。 \n– \n【单向街书店・银座店年费会员】 \n点击下方「Going」，完成报名。 \n（会员将由工作人员确认身份后入场） \n—————— \n如有任何问题，请随时联系官方IG或致电0362630116。 \n◎扫码成为年费会员 33\,000日元/年(含税) \n \n【会员权益】 \n１、专属年费会员卡 \n2、赠全品饮料券12张 \n3、免费参与书店活动 \n4、简体中文书购书7折 \n  \n【活动介绍】 \n缘起：“她故事”女性主题读书会 \n“女性如何在公共与私人领域安顿自己？” \n　　美国学者让・爱尔斯坦在其著作《公共的男人，私人的女人》中提出的这个议题，描述了女性的困境： \n　　无论在公共、抑或私人领域，女性承担的多重身份与责任，常常带来“不可承受之重”。女性要摆脱这种困境，不仅要从私人向公共领域转换，更要在个人生活与公共生活中寻找到自我的真实需求，以敏锐的感知力、强大的行动力以及宽广的创造力，去实现自己的生命意义。近年，经由图书出版的推动，女性议题得到越来越多的关注。 \n　　我们相信通过阅读书籍，可以追溯女性身份的历史建构，梳理女性议题的多元表达，揭开女性成长的困局，共情女性生命与个体经验的记述。 \n　　阅读，也许无法让我们抵达终点，但至少在开拓一条接近的路途。我们相信，通过共同的阅读与分享，我们在这条路上并不孤独。 \n这就是“她故事”女性主题读书会的缘起。 \n—————— \n这并非女性单一的读书会，因为我们相信，在“生而为人”的探寻中，女性与男性的追求是一致的； \n这又是一个女性主导的读书会，我们期待通过阅读与分享，创造女性之间的连接与友谊，最终找到自己。 \n  \n~本期篇目：《虔诚的政治》~ \n \n\nPolitics of Piety: The Islamic Revival and the Feminist Subject \nSaba Mahmood\, Princeton University Press\, 2005. \n\n　　《虔诚的政治》是一份关于埃及开罗清真寺中蓬勃发展的、基层女性敬虔派运动的民族志研究，是对伊斯兰文化政治的开创性分析。与那些旨在夺取或改变国家的有组织性伊斯兰活动不同，这是一场道德改革的运动，其正统实践通常被认为对埃及的政治格局无足轻重。作者Saba Mahmood对这些实践的引人注目的阐释挑战了这一假设，展示了在此类运动的背景下，伦理与政治是如何不可分割地联系在一起的。 \n　　这本书不仅是对伊斯兰复兴中一个关键但被广泛忽视的维度的敏感的民族志研究，同时也是对某些人用以审视这些运动的世俗自由主义假设的毫不妥协的批判。书中探讨了三个核心问题：道德改革运动如何帮助我们重新思考规范的自由主义政治？女性对这些运动核心的父权规范的遵循如何使女性主义理论中关于自由、能动性、权威和人类主体的关键假设地方化？关于伊斯兰主义者和他们的世俗批评者之间对身体宗教仪式的辩论的考虑，如何帮助我们理解身体形态与政治想象之间的概念关系？《虔诚的政治》是任何对伦理与政治、身体与性别、自由主义与后殖民主义交汇处的问题感兴趣的读者必读的书籍。 \n（翻译来源自出版社书籍介绍页，英文原文） \n  \n【嘉宾介绍】 \n \n 郭婷（导读嘉宾） \n郭婷，爱丁堡大学人类学硕士、宗教学博士。 \n现任香港中文大学文化与宗教系助理教授、《美国宗教学会期刊》书评编辑。 \n研究内容为东亚及亚裔群体的宗教、政治与性别。 \n她和几位朋友共同主持一档叫“时差”的华语播客。 \n  \n \n   孙海玉（读书会主持） \n编辑、译者、书店策展人
URL:https://one-way-street.com/zh/event/herstories8/
LOCATION:One Way Street Tokyo\, 東京都中央区銀座1丁目6−1\, 東京\, Japan
ATTACH;FMTTYPE=image/png:https://one-way-street.com/wp-content/uploads/2024/10/読書会.png
END:VEVENT
BEGIN:VEVENT
DTSTART;TZID=Asia/Tokyo:20241116T143000
DTEND;TZID=Asia/Tokyo:20241116T160000
DTSTAMP:20260424T070458
CREATED:20241019T033328Z
LAST-MODIFIED:20241021T034443Z
UID:6059-1731767400-1731772800@one-way-street.com
SUMMARY:[:ja]Asian Talk111 「可能性」としての「東アジア」とは何か[:]
DESCRIPTION:对不起，此内容只适用于日文。
URL:https://one-way-street.com/zh/event/asian-talk111/
LOCATION:One Way Street Tokyo\, 東京都中央区銀座1丁目6−1\, 東京\, Japan
ATTACH;FMTTYPE=image/png:https://one-way-street.com/wp-content/uploads/2024/10/cgi-bin_mmwebwx-bin_webwxgetmsgimg__MsgID3870967638854427770skey@crypt_2b6780f2_ba9c01fa339ad3f0152bc2a6369b5503mmweb_appidwx_webfilehelper.png
END:VEVENT
BEGIN:VEVENT
DTSTART;TZID=Asia/Tokyo:20241117T143000
DTEND;TZID=Asia/Tokyo:20241117T160000
DTSTAMP:20260424T070458
CREATED:20241025T084844Z
LAST-MODIFIED:20241027T061610Z
UID:6147-1731853800-1731859200@one-way-street.com
SUMMARY:[:ja]Asian Talk112 実例から学ぶ：不動産価値を高める方法――不動産投資の成功・失敗例、不動産購入時・後の注意事項[:]
DESCRIPTION:对不起，此内容只适用于日文。
URL:https://one-way-street.com/zh/event/asiantalk112/
LOCATION:One Way Street Tokyo\, 東京都中央区銀座1丁目6−1\, 東京\, Japan
ATTACH;FMTTYPE=image/jpeg:https://one-way-street.com/wp-content/uploads/2024/10/cgi-bin_mmwebwx-bin_webwxgetmsgimg__MsgID7728684460227111500skey@crypt_2b6780f2_dc64e1c812f99b7654eecdc27c4d570cmmweb_appidwx_webfilehelper.jpg
END:VEVENT
BEGIN:VEVENT
DTSTART;TZID=Asia/Tokyo:20241123T143000
DTEND;TZID=Asia/Tokyo:20241123T160000
DTSTAMP:20260424T070458
CREATED:20241111T042621Z
LAST-MODIFIED:20241111T054648Z
UID:6229-1732372200-1732377600@one-way-street.com
SUMMARY:[:zh]Asian Talk 113 日本创业的探索与实践 ——日本90后女性创业者从零到一的创业分享[:]
DESCRIPTION:【活动主题】 \nAsian Talk 113\n日本创业的探索与实践\n——日本90后女性创业者从零到一的创业分享\n  \n【嘉宾介绍】 \n\n谢继香\nzero&one株式会社 代表取缔役\n一般社团法人GHH 理事长 \n早稻田大学硕士，曾就职日企和外资咨询，2019年全职创业 \n公司位于新宿区高田馬場及早稻田大学校内，员工30余名 \n业务涉及国际人才介绍派遣、中日养老福祉设施投资运营、国家政府委托项目运营等。 \n  \n【活动信息】 \n~嘉宾~ \n谢继香 \n时间：2024 年11 月 23 日（土）14:30-16:00 \n地址：东京都中央区银座1-6-1 \n中文分享会·全席自由（40席） \n—————— \n网上购票：海报二维码、官网主页当日进场：门店柜台购票 \n– \n费用：1500 日元 \n点击页面上方「Get Tickets」，填写必要信息完成支付。 \n※购票后不可取消、退款、转让，请提前确认好时间安排。 –\n单向街书店·东京银座店年费会员免费点击下方「Going」，完成报名。\n（会员将由工作人员确认身份后入场） \n—————— \n如有任何问题，请随时联系官方 IG 或致电 0362630116。 \n◎扫码成为年费会员 33\,000 日元/年(含税) \n \n【会员权益】 \n１、专属年费会员卡\n2、赠全品饮料券 12 张 \n3、免费参与书店活动 \n4、简体中文书购书 7 折 \n  \n【活动介绍】 \n　本讲座邀请到在日本生活11年、并创业五年的90后女性创业者谢继香社长担任讲师，与大家分享她在日本的创业实战经验。\n谢继香社长讲师于2013年来日，就读早稻田大学，随后在日本企业和外资咨询公司工作。留学工作期间，她通过持续探索积累了丰富经验，于2019年全职创业。公司位于高田马场站附近与早稻田大学校内，拥有30余名员工，从事国际人力资源人才介绍派遣、养老福祉设施的投资运营及中日企业的出海咨询业务，与众多日本高校，大手企业建立合作服务及合资关系，促进了众多国际交流合作及服务发展。 \n通过这次讲座，讲师将结合自身的学习和创业经历，与大家分享如何在日本找到适合的创业方向，并介绍如何在日常生活中积累创业所需的技能与资源，为未来的事业奠定坚实基础。此外，她还将分享如何与日本本地企业和商业伙伴建立信任关系，创造更多的合作机会与支持。 \n讲座还将提醒在创业过程中需要注意和避免的“坑”，从团队建设、文化差异到市场风险等方面深入分析创业中可能遇到的挑战和教训，为听众提供实际可行的建议。 \n希望通过本次分享，为在日本有创业意向的朋友带来新的启发，帮助大家充分利用自身优势，迈出日本创业的第一步。
URL:https://one-way-street.com/zh/event/asian-talk113/
LOCATION:One Way Street Tokyo\, 東京都中央区銀座1丁目6−1\, 東京\, Japan
ATTACH;FMTTYPE=image/png:https://one-way-street.com/wp-content/uploads/2024/11/AT113-POSTER.png
END:VEVENT
BEGIN:VEVENT
DTSTART;TZID=Asia/Tokyo:20241123T180000
DTEND;TZID=Asia/Tokyo:20241123T200000
DTSTAMP:20260424T070458
CREATED:20241119T053936Z
LAST-MODIFIED:20241120T105912Z
UID:6306-1732384800-1732392000@one-way-street.com
SUMMARY:[:zh]【LI-PI】Soul of the Joker 小丑的灵魂之乐[:ja]【LI-PI】Soul of the Joker[:]
DESCRIPTION:【活动主题】 \nSoul of the Joker\n小丑的灵魂之乐\n  \n【嘉宾介绍】 \n \nDJ・马迟 \n莱蒎黑胶唱片创始人 、唱片发行人、唱机设计师 \n共轴反桨直升机传动结构工程师。 \n2009年，在北京798艺术区创立莱蒎黑胶唱片Li-Pi Records。 \n一直致力于保护和发展黑胶及其衍生文化。创立以来的15年里，在中国、日本、韩国、希腊以及美国等地展开音乐探索。2023年在银座单向街书店开设了唱片专区，尝试跨主题与形式的黑胶与文学、绘画的艺术活动。 \n  \n调酒师・ Tero \n东京艺术大学艺术管理专业研究生、前某酒吧老板、艺术项目策划。 \n  \n【活动信息】 \nDJ・马迟 \n调酒师 ・Tero \n时间：2024年11月23日（周六）18:00-20:00 \n地点：単向街書店・銀座店 \n地址：東京都中央区銀座1-6-1 \n参与方式：当日直接入场 \n费用：入场免费（请支持一杯饮品） \n形式：音乐分享会・鸡尾酒会・全席自由 \n—————— \n如有任何问题，请随时联系官方IG或致电0362630116。 \n \n◎扫码成为年费会员 33\,000日元/年(含税) \n【会员权益】 \n１、专属年费会员卡 \n2、赠全品饮料券12张 \n3、免费参与书店活动 \n4、简体中文书购书7折 \n  \n【活动介绍】 \n悲剧，喜剧，正剧，闹剧都在冷静的生活中隐没。聚光灯下翻开的日记第一次在他乡朗读着旧的希望和新的生活；漂亮的姑娘为了躲避网络凝视，认真给好朋友贴上不同的分享标签；只喜欢妈妈的大猫已经成年仍然不能接受爸爸；采访马戏团的记者被逗得大笑不已，穿上彩色的裤子被孩子们追着跑。下定决心，放弃本来安定的生活，放声大笑。 \n  \n被电影《Joker: Folie à Deux》所深深感动，DJ 马迟寻找了影片中翻唱改编的原版歌曲，它们是厚厚的一摞跨越了近100年的黑胶唱片，灵魂乐在不同时代中鼓励着陷入焦灼的人们。 \n这个初冬微寒的夜晚DJ和调酒师变身为小丑用音乐和美酒带来双重疯狂。
URL:https://one-way-street.com/zh/event/soul-of-the-joker/
LOCATION:One Way Street Tokyo\, 東京都中央区銀座1丁目6−1\, 東京\, Japan
ATTACH;FMTTYPE=image/jpeg:https://one-way-street.com/wp-content/uploads/2024/11/adecdd44a23906f496e5de9aa6a6ba00.jpeg
END:VEVENT
BEGIN:VEVENT
DTSTART;TZID=Asia/Tokyo:20241124T143000
DTEND;TZID=Asia/Tokyo:20241124T160000
DTSTAMP:20260424T070458
CREATED:20241030T064257Z
LAST-MODIFIED:20241031T112352Z
UID:6192-1732458600-1732464000@one-way-street.com
SUMMARY:[:zh]Asian Talk 114　新媒体崛起下“去现场”的意义 暨纪实文学作品《现场》分享会[:]
DESCRIPTION:【活动主题】 \nAsian Talk 114　新媒体崛起下“去现场”的意义 \n暨纪实文学作品《现场》分享会 \n【嘉宾介绍】 \n \n何润锋 \n资深媒体人，曾先后在凤凰卫视与中央电视台工作，报道过利比亚战争、缅北内战、尼泊尔内战、以黎战争、汶川大地震、日本“3•11”大地震、北京奥运会、伦敦奥运会、江歌案庭审等重大事件，曾当选《新周刊》中国最佳电视记者。现为腾讯新闻首席节目主理人，制作节目包括《巅锋问答》《从何说起》《无人知晓》《秃然发生》《一个人的音乐会》等，个人播客《无穷之地》。英国牛津大学访问学者，日本文化会馆访问学者。 \n【活动信息】 \n嘉宾：何润锋 \n时间：2024年11月24日（日）14:30-16:00 \n地点：单向街书店・东京银座店 \n东京都中央区银座1-6-1 \n形式：中文分享会・全席自由 \n—————— \n网上购票：海报二维码、官网主页 \n当日进场：门店柜台购票 \n– \n费用：1500日元 \n点击页面上方「Get Tickets」，填写必要信息完成支付。 \n※购票后不可取消、退款、转让，请提前确认好时间安排。 \n– \n单向街书店·东京银座店年费会员免费 \n点击下方「Going」，完成报名。 \n（会员将由工作人员确认身份后入场） \n—————— \n如有任何问题，请随时联系官方IG或致电0362630116。 \n◎扫码成为年费会员 33\,000日元/年(含税) \n  \n \n【会员权益】 \n１、专属年费会员卡 \n2、赠全品饮料券12张 \n3、免费参与书店活动 \n4、简体中文书购书7折 \n【活动介绍】 \n在传统媒体日渐没落、新媒体迅速崛起的当下，很多人仅靠一部手机就能成为事件信息的发布者、接收者、传播者。在这一背景下，越来越多的人开始质疑：我们还需要专业记者去现场采访报道吗？何润锋将结合个人的采访经历和书中内容，与大家分享这一话题。 \n【相关作品】 \n \n《现场》 \n作者：何润锋 \n出版时间：2024年9月 \n出版社：贵州人民出版社 \n何润锋曾报道过众多重要的国际突发事件如利比亚战争、缅北内战、巴基斯坦大地震、以黎战争等等，对世界风云有独到而清晰的见解。在《现场》这本书中，他以第一视角，记录下自己进入伊拉克、巴基斯坦、尼泊尔、利比亚、以色列、缅甸六国核心区进行战地与灾区报道的经历。书中囊括了何润锋在前线的各类独家采访中与重量级、传奇性国际人物的精彩对谈，以及采访期间大量不为人知的见闻，展示了战争与灾难给底层人民带来的颠沛流离、国际新闻工作中复杂的生态环境，为大众延展出对战争与灾难更广阔的讨论空间。
URL:https://one-way-street.com/zh/event/asian-talk-114/
LOCATION:One Way Street Tokyo\, 東京都中央区銀座1丁目6−1\, 東京\, Japan
ATTACH;FMTTYPE=image/png:https://one-way-street.com/wp-content/uploads/2024/10/イベントポスター-6.png
END:VEVENT
BEGIN:VEVENT
DTSTART;TZID=Asia/Tokyo:20241130T143000
DTEND;TZID=Asia/Tokyo:20241130T160000
DTSTAMP:20260424T070458
CREATED:20241115T033340Z
LAST-MODIFIED:20241120T105602Z
UID:6260-1732977000-1732982400@one-way-street.com
SUMMARY:[:zh]Asian Talk115 欲の華-陈韦伶东京个展　在欲望探索中绘画[:]
DESCRIPTION:【活动主题】 \n陈韦伶东京个展\n欲の華\n展期：2024.11.25/MON ~ 12.8/SUN \n策展人：指月亮 \n在欲望探索中绘画 \nAsian Talk 115\n画家座谈\n在欲望探索中绘画\n嘉宾：陈韦伶 \n2024.11.30/SAT \n2:30PM-4:00PM \n  \n  \n【嘉宾介绍】 \n \n陈韦伶 \n女，1993年出生，中国画家，2016年毕业于广州美术学院，曾以访谈嘉宾身份出席伊能静《静话集》节目。 \n以油画为载体，中式的色彩语言，探索“性”主题创作\,其中画面多以思考女性的“性”为主\,意在表达现今社会中女性在性方面的自我探索。 \n  \n  \n【活动信息】 \n嘉宾：陈韦伶 \n时间：2024年11月30日（土）14:30-16:00 \n地点：单向街书店・东京银座店 \n东京都中央区银座1-6-1 \n形式：中文分享会・全席自由 \n—————— \n网上购票：海报二维码、官网主页 \n当日进场：门店柜台购票 \n– \n费用：免费 \n点击页面上方「Get Tickets」，填写必要信息完成支付。 \n※购票后不可取消、退款、转让，请提前确认好时间安排。 \n– \n单向街书店·东京银座店年费会员免费 \n点击下方「Going」，完成报名。 \n（会员将由工作人员确认身份后入场） \n—————— \n如有任何问题，请随时联系官方IG或致电0362630116。 \n \n◎扫码成为年费会员 33\,000日元/年(含税) \n【会员权益】 \n１、专属年费会员卡 \n2、赠全品饮料券12张 \n3、免费参与书店活动 \n4、简体中文书购书7折 \n  \n  \n【展览介绍】 \n“干干净净，华丽唯美”是中国古典文学的情爱意境，亦是陈韦伶的画作留给人的感觉。 \n红尘，本该是浓烈而浑浊的，翻滚着人性的欲念。她却用低饱和的中国古画色彩去描绘炙热，让激烈的情感化作一股温柔的力量。性，可以柔情似水，也可以洁净清澈。 \n而画中的主角，多为女子。让女性成为快乐的主体，是陈韦伶近期加入的思考与表达。“我很想为女性「出走」，增添一些新的故事。它不一定是疼痛壮烈的，它也可以是春风细雨、润物无声的。” \n不是所有的爱欲，都要被冠以禁忌之名。把愉悦看作自然，而非羞丑，是从古典文学经典中流淌下的“真”和“美”。 \n以女性的书写去剖析性的故事，以主导者的视角探索身体欲望，这是属于中国乃至东亚女性新的篇章。 \n  \n  \n【相关作品】 \n \n《珍珠》 \n创作年份：2024 \n材质：布面油画 \n尺寸：40*40cm \n  \n \n《玉面难掩》 \n创作年份：2023 \n材质：木板油画 \n尺寸：25*25cm \n  \n \n《摇摇曳曳》 \n创作年份：2024 \n材质：布面油画 \n尺寸：40*40cm
URL:https://one-way-street.com/zh/event/asian-talk-115-2/
LOCATION:One Way Street Tokyo\, 東京都中央区銀座1丁目6−1\, 東京\, Japan
ATTACH;FMTTYPE=image/jpeg:https://one-way-street.com/wp-content/uploads/2024/11/7faf866fea8c61cb453ca0b0e6812c2e-scaled.jpeg
END:VEVENT
END:VCALENDAR