BEGIN:VCALENDAR
VERSION:2.0
PRODID:-//One Way Street Tokyo - ECPv6.6.2//NONSGML v1.0//EN
CALSCALE:GREGORIAN
METHOD:PUBLISH
X-ORIGINAL-URL:https://one-way-street.com/zh
X-WR-CALDESC:One Way Street Tokyo的活动
REFRESH-INTERVAL;VALUE=DURATION:PT1H
X-Robots-Tag:noindex
X-PUBLISHED-TTL:PT1H
BEGIN:VTIMEZONE
TZID:Asia/Tokyo
BEGIN:STANDARD
TZOFFSETFROM:+0900
TZOFFSETTO:+0900
TZNAME:JST
DTSTART:20240101T000000
END:STANDARD
END:VTIMEZONE
BEGIN:VEVENT
DTSTART;TZID=Asia/Tokyo:20240803T143000
DTEND;TZID=Asia/Tokyo:20240803T160000
DTSTAMP:20260424T103037
CREATED:20240720T032202Z
LAST-MODIFIED:20240723T075505Z
UID:5044-1722695400-1722700800@one-way-street.com
SUMMARY:[:zh]Asian Talk 074 如何选择高收益不动产[:ja]Asian Talk 074  儲かる不動産の選び方[:]
DESCRIPTION:【活动主题】 \nAsian Talk 074 \n如何选择高收益不动产 \n  \n【活动详情】 \n嘉宾：酒井康夫 \n\n2024年8月3日（周六）14：30～16：00 \n会场：单向街书店・银座店 \n地址：东京都中央区银座1-6-1 \n\n日文分享会·有中文翻译·全席自由（40席） \n—————— \n费用：1500日元 \n单向街书店・银座店年费会员免费 \n网上购票：海报二维码、官网主页 \n当日进场：门店柜台购票 \n—————— \n– \n【网上购票】 \n点击页面上方「Get Tickets」，填写必要信息完成支付。 \n※购票后不可取消、退款、转让，请提前确认好时间安排。 \n– \n【单向街书店・银座店年费会员】 \n点击下方「Going」，完成报名。 \n（会员将由工作人员确认身份后入场） \n—————— \n如有任何问题，请随时联系官方IG或致电0362630116。 \n◎扫码成为年费会员 33\,000日元/年(含税) \n \n【会员权益】 \n１、专属年费会员卡 \n2、赠全品饮料券12张 \n3、免费参与书店活动（部分除外） \n4、简体中文书购书7折 \n  \n【活动介绍】 \n想进入收益型房地产投资的世界，并解开选择优质物业的秘密吗？在此次活动中，我们邀请了在房地产行业拥有超过20年经验的注册房地产经纪人酒井康夫先生，为大家分享如何选择收益型物业以及识别可靠的房地产经纪人的经验和见解。 \n本次讲座将涵盖收益型物业的种类和选择方法，以及如何选择有潜力的不动产。无论您是初学者还是经验丰富的投资者，都能在本次活动中获得有益的知识和实用的建议。 \n通过专家的分享，学习智慧的投资方法，我们一起探索收益型房地产投资的奥秘。期待您的参与！ \n  \n【嘉宾介绍】 \n \n｜酒井 康夫 \n东京都出身，不动产行业从业20年，宅地建物取引主任士，3个孩子的父亲。不动产买卖为主，擅长特殊不动产的处理。
URL:https://one-way-street.com/zh/event/asian-talk-074/
LOCATION:One Way Street Tokyo\, 東京都中央区銀座1丁目6−1\, 東京\, Japan
ATTACH;FMTTYPE=image/png:https://one-way-street.com/wp-content/uploads/2024/07/991721446223_.pic_hd.png
END:VEVENT
BEGIN:VEVENT
DTSTART;TZID=Asia/Tokyo:20240803T180000
DTEND;TZID=Asia/Tokyo:20240803T200000
DTSTAMP:20260424T103037
CREATED:20240729T225339Z
LAST-MODIFIED:20240801T010906Z
UID:5109-1722708000-1722715200@one-way-street.com
SUMMARY:[:zh]Chanson Vinyl Soirée  巴黎香颂黑胶唱片之夜[:ja]Chanson Vinyl Soirée  シャンソンレコードの夜[:]
DESCRIPTION:【活动主题】 \nChanson Vinyl Soirée \n巴黎香颂黑胶唱片之夜 \n  \n【活动详情】 \nDJ MaChi \n调酒师 谢鹏斐 \n  \n2024年8月3日（周六）18:00～20:00 \n会场：单向街书店・银座店 \n地址：东京都中央区银座1-6-1 \n音乐分享会・鸡尾酒会・朗读会・中日双语现场翻译・全席自由 \n—————— \n费用：免费 （请支持一杯饮品） \n网上预约：海报二维码、官网主页 \n  \n【网上预约】 \n点击活动页面下方「Going」，完成报名。 \n如有任何问题，请随时联系官方IG或致电0362630116。 \n \n◎扫码成为年费会员 33\,000日元/年(含税) \n【会员权益】 \n１、专属年费会员卡 \n2、赠全品饮料券12张 \n3、免费参与书店活动（部分除外） \n4、简体中文书购书7折 \n【活动介绍】 \n2024年巴黎奥运会盛大开幕，多元艺术的开幕式充满了巴黎人的浪漫与自由。香颂，亦称法国小调，从中世纪吟唱至今，历久弥新。在这仲夏夜，我们举杯同庆，聆听那红白蓝的旋律，畅想与回忆，从那些珍藏多年的首版黑胶唱片中穿越而来。 \n  \n \n  \n【嘉宾介绍】 \n \n｜马迟 \n莱蒎黑胶唱片创始人，唱机设计师，唱片出版人。 \n  \n【法语朗读/歌者征集】 \n会法语的朋友们，欢迎报名参加我们的表演活动，无论是朗诵诗歌散文，还是演唱香颂。报名请私信DJ马迟。
URL:https://one-way-street.com/zh/event/lipi-chanson/
LOCATION:One Way Street Tokyo\, 東京都中央区銀座1丁目6−1\, 東京\, Japan
ATTACH;FMTTYPE=image/jpeg:https://one-way-street.com/wp-content/uploads/2024/07/2551722314180_.pic_hd.jpg
END:VEVENT
BEGIN:VEVENT
DTSTART;TZID=Asia/Tokyo:20240804T143000
DTEND;TZID=Asia/Tokyo:20240804T160000
DTSTAMP:20260424T103037
CREATED:20240728T093621Z
LAST-MODIFIED:20240730T035846Z
UID:5099-1722781800-1722787200@one-way-street.com
SUMMARY:[:zh]Asian Talk 075  在人生的牧道上转场——索南才让《野色》新书分享暨作者创作谈[:]
DESCRIPTION:【活动主题】 \nAsian Talk 075 \n在人生的牧道上转场——索南才让《野色》新书分享暨作者创作谈 \n  \n【活动详情】 \n嘉宾：索南才让、立松升一 \n主持：天一 \n  \n2024年8月4日（周日）14：30～16：00 \n会场：单向街书店・银座店 \n地址：东京都中央区银座1-6-1 \n中文分享会·全席自由（40席） \n—————— \n入场免费 \n网上报名：海报二维码、官网主页 \n当日报名：门店柜台 \n—————— \n【点击下方「Going」，完成报名。】 \n—————— \n如有任何问题，请随时联系官方IG或致电0362630116。 \n◎扫码成为年费会员 33\,000日元/年(含税) \n \n【会员权益】 \n１、专属年费会员卡 \n2、赠全品饮料券12张 \n3、免费参与书店活动（部分除外） \n4、简体中文书购书7折 \n  \n【活动介绍】 \n如果你看过索南的文字，一定会在他作家的身份之前添加一个“生于草原，书写草原”的标签。在他笔下，牛既懂感恩，又会记仇；死亡往往像一帧慢镜头，壮烈而又无常；马永远是诗意的存在；而年轻的牧人为爱情欢喜，时而悲情又孤独。 \n索南的作品不仅仅是文学，更是草原生活、草原人心灵的真实记录。他用粗粝简洁的语言，捕捉平凡却深刻的瞬间。 \n8 月 4 日（周日）14:30-16:00，索南将来到单向街书店·东京银座店，亲自讲述他从牧民到作家身份的人生转场，从其首部长篇小说《野色》出发，分享作品的创作历程与幕后故事，带领我们重回生命原初的游牧状态，并和中国近当代小说翻译家立松升一畅谈中日文学、文化的交流互鉴，与人生的远方和自在转场。期待您的到来。 \n  \n【嘉宾介绍】 \n \n｜索南才让 \n蒙古族，1985年1月出生于中国青海省的托勒草原，十二岁辍学，十五岁外出工作，先后从事餐饮服务、保安、铁道工、兽医、现代雕塑、管理员、经营牧场等工作，现为职业作家。代表作品《荒原上》《巡山队》《找信号》。 \n2022年获得第八届鲁迅文学奖。2023年作为中方代表作家，出席由大江健三郎先生所倡导的中日青年作家会议，受到一行日本作家关注；有小说《在辛哈那登》《找信号》日文版在日本文学期刊《小说导热体》等发表，另有与日本作家朝吹真理子女士的互往信件在日中两国的著名文学期刊《三田文学》和《当代》同时发表。2024年8月至9月，受到日本国际交流基金邀请在日进行为期两个月的文化交流。 \n  \n \n｜立松升一 \n1948年生。原拓殖大学教授、研究中国近现代文学、中国文化史等。 \n现为中国当代小说日译杂志《小说导热体》主编，有译作《疫病神ーー莫言短篇小说集》、李修文《裸奔指南》、毕飞宇《蛐蛐蛐蛐》等。 \n  \n \n｜天一 \n藤泽周平《桥物语》译者、文学硕士 \n  \n【相关图书】 \n \n《野色》 \n作者： 索南才让 \n出品方：大方 \n出版社：中信出版社 \n出版年：2024-7 \n  \n在某年的放牧转场中，莽撞自大的年轻牧人那仁的一头母牛在路上产犊，艰难地生下了“小妖”——一头长着一双不祥的人眼并且有智慧、能思考的公牛。\n小妖的母亲因为生小妖而大出血，被那仁毫不留情地抛弃。小妖为自己的母亲流泪悲伤，为自己的族群深感失望，对自己的身份产生了无比沉痛的思考，并对那仁产生了复杂强烈的仇恨。在不断出走又被寻回的过程中，它渐渐明白了生活的意义不在过去，而是为了当下与未来。\n而对那仁来说，和这头牛一同到来的，是自己与好友被卷入和远方邂逅的陌生女子之间纠缠不断的情感旋涡中。大地苍茫，原野无边，孤独如影，欲壑难填……
URL:https://one-way-street.com/zh/event/asian-talk-075/
LOCATION:One Way Street Tokyo\, 東京都中央区銀座1丁目6−1\, 東京\, Japan
ATTACH;FMTTYPE=image/png:https://one-way-street.com/wp-content/uploads/2024/07/8月4日（日）1430-1600.png
END:VEVENT
BEGIN:VEVENT
DTSTART;TZID=Asia/Tokyo:20240811T143000
DTEND;TZID=Asia/Tokyo:20240811T160000
DTSTAMP:20260424T103037
CREATED:20240806T050513Z
LAST-MODIFIED:20240806T073328Z
UID:5211-1723386600-1723392000@one-way-street.com
SUMMARY:[:zh]Asian Talk 083 雨果的假期 上映会&交流会[:]
DESCRIPTION:【活动主题】 \nAsian Talk 083 \n雨果的假期 \n  \n【活动详情】 \n~嘉宾~ \n场外连线：顾桃（中国纪录片电影导演） \n蓝京华（艺术家、策展人） \n  \n2024年8月11日（周日）14：30～16：00 \n会场：单向街书店・银座店 \n地址：东京都中央区银座1-6-1 \n中文分享会·全席自由（40席） \n—————— \n费用：1500日元 \n单向街书店・银座店年费会员免费 \n网上预约：海报二维码、官网主页 \n当日进场：门店柜台购票 \n—————— \n– \n【网上购票】 \n点击页面上方「Get Tickets」，填写必要信息完成支付。 \n※购票后不可取消、退款、转让，请提前确认好时间安排。 \n– \n【单向街书店・银座店年费会员】 \n点击下方「Going」，完成报名。 \n（会员将由工作人员确认身份后入场） \n—————— \n如有任何问题，请随时联系官方IG或致电0362630116。 \n◎扫码成为年费会员 33\,000日元/年(含税) \n \n【会员权益】 \n１、专属年费会员卡 \n2、赠全品饮料券12张 \n3、免费参与书店活动（部分除外） \n4、简体中文书购书7折 \n  \n【活动介绍】 \n\n顾桃出生于内蒙古呼伦贝尔大草原，在这个被森林包围的边陲小镇里，由于从小受到父亲的熏陶和感染，顾桃对美术有着浓厚的兴趣，加之与生俱来的天赋，21岁那年，顾桃为自己选择了一条艺术之路。很多人以为顾桃应该继续这种平面摄影之路，并将“观念摄影”和“主题摄影”进行到底。然而，“不走寻常路”才是他人生最真实的写照。\n\n\n\n\n这些年，顾桃过着“在路上”的游牧生活，走过新疆、内蒙古、黑龙江，与陌生人相遇，拍摄记录北方边境的人们。此时的顾桃52岁，在纪录片拍摄之路上行走了20年。30岁前做过北漂，30多岁后回归故乡，重拾父亲顾德清的《猎民生活日记》，那是父亲在上世纪80年代深入森林，用图片和文字记录的鄂伦春族和鄂温克族的狩猎生活。《猎民生活日记》将顾桃带到了森林，那之后，他的人生才恍然间有了重心，浮萍般无根的生活向大地深处扎下根去。他还走出父亲开拓的疆域，走向更广阔辽远的北方，用镜头记录北方边地广大的民族与世界。沿着中国的北方边境，他走出了漫长的足迹，记录了蒙古族、哈萨克族、藏族等少数民族的生存与生活、精神与世界。\n\n\n\n\n遥想20年前，顾桃拎着自己的DV来到大兴安岭，走近大山深处的鄂温克族，跟着使鹿部落最后的族人一起上山时，他并不知道自己到底能拍出什么。他跟着他们进入森林，森林里的寂静与幽远就像梦，让人坠入其中。迁徙，是鄂温克人的传统，随着驯鹿和猎物，哪里适合就在哪里安家。鄂温克人就像森林的孩子，一进去就变得舒展自在，他断断续续拍了7年，从积累的大量素材里剪出了使鹿部落三部曲：《敖鲁古雅·敖鲁古雅》《雨果的假期》和《犴达罕》。其中《雨果的假期》获得2011年日本山形电影节“亚洲新浪潮”单元的最高奖——小川绅介奖。\n\n\n此次，单向街书店·东京银座店将特别开展作品《雨果的假期》的线下展映会。展映结束后，艺术家、策展人蓝京华老师将带领我们与特邀嘉宾顾桃导演展开交流连线，聊聊作品中的酗酒的妈妈，诗意的舅舅，纯净的族人，熟悉又陌生的森林，在城市里长大的，有些不知所措的雨果。 \n\n  \n【嘉宾介绍】 \n \n｜顾桃 \n生于内蒙古呼伦贝尔。1992-1995年就读于内蒙古艺术学院绘画系；2000-2002年在北京中国艺术研究院修习摄影。18岁走出森林，开始绘画，用纪录片和自由生活的方式进行实践，从2005年开始纪录片创作，以“关注北方少数民族在当下社会的生存状况、精神状态”为主题，拍摄了《敖鲁古雅·敖鲁古雅》《神·翳》《乌鲁布铁》《雨果的假期》《犴达罕》等北方民族题材的纪录片。2013年出版拍摄日记《忧伤的驯鹿国》；2017年创办内蒙古青年电影周，致力于在华语范围内发掘优秀影像与有才华的年轻创作人；2020年开始大蓬车游牧拍摄“导演地图”等，2022年出版拍摄随笔《边地记事》《敖鲁古雅·敖鲁古雅》。 \n  \n \n｜蓝京华 \n艺术家 、策展人。广东河源人，生活在北京、东京的自由职业艺术家策展人。代表作：行为艺术《丹凤眼》，数字艺术、AI与行为影像《乌托邦系列》，行为艺术《宋庄的每个饭局都是宋庄当代艺术史》\,大地诗歌行为艺术《金字塔史诗》。
URL:https://one-way-street.com/zh/event/asian-talk-083/
LOCATION:One Way Street Tokyo\, 東京都中央区銀座1丁目6−1\, 東京\, Japan
ATTACH;FMTTYPE=image/png:https://one-way-street.com/wp-content/uploads/2024/08/11181722928427_.pic_hd.png
END:VEVENT
BEGIN:VEVENT
DTSTART;TZID=Asia/Tokyo:20240812T143000
DTEND;TZID=Asia/Tokyo:20240812T160000
DTSTAMP:20260424T103037
CREATED:20240730T102220Z
LAST-MODIFIED:20240806T043311Z
UID:5147-1723473000-1723478400@one-way-street.com
SUMMARY:[:zh]Asian Talk 077 中国乐队与现场音乐的前世今生[:ja]Asian Talk 077 中国バンドとライブミュージックの過去と現在[:]
DESCRIPTION:【活动主题】 \nAsian Talk 077 \n中国乐队与现场音乐的前世今生 \n  \n【活动详情】 \n嘉宾 \nSCHOOL北京/东京创始人、主理人： 刘非 \nSCHOOL北京/东京创始人、主理人/Joyside乐队贝斯手:  刘昊 \n株式会社Bad News社长/SCHOOL东京创始人:千叶和利 \n  \n2024年8月12日（周一）14：30～16：00 \n会场：单向街书店・银座店 \n地址：东京都中央区银座1-6-1 \n中文分享会·有日文翻译·全席自由（40席） \n—————— \n费用：1500日元 \n单向街书店・银座店年费会员免费 \n网上预约：海报二维码、官网主页 \n当日进场：门店柜台购票 \n—————— \n– \n【网上购票】 \n点击页面上方「Get Tickets」，填写必要信息完成支付。 \n※购票后不可取消、退款、转让，请提前确认好时间安排。 \n– \n【单向街书店・银座店年费会员】 \n点击下方「Going」，完成报名。 \n（会员将由工作人员确认身份后入场） \n—————— \n如有任何问题，请随时联系官方IG或致电0362630116。 \n◎扫码成为年费会员 33\,000日元/年(含税) \n \n【会员权益】 \n１、专属年费会员卡 \n2、赠全品饮料券12张 \n3、免费参与书店活动（部分除外） \n4、简体中文书购书7折 \n【活动介绍】 \n2024年，中国的乐队和音乐人出海演出一片盛况，今年8月更是迎来中国现场音乐圈的大事件：“北京SCHOOL，东京开学”。作为首家将分店开至海外的中国音乐现场品牌，三位参与其中的重量级嘉宾将畅聊摇滚、乐队、现场音乐文化，谈谈中国乐队和现场音乐的昨天，今天和明天。 \n  \n【嘉宾介绍】 \n \n｜刘非 \nSCHOOL的“小刘校长”，著名乐队经纪人，活动策划人、中国乐队文化近20年重要的见证者、参与者、缔造者。中国爆款综艺《乐队的夏天》乐评人。 \n  \n \n｜刘昊 \nSCHOOL的“大刘校长”，著名音乐人，中国传奇乐队Joyside贝斯手，Casino Demon乐队贝斯手，参演中国爆款综艺《乐队的夏天》。 \n  \n \n｜千叶和利 \n株式会社Bad News社长，将Livehouse文化带到中国，成立中国首家Livehouse“MAO”。Bad News为一家在日音乐公司，经营版权管理、艺人经纪、演出策划运营等业务。近期主办西原健一郎以及re：plus等中国巡演，同时协办惘闻、万年青年旅店等在日演出。
URL:https://one-way-street.com/zh/event/asian-talk-077/
LOCATION:One Way Street Tokyo\, 東京都中央区銀座1丁目6−1\, 東京\, Japan
ATTACH;FMTTYPE=image/png:https://one-way-street.com/wp-content/uploads/2024/07/9661722855303_.pic_hd.png
END:VEVENT
BEGIN:VEVENT
DTSTART;TZID=Asia/Tokyo:20240817T143000
DTEND;TZID=Asia/Tokyo:20240817T163000
DTSTAMP:20260424T103037
CREATED:20240730T053349Z
LAST-MODIFIED:20240806T043105Z
UID:5113-1723905000-1723912200@one-way-street.com
SUMMARY:[:ja]Asian Talk 078 中国ドラマ：ヒカルの碁『棋魂』 -秘話との邂逅-[:]
DESCRIPTION:对不起，此内容只适用于日文。
URL:https://one-way-street.com/zh/event/asian-talk-078/
LOCATION:One Way Street Tokyo\, 東京都中央区銀座1丁目6−1\, 東京\, Japan
ATTACH;FMTTYPE=image/png:https://one-way-street.com/wp-content/uploads/2024/07/8571722319225_.pic_hd.png
END:VEVENT
BEGIN:VEVENT
DTSTART;TZID=Asia/Tokyo:20240818T143000
DTEND;TZID=Asia/Tokyo:20240818T160000
DTSTAMP:20260424T103037
CREATED:20240810T053553Z
LAST-MODIFIED:20240812T102732Z
UID:5297-1723991400-1723996800@one-way-street.com
SUMMARY:[:zh]Asian Talk 079  NFT如何与艺术邂逅？[:]
DESCRIPTION:【活动主题】 \nAsian Talk 079 \nNFT如何与艺术邂逅？ \n  \n【活动详情】 \n~嘉宾~ \n蓝京华 \n张翼 \n  \n2024年8月18日（周日）14：30～16：00 \n会场：单向街书店・银座店 \n地址：东京都中央区银座1-6-1 \n中文分享会·全席自由（40席） \n—————— \n费用：1500日元 \n单向街书店・银座店年费会员免费 \n网上预约：海报二维码、官网主页 \n当日进场：门店柜台购票 \n—————— \n– \n【网上购票】 \n点击页面上方「Get Tickets」，填写必要信息完成支付。 \n※购票后不可取消、退款、转让，请提前确认好时间安排。 \n– \n【单向街书店・银座店年费会员】 \n点击下方「Going」，完成报名。 \n（会员将由工作人员确认身份后入场） \n—————— \n如有任何问题，请随时联系官方IG或致电0362630116。 \n◎扫码成为年费会员 33\,000日元/年(含税) \n \n【会员权益】 \n１、专属年费会员卡 \n2、赠全品饮料券12张 \n3、免费参与书店活动（部分除外） \n4、简体中文书购书7折 \n  \n【活动介绍】 \n\n上次的活动中，从事IT开发工作的张翼，结合自己购买和销售加密货币的经验，最通俗易懂的语言为大家科普了什么是比特币和NFT，关于它们的诞生，现在和未来。此次，我们希望结合正在东京单向街GALLERY展出的“万物生”数字艺术作品个展，邀请了艺术家蓝京华老师与张翼，展开对谈活动。2024年8月18日（周日）14:30-16:00，两位将来到单向街书店·东京银座店，一同聊聊，NFT与艺术之间的的可能性。蓝京华老师讲借由此次机会与大家分享本次关于乌托邦主题的系列展览作品。敬请期待。\n\n\n【嘉宾介绍】 \n \n｜蓝京华 \n艺术家 、策展人。广东河源人，生活在北京、东京的自由职业艺术家策展人。代表作：行为艺术《丹凤眼》，数字艺术、AI与行为影像《乌托邦系列》，行为艺术《宋庄的每个饭局都是宋庄当代艺术史》\,大地诗歌行为艺术《金字塔史诗》。 \n  \n \n｜张翼 \n80后程序员。喜欢所有“far far away”和“long long ago”的东西。工作之余从事上个世纪8，90年代的动画书籍引进和翻译工作，译有《变形金刚·视觉》，《龙珠·超画集》，《圣斗士星矢·动画小宇宙》。
URL:https://one-way-street.com/zh/event/asian-talk-079/
LOCATION:One Way Street Tokyo\, 東京都中央区銀座1丁目6−1\, 東京\, Japan
ATTACH;FMTTYPE=image/png:https://one-way-street.com/wp-content/uploads/2024/08/211723268730_.pic_hd.png
END:VEVENT
BEGIN:VEVENT
DTSTART;TZID=Asia/Tokyo:20240821T190000
DTEND;TZID=Asia/Tokyo:20240821T203000
DTSTAMP:20260424T103037
CREATED:20240808T013235Z
LAST-MODIFIED:20240808T045344Z
UID:5266-1724266800-1724272200@one-way-street.com
SUMMARY:[:zh]她故事——女性主题读书会 第五课｜本期主讲书籍：《黑箱：日本之耻》[:]
DESCRIPTION:【活动主题】 \n她故事——女性主题读书会 第五课 \n本期主讲书籍：《黑箱：日本之耻》 \n  \n【活动详情】 \n导读嘉宾 ：弦子（女权主义者 ，metoo当事人） \n本期主持人 ：张叶（中日翻译、出版、书籍版权） \n读书会主持：孙海玉（编辑、译者、书店策展人） \n  \n时间：2024年8月21日（周三）19:00-20:30 \n地点：单向街书店・银座店 \n东京都中央区银座1-6-1 \n形式：中文交流会 \n—————— \n费用：1500日元 \n单向街书店・银座店年费会员免费 \n网上购票：海报二维码、官网主页 \n当日进场：门店柜台购票 \n—————— \n– \n【网上购票】 \n点击页面上方「Get Tickets」，填写必要信息完成支付。 \n※购票后不可取消、退款、转让，请提前确认好时间安排。 \n– \n【单向街书店・银座店年费会员】 \n点击下方「Going」，完成报名。 \n（会员将由工作人员确认身份后入场） \n—————— \n如有任何问题，请随时联系官方IG或致电0362630116。 \n◎扫码成为年费会员 33\,000日元/年(含税) \n \n【会员权益】 \n１、专属年费会员卡 \n2、赠全品饮料券12张 \n3、免费参与书店活动 \n4、简体中文书购书7折 \n  \n【活动介绍】 \n缘起：“她故事”女性主题读书会 \n“女性如何在公共与私人领域安顿自己？” \n美国学者让・爱尔斯坦在其著作《公共的男人，私人的女人》中提出的这个议题，描述了女性的困境： \n无论在公共、抑或私人领域，女性承担的多重身份与责任，常常带来“不可承受之重”。女性要摆脱这种困境，不仅要从私人向公共领域转换，更要在个人生活与公共生活中寻找到自我的真实需求，以敏锐的感知力、强大的行动力以及宽广的创造力，去实现自己的生命意义。近年，经由图书出版的推动，女性议题得到越来越多的关注。 \n我们相信通过阅读书籍，可以追溯女性身份的历史建构，梳理女性议题的多元表达，揭开女性成长的困局，共情女性生命与个体经验的记述。 \n阅读，也许无法让我们抵达终点，但至少在开拓一条接近的路途。我们相信，通过共同的阅读与分享，我们在这条路上并不孤独。 \n这就是“她故事”女性主题读书会的缘起。 \n—————— \n这并非女性单一的读书会，因为我们相信，在“生而为人”的探寻中，女性与男性的追求是一致的； \n这又是一个女性主导的读书会，我们期待通过阅读与分享，创造女性之间的连接与友谊，最终找到自己。 \n  \n \n~本期篇目：《黑箱：日本之耻》~ \n以社会事件为肇始而成为图书的案例有不少，这一本的不同之处，在于对事件的描述中，交织着作者真实、细致地描述的自己的心路历程。相比在事件中所遭遇的伤害，这些心理上的自我怀疑、自我嫌弃、甚而自我否定与放弃，更能让读者体会到性暴力受害者所面对的伤害有多深重。 \n因此，选择阅读这本书，意图并非是回溯事件的经纬，而是希望从伊藤诗织的经历中，去贴近她所面对的一切，去理解在被赞誉为“勇敢者”的背后，她经历了怎样的恐惧；在坚韧地站出来时，她的内心曾经是多么脆弱。因为，只有真正地理解了面对黑暗的复杂性，那份勇敢才不会被轻易地打垮。 \n阅读不能成为什么力量，但可以改变我们的内在信仰。当选择来临时，我们可以为让自己、为让这个世界变得更好一些而勇敢行动。 \n  \n~作者简介・伊藤诗织~ \n日本自由记者。知名记者山口敬之强奸女记者事件当事人。她曾两次付诸法律手段，起诉均被驳回。事件在大众媒体上公开后遭来社会上的各种诽谤以及人身攻击。2017年10月，依据自身经历写成的纪实作品《黑箱》出版，在日本社会引起轰动。2018年6月，BBC 报道其事迹的纪录片《日本之耻》上映，在国内外引起热烈反响。 \n  \n【嘉宾介绍】 \n \n｜弦子 \n女权主义者 ，metoo当事人 \n  \n \n｜张叶 \n中日翻译、出版、书籍版权。早稻田大学现代文艺硕士，小沼純一研究室。硕士论文『音楽として読む村上春樹—文学と音楽のつながり』（以音乐鉴赏读村上春树—文学与音乐的关系）。《夜间模式》（无实物艺术团）中日歌词翻译。『知恵熱Vol．10』（早稲田大学院文学研究科現代文芸コース）主编、封面设计。 \n  \n \n｜孙海玉（读书会主持） \n编辑、译者、书店策展人
URL:https://one-way-street.com/zh/event/herstories5/
LOCATION:One Way Street Tokyo\, 東京都中央区銀座1丁目6−1\, 東京\, Japan
ATTACH;FMTTYPE=image/png:https://one-way-street.com/wp-content/uploads/2024/08/59491723082297_.pic_hd.png
END:VEVENT
BEGIN:VEVENT
DTSTART;TZID=Asia/Tokyo:20240824T143000
DTEND;TZID=Asia/Tokyo:20240824T160000
DTSTAMP:20260424T103037
CREATED:20240807T042742Z
LAST-MODIFIED:20240811T030926Z
UID:5235-1724509800-1724515200@one-way-street.com
SUMMARY:[:zh]Asian Talk 080 内山书店✖️单向街书店 -书店中流淌的未来：文化交流的新篇章-[:ja]Asian Talk 080 内山書店✖️単向街書店  -書店を通した文化交流に想いを馳せる-[:]
DESCRIPTION:【活动主题】 \nAsian Talk 080 \n内山书店✖️单向街书店 \n-书店中流淌的未来：文化交流的新篇章- \n  \n【活动详情】 \n嘉宾：内山深、许知远 \n主持：福泽优理 \n  \n2024年8月24日（周六）14:30-16:00 \n单向街书店・银座店 \n东京都中央区银座1-6-1 \n  \n中文分享会・全席自由（40席） \n＊若座位已满，您可能需要站着听讲，敬请谅解。 \n—————— \n费用：2500日元 \n单向街书店・银座店年费会员免费 \n网上购票：海报二维码、官网主页 \n当日进场：门店柜台购票 \n—————— \n– \n【网上购票】 \n点击页面上方「Get Tickets」，填写必要信息完成支付。 \n※购票后不可取消、退款、转让，请提前确认好时间安排。 \n– \n【单向街书店・银座店年费会员】 \n点击下方「Going」，完成报名。 \n（会员将由工作人员确认身份后入场） \n—————— \n如有任何问题，请随时联系官方IG或致电0362630116。 \n◎扫码成为年费会员 33\,000日元/年(含税) \n \n【会员权益】 \n１、专属年费会员卡 \n2、赠全品饮料券12张 \n3、免费参与书店活动（部分除外） \n4、简体中文书购书7折 \n  \n【活动介绍】 \n\n为纪念单向街书店·东京银座店开业一周年，我们特邀内山书店代表社长内山深与单向街书店的创始人许知远先生，来到单向街书店·东京银座店，内山先生将与大家分享内山书店的历史与自身在内山书店这个家族事业中成长过程中的所思所感。作为书店的经营者，两位也将与大家共同探讨，作为文化交流的桥梁存在的书店，同过去相比，未来的书店所处的角色与可能性。\n\n  \n【嘉宾介绍】 \n \n｜许知远 \n作家，单向空间联合创始人，谈话节目《十三邀》主创。 \n著作包括《意外的旅程》《祖国的陌生人》《一个游荡者的世界》《那些忧伤的年轻人》等，他正在撰写五卷本梁启超传记，其中两卷《梁启超：青年变革者 1873—1898》《梁启超：亡命（1898—1903）》现已出版。 \n  \n \n｜内山深 \n1972年，作为时任内山书店的社长内山篱的次子出生。在法政大学就学期间决定继承家业。曾在北京大学留学，1998年进入内山书店。2012年起担任店长，2018年就任内山书店社长。 \n  \n【相关作品】 \n \n作者：许知远 \n出版社：理想国 ｜ 云南人民出版社 \n出版年：2024-2 \n本套书为 2010 年至今作者在中国或世界各地游历的旅行随笔合集。第一册，上辑，作者沿爱辉—腾冲线横穿中国，在游历中重新审视当下中国社会的真实切片与历史的复杂面孔；下辑，作者在游历路程中寻访了贾樟柯、余华、刘香成、陈丹青等文化学者，展开“十三邀”式的漫谈与追问。第二册，作者的足迹跨越不丹、东欧、印度等不同文化属地，旨在呈现一个更多元文化的世界版图，从而打开看待自我与世界关系更多的可能性；第三册围绕 2020 年作者在马来西亚、夏威夷、日本三地的停留与辗转展开，不仅勾勒了各地在危机下的不同风貌与普通人的真实生活，更深入讨论了各地在历史上对危机的应对方式，揭开其背后被遗忘的历史。‍
URL:https://one-way-street.com/zh/event/asian-talk-080/
LOCATION:One Way Street Tokyo\, 東京都中央区銀座1丁目6−1\, 東京\, Japan
ATTACH;FMTTYPE=image/png:https://one-way-street.com/wp-content/uploads/2024/08/6b7ced8879f19da6d199f054593cecb5.png
END:VEVENT
BEGIN:VEVENT
DTSTART;TZID=Asia/Tokyo:20240831T143000
DTEND;TZID=Asia/Tokyo:20240831T160000
DTSTAMP:20260424T103037
CREATED:20240812T101435Z
LAST-MODIFIED:20240812T102416Z
UID:5349-1725114600-1725120000@one-way-street.com
SUMMARY:[:zh]Asian Talk 082  华文教育中的自我认同问题与新思路[:]
DESCRIPTION:【活动主题】 \nAsian Talk 082 \n华文教育中的自我认同问题与新思路 \n  \n【活动详情】 \n~嘉宾~ \n可越（华文书院副书院长） \n  \n2024年8月31日（周六）14：30～16：00 \n会场：单向街书店・银座店 \n地址：东京都中央区银座1-6-1 \n中文分享会·全席自由（40席） \n—————— \n费用：1500日元 \n单向街书店・银座店年费会员免费 \n网上预约：海报二维码、官网主页 \n当日进场：门店柜台购票 \n—————— \n– \n【网上购票】 \n点击页面上方「Get Tickets」，填写必要信息完成支付。 \n※购票后不可取消、退款、转让，请提前确认好时间安排。 \n– \n【单向街书店・银座店年费会员】 \n点击下方「Going」，完成报名。 \n（会员将由工作人员确认身份后入场） \n—————— \n如有任何问题，请随时联系官方IG或致电0362630116。 \n◎扫码成为年费会员 33\,000日元/年(含税) \n \n【会员权益】 \n１、专属年费会员卡 \n2、赠全品饮料券12张 \n3、免费参与书店活动（部分除外） \n4、简体中文书购书7折 \n  \n【活动介绍】 \n\n在日华人儿童的自我认同问题是贯穿孩子一生的重要课题。生活在日本的华人儿童，跨越中日甚至多元文化，他们有得天独厚的汉字优势和文化背景，运用好，如同给孩子插上一对飞翔的翅膀，反之，中国文化和语言逐渐衰退，即使变身“日本人”，孩子身份认知暧昧，容易失去自信。很多年轻父母知道让孩子学习中文，但不知如何具体操作，利用孩子的已知教他们的未知，中日文同学共促。　\n　\n2024年8月31日（周六）14:30-16:00，华文书院副书院长可越将来到单向街书店·东京银座店，与大家一起探讨华文教育中的自我认同问题与中文学习新思路。敬请期待。\n\n\n  \n【嘉宾介绍】 \n \n｜可越  \n毕业于中国吉林大学 日语系 \n日本东京大学情报学环  硕士学位 \n日本电通国际事业局 任职四年， \n2004年创立日中传播株式会社  任董事 \n2019年创立华文书院  任华文书院 副书院长 \n曾担任人民网视频网站《东京视点》代表。 \n 新华网特邀记者、樱美林大学客座研究员，国际文化FRAM“高中生摄影大赛”评委、入选《中日百人传》，共著《PR视点的Inbound战略》。
URL:https://one-way-street.com/zh/event/asian-talk-082/
LOCATION:One Way Street Tokyo\, 東京都中央区銀座1丁目6−1\, 東京\, Japan
ATTACH;FMTTYPE=image/png:https://one-way-street.com/wp-content/uploads/2024/08/7221723457925_.pic_.png
END:VEVENT
END:VCALENDAR