BEGIN:VCALENDAR
VERSION:2.0
PRODID:-//One Way Street Tokyo - ECPv6.6.2//NONSGML v1.0//EN
CALSCALE:GREGORIAN
METHOD:PUBLISH
X-WR-CALNAME:One Way Street Tokyo
X-ORIGINAL-URL:https://one-way-street.com/zh
X-WR-CALDESC:One Way Street Tokyo的活动
REFRESH-INTERVAL;VALUE=DURATION:PT1H
X-Robots-Tag:noindex
X-PUBLISHED-TTL:PT1H
BEGIN:VTIMEZONE
TZID:Asia/Tokyo
BEGIN:STANDARD
TZOFFSETFROM:+0900
TZOFFSETTO:+0900
TZNAME:JST
DTSTART:20230101T000000
END:STANDARD
END:VTIMEZONE
BEGIN:VEVENT
DTSTART;TZID=Asia/Tokyo:20231201T183000
DTEND;TZID=Asia/Tokyo:20231201T200000
DTSTAMP:20260424T185711
CREATED:20231127T094700Z
LAST-MODIFIED:20231128T010458Z
UID:1887-1701455400-1701460800@one-way-street.com
SUMMARY:[:zh]听制片人讲述：十三邀背后的故事[:]
DESCRIPTION:【活动信息】\n听制片人讲述：十三邀背后的故事\n嘉宾：徐婵娟（十三邀制片人）、向蕾蕾（十三邀执行制片人） \n时间：2023年12月1日（周五）18:30-20:00 \n地点：单向街书店·东京银座店 \n地址：东京都中央区银座1-6-1 \n形式：中文分享会 \n自由席：30席（坐席不设预定，先到先得） \n费用：1500 日元(含指定饮料一杯) \n           〔单向街书店·东京银座店年费会员免费〕 \n  \n参与方式：\n①点击页首「Get Tickets」付款报名 \n② 门店线下购票 \n③成为年费会员，点击页尾「Going」免费登记 \n※购票后不可取消、退款、转让，请提前确认好时间安排，如有任何问题，请随时联系官方IG或致电0362630116。 \n  \n ◎扫码成为年费会员 33\,000日元/年(含税)\n \n【会员权益】\n１、专属年费会员卡 \n2、赠全品饮料券12张 \n3、免费参与书店活动 \n4、简体中文书购书7折 \n  \n【活动介绍】\n腾讯的创新准直播访谈节目《十三邀》，一改传统新闻访谈节目客观中立的态度，以许知远偏见的视角，带领观众在与13位“社会切片”的对话中，观察和理解这个世界。 \n寻找13位具有模板作用的个人，向他们发出邀请。请求观察他们的行为，请求他们分享个人的经验和心得。提供正在发生的样本，探求中国发展的切片。 \n我们有幸邀请到《十三邀》的两位制作人，徐婵娟与向蕾蕾。在一个轻松的夜晚，来听制片人聊聊那些发生在《十三邀》节目背后，不为人知的有趣故事吧。 \n  \n【嘉宾介绍】\n \n徐婵娟 \n《十三邀第七季》制片人，代表作《仅三天可见》《口罩猎人》等。 \n  \n \n向蕾蕾 \n《十三邀》执行制片人，单向街书店·东京银座店事业开发部部长。
URL:https://one-way-street.com/zh/event/ssybhdgs/
LOCATION:One Way Street Tokyo\, 東京都中央区銀座1丁目6−1\, 東京\, Japan
ATTACH;FMTTYPE=image/png:https://one-way-street.com/wp-content/uploads/2023/11/十三邀制片人讲述.png
END:VEVENT
BEGIN:VEVENT
DTSTART;TZID=Asia/Tokyo:20231202T143000
DTEND;TZID=Asia/Tokyo:20231202T160000
DTSTAMP:20260424T185711
CREATED:20231118T081908Z
LAST-MODIFIED:20231202T053550Z
UID:1461-1701527400-1701532800@one-way-street.com
SUMMARY:[:zh]#Asian Talk 022 行走十年之第七站——日本见闻[:]
DESCRIPTION:【活动信息】\nAsian Talk 022 行走十年之第七站 —— 日本见闻\n嘉宾：张家卫（加拿大小众行为学研究基金创始人，加拿大华人传承与未来基金会主席，曾是大连海事大学交通运输管理学院教授、博士生导师、加拿大西蒙菲莎大学比迪商学院杰克.奥斯汀亚太商学研究中心研究员、北京大学战略研究所研究员）\n时间：2023年12月2日（周六） 14:30-16:00\n地点：单向街书店·东京银座店\n地址：东京都中央区银座1-6-1\n形式：中文分享会\n  \n费用：1500日元（会员免费）\n参与方式：本页付款购票／门店线下购票\n报名成功后不可取消、退款，请提前确认好时间安排\n  \n自由席：30\n坐席不设预定，先到先得\n※如有任何问题，请随时联系官方IG或致电0362630116\n  \n【活动介绍】\n2017年，张家卫开始了他的“十年十国”、“百日百篇”行走计划，即用十年的时间，每年的9－12月，去世界上有代表性的十个国家、十个城市、十所大学，每年用100天的时间，撰写100篇散记，平均25万字，记录下他的所见、所闻与所想。\n2023年9-12月，行走了美国硅谷、英国剑桥、加拿大多伦多和萨斯喀彻温省，以及中国成都、以色列的耶路撒冷的张家卫选择来到日本东京，并在千叶大学做了三个月的短期访问学者。\n在日本各个城市周游时有何感受和想法？ 在这100 天的旅程结束之时，我们有幸邀请到张老师来到书店分享他的经历！\n  \n【嘉宾介绍】\n \n张家卫 \n先后在加拿大西蒙菲沙大学、美国索菲亚大学、英国剑桥大学、加拿大多伦多大学、中国西南交通大学、以色列管理学院（COLMAN）担任访问学者。研究方向主要是战略规划、组织战略管理、商业模式研究以及物流供应链管理，目前主要从事小众行为学领域的商业模式研究和实践。
URL:https://one-way-street.com/zh/event/asian-talk-022/
LOCATION:One Way Street Tokyo\, 東京都中央区銀座1丁目6−1\, 東京\, Japan
END:VEVENT
BEGIN:VEVENT
DTSTART;TZID=Asia/Tokyo:20231202T180000
DTEND;TZID=Asia/Tokyo:20231202T200000
DTSTAMP:20260424T185711
CREATED:20231127T152006Z
LAST-MODIFIED:20250216T033242Z
UID:1892-1701540000-1701547200@one-way-street.com
SUMMARY:[:zh]中国独立纪录片《双井》Movie Talk：青年导演与独立电影的野与路[:]
DESCRIPTION:【活动信息】\n中国独立纪录片《双井》Movie Talk：青年导演与独立电影的野与路\n嘉宾：崔兆松（导演）、张绿（策展人） \n时间：2023年12月2日（周六）18:00-20:00 \n地点：单向街书店·东京银座店 \n地址：东京都中央区银座1-6-1 \n形式：中文分享会 \n自由席：30席（坐席不设预定，先到先得） \n费用：1500 日元(含指定饮料一杯) \n           〔单向街书店·东京银座店年费会员免费〕 \n  \n参与方式：\n①点击页首「Get Tickets」付款报名 \n② 门店线下购票 \n③成为年费会员，点击页尾「Going」免费登记 \n※购票后不可取消、退款、转让，请提前确认好时间安排，如有任何问题，请随时联系官方IG或致电0362630116。 \n  \n ◎扫码成为年费会员 33\,000日元/年(含税)\n \n【会员权益】\n１、专属年费会员卡 \n2、赠全品饮料券12张 \n3、免费参与书店活动 \n4、简体中文书购书7折 \n  \n【活动介绍】\n《双井》是崔兆松的第一部纪录片作品，影片呈现了一个魔幻的中国，不同的北京。 \n在双井街头谋生的小商贩、卖艺人、城管、或行色匆匆或悠闲自在的人们，他们共同构成了双井的生态圈。通过影片中的边缘小人物群像，观察到不同于一般认知中的北京生活。 \n同时，我们也有幸邀请到现居东京的纪录片崔兆松导演与策展人张绿。映后环节，崔导将就这部纪录片处子作具体展开分享。 \n何为导演？现今青年导演的境遇如何？运营独立影展与影迷俱乐部是一种怎样的体验？ \n我们想邀请对电影感兴趣的你一起坐下慢慢交流、探讨。 \n  \n【嘉宾介绍】\n \n崔兆松 \n摄影师、剪辑师、独立音乐人。1988年出生。2015年至今主要工作：纪录片制作。完成作品：《双井》（2016） 《流浪的石头》（2019）；最新版本的《流浪的石头》正在制作中… \n  \n \n张绿 \n1997年出生，现居东京。诗人，艺术家，独立策展人。附近映像季与独角放送室的主理人。个人诗集《性朋克》等，策划诗集《蛇吞象》等。实验短片《套娃》《红水马王国》等，个人艺术项目涉及装置，摄影，文学，影像，在北京，上海，广州香港，东京，伦敦等多地展出。 \n  \n【相关作品】\n \n世界上有一个叫双井的地方，傍晚新闻联播开始后，盲人出现了，他坐在地铁口拉坠胡。坠胡声响起后卖水果的小贩和其他小贩骑着三轮陆续登场。不远处的卖艺人在人行道上开唱，投入似刘德华，行人与街道瞬间变布景。后来一群＊＊出现。引来大批路人围观，然后散开。在双井，车辆与行人，小贩与＊＊，卖唱的和跳舞的来来去去。季节更替，只有拉坠胡的盲人每天出现。他说他信上帝，于是在大雪过后的街道上搓手祷告起来。
URL:https://one-way-street.com/zh/event/movie-talk-sj/
LOCATION:One Way Street Tokyo\, 東京都中央区銀座1丁目6−1\, 東京\, Japan
ATTACH;FMTTYPE=image/png:https://one-way-street.com/wp-content/uploads/2023/11/2023年12月2日（周六）1800-2000-单向街书店·东京银座店-东京都中央区银座1-6-1-费用：1500日元含指定饮料一杯-年费会员免费-自由席：30席（座位不设预定，先到先得）-参与方式：扫.png
END:VEVENT
BEGIN:VEVENT
DTSTART;TZID=Asia/Tokyo:20231203T143000
DTEND;TZID=Asia/Tokyo:20231203T160000
DTSTAMP:20260424T185711
CREATED:20231121T101422Z
LAST-MODIFIED:20231121T101937Z
UID:1692-1701613800-1701619200@one-way-street.com
SUMMARY:[:ja]#Asian Talk 023「大和撫子」像の生成 -現代中国人の日本観に問う-[:]
DESCRIPTION:对不起，此内容只适用于日文。
URL:https://one-way-street.com/zh/event/asian-talk-023-2/
LOCATION:One Way Street Tokyo\, 東京都中央区銀座1丁目6−1\, 東京\, Japan
ATTACH;FMTTYPE=image/jpeg:https://one-way-street.com/wp-content/uploads/2023/11/WechatIMG1497.jpeg
END:VEVENT
BEGIN:VEVENT
DTSTART;TZID=Asia/Tokyo:20231207T183000
DTEND;TZID=Asia/Tokyo:20231207T200000
DTSTAMP:20260424T185711
CREATED:20231122T055527Z
LAST-MODIFIED:20231129T120249Z
UID:1745-1701973800-1701979200@one-way-street.com
SUMMARY:[:zh]播客《东亚观察局》海外巡回Fan Meeting-东京站[:]
DESCRIPTION:【活动信息】\n播客《东亚观察局》海外巡回Fan Meeting-东京站\n嘉宾：梵一如、沙青青\n时间：2023年12月7日（周四） 18:30-20:30\n地点：单向街书店·东京银座店\n地址：东京都中央区银座1-6-1\n形式：中文分享会\n自由席：30席（坐席不设预定，先到先得）\n费用：1500 日元(含指定饮料一杯)／单向街书店·东京银座店年费会员免费\n参与方式：①点击页首「Get Tickets」付款报名\n                    ② 门店线下购票\n                    ③成为年费会员，点击页尾「Going」免费登记活动\n※记名票（报名后不可取消、退款、转让，请提前确认好时间安排）\n※如有任何问题，请随时联系官方IG或致电0362630116\n  \n ◎扫码成为【单向街书店·东京银座店年费会员】\n \n【会员权益】 \n１、专属年费会员卡 \n2、赠全品饮料券12张 \n3、免费参与书店活动 \n4、简体中文书购书7折 \n年费会员：点击页尾「Going」免费登记活动 \n  \n【活动介绍】\n《东亚观察局》是由主播梵一如、沙青青、权小星三人为固定成员的对谈聊天节目，聚焦以中日韩三国为核心的“东亚地区”的热点话题、文化现象以及历史趣闻。三年多来，已上线近170期节目，成为中文世界最知名的泛日韩类播客之一。\n今次梵一如、沙青青两位主播，将和生活在日本的听友面对面交流分享。这也是《东亚观察局》首次在海外举行的线下活动。\n  \n【嘉宾介绍】\n \n梵一如 \n“番薯剥壳工作室”主理人、播客《东亚观察局》《井户端会议》主播 \n译有《平成史》（原著：保阪正康） \n  \n \n沙青青 \n历史学者、播客《东亚观察局》《边角聊》主播 \n著有《暴走军国》《昭和风平成雨》，另有译作多本。 \n 
URL:https://one-way-street.com/zh/event/dygcj/
LOCATION:One Way Street Tokyo\, 東京都中央区銀座1丁目6−1\, 東京\, Japan
ATTACH;FMTTYPE=image/jpeg:https://one-way-street.com/wp-content/uploads/2023/11/WechatIMG2917.jpeg
END:VEVENT
BEGIN:VEVENT
DTSTART;TZID=Asia/Tokyo:20231209T150000
DTEND;TZID=Asia/Tokyo:20231209T163000
DTSTAMP:20260424T185711
CREATED:20231114T060845Z
LAST-MODIFIED:20231123T102031Z
UID:1434-1702134000-1702139400@one-way-street.com
SUMMARY:[:zh]#Asian Talk 024 日本人该如何在海外生活？[:ja]#Asian Talk 024 日本人は海外で活躍できる？[:]
DESCRIPTION:【活动信息】\n日本人该如何在海外生活？\n嘉宾：加藤万奈、长屋英章 \n时间：2023年12月9日（周六）15:00-16:30 \n地点：单向街书店·东京银座店 \n地址：东京都中央区银座1-6-1 \n形式：日语分享会 \n自由席：30席（坐席不设预定，先到先得） \n费用：1500 日元(含指定饮料一杯) \n           〔单向街书店·东京银座店年费会员免费〕 \n  \n参与方式：\n①点击页首「Get Tickets」付款报名 \n② 门店线下购票 \n③成为年费会员，点击页尾「Going」免费登记 \n※购票后不可取消、退款、转让，请提前确认好时间安排，如有任何问题，请随时联系官方IG或致电0362630116。 \n  \n ◎扫码成为年费会员 33\,000日元/年(含税)\n \n【会员权益】\n１、专属年费会员卡 \n2、赠全品饮料券12张 \n3、免费参与书店活动 \n4、简体中文书购书7折 \n  \n【活动介绍】\n为什么选择活跃于海外？在海外的日本人有哪些共同点？日本人的特质是？多样性又意味着什么？ \n在法国、英国、香港和新加坡有超过15年海外生活经验的同时，作为日语教师亦接触过来自不同背景的学习者的加藤万奈女士，将与活跃于在法国、香港和泰国的美食设计师长屋英章先生共同进行一场坦率的对话。 \n2023年12月9日（周六）15:00-16:30，我们想邀请对海外、外语、以及外国文化感兴趣的你来到银座的单向街书店。听听拥有如此丰富经历的嘉宾如何看待在海外的生活，他们在海外又会如何审视自身拥有的“日本气质”呢？ \n  \n【嘉宾介绍】\n \n加藤万奈 \n日语教师、作家。在15年以上的海外生活中，保持对人们多样的生活方式的好奇。曾旅居于英国、法国、香港、新加坡。二子之母，与爱尔兰籍的丈夫一起四人生活。东京都人。著有《我的香港小旅行》 \n  \n \n长屋英章 \n美食设计师。旅居法国、香港后，现以长野县白马村为根据地在亚洲广泛活动。2024年起计划将根据地转移至泰国。 \n  \n【相关作品】\n \n《我的香港小旅行》 \n作者：加藤万奈 \n译者：孙海玉 \n出版时间：2020年9月 \n出版社：香港中和出版 \n  \n放弃日本护照，入籍香港的港队球员中村祐人；《亚洲星光大道》走红，备受欢迎的节目主持和泉素行；港乐全职小提琴家田中知子……旅居香港的日语教师加藤万奈，走访多位在香港生活，于不同行业均有所成就的日本人，并透过访谈，深入了解他们的经历，及在不同文化冲击下，如何一步一步实现理想的过程，呈现出日本人诸多面相的个性。
URL:https://one-way-street.com/zh/event/asian-talk-023/
LOCATION:One Way Street Tokyo\, 東京都中央区銀座1丁目6−1\, 東京\, Japan
ATTACH;FMTTYPE=image/jpeg:https://one-way-street.com/wp-content/uploads/2023/11/日本人该如何在海外生活_大横-1.jpg
END:VEVENT
BEGIN:VEVENT
DTSTART;TZID=Asia/Tokyo:20231210T120000
DTEND;TZID=Asia/Tokyo:20231210T140000
DTSTAMP:20260424T185711
CREATED:20231118T081722Z
LAST-MODIFIED:20231128T230141Z
UID:1454-1702209600-1702216800@one-way-street.com
SUMMARY:[:ja]#Asian Talk 025 “君 花海棠の紅にあらず” 秘話との邂逅 ― 巡り逢う時間たち in Tokyo & Beijing[:]
DESCRIPTION:对不起，此内容只适用于日文。
URL:https://one-way-street.com/zh/event/asian-talk-025/
LOCATION:One Way Street Tokyo\, 東京都中央区銀座1丁目6−1\, 東京\, Japan
ATTACH;FMTTYPE=image/png:https://one-way-street.com/wp-content/uploads/2023/11/AT23-已恢复_电视屏.png
END:VEVENT
BEGIN:VEVENT
DTSTART;TZID=Asia/Tokyo:20231210T153000
DTEND;TZID=Asia/Tokyo:20231210T170000
DTSTAMP:20260424T185711
CREATED:20231130T093756Z
LAST-MODIFIED:20231204T094719Z
UID:1941-1702222200-1702227600@one-way-street.com
SUMMARY:[:zh]#Asian Talk 026 日俄战争对中国的深刻影响 ——《晚清三国》东京分享会[:]
DESCRIPTION:【活动信息】\n日俄战争对中国的深刻影响 ——《晚清三国》东京分享会\n嘉宾：李洁 \n时间：2023年12月10日（周日）15:30-17:00 \n地点：单向街书店·东京银座店 \n地址：东京都中央区银座1-6-1 \n形式：中文分享会 \n自由席：30席（坐席不设预定，先到先得） \n费用：1500 日元(含指定饮料一杯) \n           〔单向街书店·东京银座店年费会员免费〕 \n  \n参与方式：\n①点击页首「Get Tickets」付款报名 \n② 门店线下购票 \n③成为年费会员，点击页尾「Going」免费登记 \n※购票后不可取消、退款、转让，请提前确认好时间安排，如有任何问题，请随时联系官方IG或致电0362630116。 \n  \n ◎扫码成为年费会员 33\,000日元/年(含税)\n \n【会员权益】\n１、专属年费会员卡 \n2、赠全品饮料券12张 \n3、免费参与书店活动 \n4、简体中文书购书7折 \n  \n【活动介绍】\n1904—1905年的日俄战争，战后加速了大清帝国的解体，极大地改变了中国乃至东亚的政治生态，其实这是一场“太后、天皇、沙皇的日俄战争”——《晚清三国》一书，关键人物纷纷出场：慈禧太后、明治天皇、末代沙皇及老罗斯福总统……其中，一条道走到黑的末代沙皇，以国运相赌的日本君臣，眼见得日俄强邻要在自家故乡和祖陵所在的地方，即“龙兴之地”开战，大清国的君臣们一筹莫展！这场战争决定了俄罗斯帝国的衰亡，日本帝国的崛起，最终也深刻地影响了20世纪中国之命运。 \n  \n【嘉宾介绍】\n \n李洁 \n1957年生，以“实地历史系列”《文武北洋》《晚清三国》等著作为人熟知。他说，我是个旅人，解读历史，向来不怕绕远，只求亲临解读，愿意走在历史的遗址实地上，想尽量走近真相，如此而已。 \n  \n【相关作品】\n  \n \n《1904—1905：晚清三国》 \n作者：李洁 \n出版时间：2019年2月 \n出版社：九州出版社 \n  \n日本人在紧锣密鼓地备战，俄国人在有恃无恐地应战，大清国人则不知如何选边站…… \n大清帝国、日本帝国、俄罗斯帝国，以国运相赌的“晚清三国”，慈禧太后、明治天皇、末代沙皇的日俄战争（1904—1905），俨然豪赌“第零次世界大战”！战后仅6年，矗立近300年的清国大厦，即土崩瓦解。 \n《晚清三国》作者两度造访旅顺口，三度在辽宁大地上驱车驰骋，重寻当年日军的进军路线，或曰沿当年俄军的败北路线，车轮逐次碾过丹东、凤凰城、新宾、本溪、辽阳、沈阳、铁岭、法库和昌图，逐一打探战争遗迹。2015年阳春、仲夏和深秋，作者还曾三次东渡日本，就近解读战争的策源地和一代军政巨头的生长环境。俄罗斯海军节那天（每年7月的最后一个星期日），作者曾专程赶到远东名城海参崴，零距离地打量节日中的太平洋舰队，日俄战争期间的开头与结尾，都与这支舰队有关。 \n在现场打开历史，实地寻访百年前后的中国与强邦。
URL:https://one-way-street.com/zh/event/asian-talk-029/
LOCATION:One Way Street Tokyo\, 東京都中央区銀座1丁目6−1\, 東京\, Japan
ATTACH;FMTTYPE=image/jpeg:https://one-way-street.com/wp-content/uploads/2023/11/20231201中俄战争影响_1662-x-1016.8mm-大横-无二维码.jpg
END:VEVENT
BEGIN:VEVENT
DTSTART;TZID=Asia/Tokyo:20231215T183000
DTEND;TZID=Asia/Tokyo:20231215T203000
DTSTAMP:20260424T185711
CREATED:20231204T130907Z
LAST-MODIFIED:20231208T045643Z
UID:2186-1702665000-1702672200@one-way-street.com
SUMMARY:[:zh]#Asian Talk 027 你好！坂本龙一先生 ——以文字与音乐的亲近[:]
DESCRIPTION:【活动信息】\n你好！坂本龙一先生 ——以文字与音乐的亲近\n嘉宾：许建明、马迟 \n时间：2023年12月15日（周五）18:30-20:30 \n地点：单向街书店·东京银座店 \n地址：东京都中央区银座1-6-1 \n形式：中文分享会 \n自由席：30席（坐席不设预定，先到先得） \n费用：1500 日元(含指定饮料一杯) \n           〔单向街书店·东京银座店年费会员免费〕 \n  \n参与方式：\n①点击页首「Get Tickets」付款报名 \n② 门店线下购票 \n③成为年费会员，点击页尾「Going」免费登记 \n※购票后不可取消、退款、转让，请提前确认好时间安排，如有任何问题，请随时联系官方IG或致电0362630116。 \n  \n ◎扫码成为年费会员 33\,000日元/年(含税)\n \n【会员权益】\n１、专属年费会员卡 \n2、赠全品饮料券12张 \n3、免费参与书店活动 \n4、简体中文书购书7折 \n  \n【活动介绍】\n关于坂本龙一的音乐人生 \n“我觉得我自己就是一个20世纪音乐的过滤器。无调音乐，十二音技法，电子音乐，序列音乐，以及极简音乐，现代音乐就到此为止了。我吸收对于自己而言必要的内容，舍弃不需要的东西，这样就行了。极简风格也好，约翰凯奇也好，利盖蒂捷尔吉也好，都将它们当作碎片吸收到自己体内。”————坂本龙一。 \n有一点遗憾，太多中国读者还是只把坂本龙一局限在了《末代皇帝》和《圣诞快乐，劳伦斯先生》上面。也没错，音乐人始终是他的起点。但他在那之后作为钢琴演奏家的三重奏呢、作为作曲编曲家的身份呢、充满宗教救赎意义的作品呢、以及不断尝试与打破各种乐器、电音、技术来组合音符与旋律，放眼于整个世界又始终保持内观的姿态，用极简的“语言”来表达“极繁复”的内容，即便在“音乐人”的身份里他亦无法被轻易定义。 \n而始终保持着不被定形的状态，从音乐人、到思想家、到环保斗士，甚至到一位病人，他仿佛一位修行者，经历了“守、破、离”，最终回归到最简单也最纯粹的、“人”的身份…… \n此次活动我们尝试从著作译者和音乐人的角度，挑选10首不得不说的音乐作品，向大家展示你所不知道的坂本龙一的音乐魅力。 \n  \n【嘉宾介绍】\n \n许建明 \n文化学者，译者 \n资深媒体人，曾出版日本文化艺术译作十数本 \n上海喜马拉雅美术馆 “浮世之梦”浮世绘大展语言导览负责人 \n  \n \n马迟 \n黑胶唱片主理人。 北京航空航天大学飞行器设计与工程专业，无人驾驶共轴反桨直升机传动结构工程师;莱 蒎黑胶唱片创始人，唱机设计师，唱片发行人。 \n  \n【相关作品】\n \n《skmt，坂本龙一是谁？》 \n \n《看声音听时间》 \n  \n文化学者，译者作者许建明在对坂本龙一的两本作品《skmt，坂本龙一是谁？》和《看声音听时间》进行翻译工作中，有机会梳理了教授从幼年启蒙，到经历各种社会事件之后对音乐发展的影响，不仅如此他的对音乐热热爱同样反哺了他对人生的热爱。无论从一个音乐家还是一个纯粹的人，他都背负并终生践行了自己的使命。
URL:https://one-way-street.com/zh/event/at029/
LOCATION:One Way Street Tokyo\, 東京都中央区銀座1丁目6−1\, 東京\, Japan
ATTACH;FMTTYPE=image/jpeg:https://one-way-street.com/wp-content/uploads/2023/12/1205坂本龙一_1662-x-1016.8mm-大横-无二维码.jpg
END:VEVENT
BEGIN:VEVENT
DTSTART;TZID=Asia/Tokyo:20231216T140000
DTEND;TZID=Asia/Tokyo:20231216T160000
DTSTAMP:20260424T185711
CREATED:20231203T035544Z
LAST-MODIFIED:20231204T085351Z
UID:2142-1702735200-1702742400@one-way-street.com
SUMMARY:[:zh]#Asian Talk 028 纺织美：从中国、日本的审美意识出发，思考“未来之美”[:ja]＃Asian Talk 028 美を紡ぐ：中国と日本の美意識から考える「未来の美」[:]
DESCRIPTION:【活动信息】\n纺织美：从中国、日本的审美意识出发，思考“未来之美”\n嘉宾：近藤千寻（POLA·ORBIS HOLDINGS研究员）、细尾真孝（㈱细尾 代表取締役社长） \n时间：2023 年 12 月 16 日（周六） 14:00-16:00 \n地点：单向街书店·东京银座店 \n地址：东京都中央区银座1-6-1 \n形式：中日双语讲座（日语⇔中文 有翻译） \n人数限制：30人 \n费用：免费（请点一杯饮料支持） \n  \n参与方式：\n点击页尾「Going」登记报名 \n  \n ◎扫码成为年费会员 33\,000日元/年(含税)\n \n【会员权益】\n１、专属年费会员卡 \n2、赠全品饮料券12张 \n3、免费参与书店活动 \n4、简体中文书购书7折 \n  \n【活动介绍】\n在POLA·ORBIS集团的“纺织美”项目中，我们关注中国悠久的文化背景和日本的传统，解读美的内涵，从中日共通的美学意识中思考“未来值得留存的美”。目前，在POLA银座，我们展示了由中国创作者和日本传统工艺师共同打造的表达美的产品的“纺织美””展览。为了纪念这个展览，我们邀请了POLA·ORBIS集团的研究员和监修的细尾先生，分享项目的经过以及他们发现的美的故事。这个展览也是一个关于“美是什么？”的提问。在活动中，我们将与前来参与的观众一起观展，共同体验思考美的过程。​​ \n 
URL:https://one-way-street.com/zh/event/owsxpola/
LOCATION:One Way Street Tokyo\, 東京都中央区銀座1丁目6−1\, 東京\, Japan
END:VEVENT
BEGIN:VEVENT
DTSTART;TZID=Asia/Tokyo:20231217T150000
DTEND;TZID=Asia/Tokyo:20231217T170000
DTSTAMP:20260424T185711
CREATED:20231128T234058Z
LAST-MODIFIED:20231204T093915Z
UID:1934-1702825200-1702832400@one-way-street.com
SUMMARY:[:zh]#Asian Talk 029 从《阿飛》到《繁花》 ——王家衞的浪遊：上海、香港、南洋[:]
DESCRIPTION:【活动信息】\n从《阿飞》到《繁花》 ——王家卫的浪游：上海、香港、南洋\n嘉宾：李照兴 、章舜源 \n时间：2023年12月17日（周日）15:00-17:00 \n地点：单向街书店·东京银座店 \n地址：东京都中央区银座1-6-1 \n形式：中文分享会 \n自由席：30席（坐席不设预定，先到先得） \n费用：1500 日元(含指定饮料一杯) \n           〔单向街书店·东京银座店年费会员免费〕 \n  \n参与方式：\n①点击页首「Get Tickets」付款报名 \n② 门店线下购票 \n③成为年费会员，点击页尾「Going」免费登记 \n※购票后不可取消、退款、转让，请提前确认好时间安排，如有任何问题，请随时联系官方IG或致电0362630116。 \n  \n ◎扫码成为年费会员 33\,000日元/年(含税)\n \n【会员权益】\n１、专属年费会员卡 \n2、赠全品饮料券12张 \n3、免费参与书店活动 \n4、简体中文书购书7折 \n  \n【活动介绍】\nNomads“浪者”概念是王家衞电影角色的现代性解读。他们从地理的流散进而至心理的漂泊，由北方、上海、广东到香港再走南洋，时而闲游街角，到处留情之外实是包含一种对城市和人情时不我予”人在异乡”的疏离。怀旧是作品的呈现，“人面桃花”的叹喟才是本质。面向大离散的新时代，电影中的人物仿佛预示了某种当代特质，由香港的小上海到《繁花》的老风情，在Xavier Cugat的音韵中，由两位来自香港与马来西亚的流行文化学者娓娓道来…… \n  \n【嘉宾介绍】\n \n李照兴 \n影评人、作家。编有《王家卫的映画世界》、《经典200—最佳华语电影二百部》、《香港101》 ；著有《潮爆中国》等书。 \n  \n \n章舜源 \n东京创价大学国际教养学部助理教授/讲师 \n  \n【相关作品】\n \n《王家卫的映画世界》 \n策划：香港电影评论协会 \n编者：黄爱玲、潘国灵、李照兴 \n出版时间：2015年2月 \n出版社：香港三联书店
URL:https://one-way-street.com/zh/event/asian-talk-028/
LOCATION:One Way Street Tokyo\, 東京都中央区銀座1丁目6−1\, 東京\, Japan
END:VEVENT
BEGIN:VEVENT
DTSTART;TZID=Asia/Tokyo:20231217T190000
DTEND;TZID=Asia/Tokyo:20231217T210000
DTSTAMP:20260424T185711
CREATED:20231211T013730Z
LAST-MODIFIED:20231212T034140Z
UID:2255-1702839600-1702846800@one-way-street.com
SUMMARY:[:zh]KONKUJIRA乐队一周年线下PARTY[:ja]KONKUJIRAバンド1周年記念パーティー[:]
DESCRIPTION:【活动信息】\nKONKUJIRA乐队一周年线下PARTY\n嘉宾：紺鯨魚-KONKUJIRA 乐队（由三位中国留学生与一位日本学生组成的日系摇滚乐队） \n时间：2023年12月17日（周日）19:00-21:00 \n地点：单向街书店·东京银座店 \n地址：东京都中央区银座1-6-1 \n形式：不插电演唱会 \n自由席：30席（坐席不设预定，先到先得） \n费用：1000日元（含一杯饮品＋甜点） \n   \n参与方式：\n①点击页首「Get Tickets」付款报名 \n② 门店线下购票 \n※购票后不可取消、退款、转让，请提前确认好时间安排，如有任何问题，请随时联系官方IG或致电0362630116。 \n  \n ◎扫码成为年费会员 33\,000日元/年(含税)\n \n【会员权益】\n１、专属年费会员卡 \n2、赠全品饮料券12张 \n3、免费参与书店活动 \n4、简体中文书购书7折 \n  \n【活动介绍】\n紺鯨魚-KONKUJIRA，由四个音乐学院在校大学生组成的乐队，凭借过硬的原创能力和演奏水平，成立仅数月便在网络上获得众多关注，并完成了在日本的多次现场演出以及中国的首次巡演。从网络平台发表第一个视频开始，仅用一个月左右便达成了35万次的播放和1.6万的粉丝积累。 \n如今，正值乐队成立一周年之际，四位成员怀揣着对一直以来支持我们的粉丝的感谢之心，在单向街书店银座店举行一场线下交流派对。除了不插电形式的原创歌曲表演之外，我们策划了与粉丝近距离互动的游戏环节以及对粉丝评论的反馈、答疑环节，并有乐队周边作为游戏奖品赠予粉丝。 \n  \n【嘉宾介绍】\n \n◯紺鲸鱼-KONKUJIRA \n一支在2022年12月组建的乐队。 \n由在洗足学园音乐大学就读的一名日本学生和三名中国留学生组成。 \n  \n成员介绍： \n· 主唱Cokai \n高中时期有在日本留学的经历，在了解中日文化的共通点和差异后，能够用日语和中文创作原创歌曲。擅长作曲和编曲，能够通过音乐构建故事，发布了多首打动人心的歌曲。 \n· 吉他手Yuta \n在2019年的“未确认音乐节”中获得银奖。精通吉他、鼓、贝斯、键盘、管弦乐等多种乐器。 \n· 鼓手Yamchi \n获得了上海IPEA国际打击乐器比赛青年组爵士鼓手冠军，台湾第九届TWPC国际打击乐器比赛青年组爵士鼓手冠军等多个大奖的天才鼓手。 \n· 贝斯手Zen \n在洗足学园音乐大学主修PA&JAZZ双专业，精通放克、爵士、流行、摇滚等多种音乐风格。
URL:https://one-way-street.com/zh/event/konkujira1stani/
LOCATION:One Way Street Tokyo\, 東京都中央区銀座1丁目6−1\, 東京\, Japan
ATTACH;FMTTYPE=image/jpeg:https://one-way-street.com/wp-content/uploads/2023/12/WechatIMG89-scaled.jpeg
END:VEVENT
BEGIN:VEVENT
DTSTART;TZID=Asia/Tokyo:20231223T183000
DTEND;TZID=Asia/Tokyo:20231223T203000
DTSTAMP:20260424T185711
CREATED:20231218T090110Z
LAST-MODIFIED:20231219T033606Z
UID:2408-1703356200-1703363400@one-way-street.com
SUMMARY:[:zh]⼤家的书店，⼤家的圣诞节[:]
DESCRIPTION:【活动信息】\n⼤家的书店，⼤家的圣诞节\n嘉宾：：Li-Pi Records、东京脱线时间、曾楠 \n时间：2023 年 12 ⽉ 23 ⽇（周 六 ）18 ： 30-20:30 \n地点：单向街书店·东京银座店 \n地址：东京都中央区银座1-6-1 \n形式：礼物互换 ⼆⼿市集 共同装饰 故事分享 ⾳乐游戏 \n自由席：30席（坐席不设预定，先到先得） \n⼊场费：500 ⽇元（参加者携圣诞⼩礼物出席） \n  \n参与方式：\n①点击页首「Get Tickets」付款报名 \n② 门店线下购票 \n※购票后不可取消、退款、转让，请提前确认好时间安排，如有任何问题，请随时联系官方IG或致电0362630116。 \n  \n ◎扫码成为年费会员 33\,000日元/年(含税)\n \n【会员权益】\n１、专属年费会员卡 \n2、赠全品饮料券12张 \n3、免费参与书店活动 \n4、简体中文书购书7折 \n  \n【活动介绍】\n单向东京开业四个月之际迎来书店的第一个圣诞节。 \n几个爱书、爱音乐、爱生活的伙伴相聚 单向二楼，一个关于爱与分享的 “书店圣诞夜派对”就此发生。 \n  \n【嘉宾介绍】\n  \nLi-Pi Records \n单向街书店·东京银座店2 层，驻书店唱片店长期营业 2009 年创⽴，位于北京 798 艺术区的一家经营 14 年的⿊胶唱⽚店。对世界各地⾳乐的钻 研和热爱成就了中国少数的⼤规模⿊胶唱⽚店，在北京、上海、东京设有分部，除唱⽚以外还 致⼒于⾳乐、艺术相关的内容策划，以及⾳乐相关的多⽅向事业开展。 \n  \n东京脱线时间 ・tokyodametime \n⼀段基于东京的⽇常观察和过时信息，毫⽆章法聊天的对话录⾳。如果你对⽇本的鸡⽑蒜 ⽪感兴趣，但是想不严肃地了解，⽆论你⾝在⽇本，或者不是，都欢迎你来听且吐槽我们。 Apple Podcast、Spotify、⼩宇宙等⽇常更新中。 \n  \n \n曾楠（特别嘉宾） \n独⽴⾳乐⼈、赖床⺠谣创始⼈ \n⼈⽣格⾔:⼭河⽞妙\,宇宙洪荒\,唯赖床不可辜负。
URL:https://one-way-street.com/zh/event/evbdsxmas/
LOCATION:One Way Street Tokyo\, 東京都中央区銀座1丁目6−1\, 東京\, Japan
ATTACH;FMTTYPE=image/jpeg:https://one-way-street.com/wp-content/uploads/2023/12/圣诞海报4.jpg
END:VEVENT
BEGIN:VEVENT
DTSTART;TZID=Asia/Tokyo:20231224T163000
DTEND;TZID=Asia/Tokyo:20231224T180000
DTSTAMP:20260424T185711
CREATED:20231213T062556Z
LAST-MODIFIED:20231215T103410Z
UID:2332-1703435400-1703440800@one-way-street.com
SUMMARY:[:zh]#Asian Talk 030 这些年我因为看动画被问的那些蠢问题——日谈公园 x 天地無用・东京见面会[:]
DESCRIPTION:【活动信息】\nAsian Talk 030 这些年我因为看动画被问的那些蠢问题\n嘉宾：李志明（播客《日谈公园》主播）、3000（播客《天地无用》主播） \n时间：2023年12月24日（周六）16:30-18:00 \n地点：单向街书店·东京银座店 \n地址：东京都中央区银座1-6-1 \n形式：中文分享会 \n自由席：30席（坐席不设预定，先到先得） \n费用：1500 日元(含指定饮料一杯) \n           〔单向街书店·东京银座店年费会员免费〕 \n  \n参与方式：\n①点击页首「Get Tickets」付款报名 \n② 门店线下购票 \n③成为年费会员，点击页尾「Going」免费登记 \n※购票后不可取消、退款、转让，请提前确认好时间安排，如有任何问题，请随时联系官方IG或致电0362630116。 \n  \n ◎扫码成为年费会员 33\,000日元/年(含税)\n \n【会员权益】\n１、专属年费会员卡 \n2、赠全品饮料券12张 \n3、免费参与书店活动 \n4、简体中文书购书7折 \n  \n【活动介绍】\n你看动漫啊，你一定是个二次元吧？\n你真有童心。\n你看动漫啊，我也最爱看动漫了。\n你看动漫啊，你是个小画家吧？\n你看动漫，你来负责这次的水泥品牌国潮创新营销吧。\n这些年我们因为看动画被问的那些蠢问题，不知道有多少。 \n《日谈公园》和《天地无用》两档播客的首次海外听友见面会。李志明和3000两位主播，加在一起做了十五年的播客，看了八十年的动画。想邀请东京的听友来到银座的单向街书店，一起聊聊为何到今天我们还在看动画。在嘉宾对谈环节之后，还会有45分钟的听友互动环节，大家可以和主播尽兴交流，分享自己和播客的故事。 \n  \n【嘉宾介绍】\n \n李志明\n播客《日谈公园》创始人、主播。资深媒体人及动画爱好者，曾与嘉宾3000共同推出《神作！一看入魂的日本动画电影》系列对谈音频节目。 \n \n3000\n播客《天地无用》创始人、主播。资深漫画编辑、动画制片人。由其主持的音频播客节目《天地无用》定位于“视觉文艺杂谈”，探讨关于动漫游戏、小说电影等大家喜爱的作品或其引发的话题。
URL:https://one-way-street.com/zh/event/at030/
LOCATION:One Way Street Tokyo\, 東京都中央区銀座1丁目6−1\, 東京\, Japan
END:VEVENT
BEGIN:VEVENT
DTSTART;TZID=Asia/Tokyo:20231229T180000
DTEND;TZID=Asia/Tokyo:20231229T200000
DTSTAMP:20260424T185711
CREATED:20231211T090152Z
LAST-MODIFIED:20231211T094239Z
UID:2276-1703872800-1703880000@one-way-street.com
SUMMARY:[:zh]2023年単向忘年会！ 第一回単向忘年会の開催です！[:]
DESCRIPTION:【活动信息】\n2023年単向忘年会！\n第一回単向忘年会の開催です！\n时间：2023年12月29日（周五）18:00-20:00 \n地点：单向街书店·东京银座店 \n地址：东京都中央区银座1-6-1 \n费用：3500日元（年会员免费）\n包含食物和饮料 \n自由席：30席 \n  \n  \n参与方式：\n码下拉至页面底部，购票报名 \n※购票后不可取消、退款、转让，请提前确认好时间安排，如有任何问题，请随时联系官方IG或致电0362630116。 \n  \n ◎ 会扫码成为年费会员 33\,000日元/年(含税)\n \n【会员权益】\n１、专属年费会员卡 \n2、赠全品饮料券12张 \n3、免费参与书店活动 \n4、简体中文书购书7折 \n  \n【活动详情】\n試運転開始から合わせると単向街書店銀座店が始まり約5ヶ月。まだ5ヶ月！されど5ヶ月！こんなにもたくさんの皆さまに出会い、たくさんの恩をいただけるとは開業前には想像もしていませんでした。 \n暗中模索で始まった7月でしたが、今となっては風雨も気づかず走り続けたような感じがします。もちろん今後もたくさんのドラマがあるでしょう。 \n悩みも寂しさも、うずく好奇心や日常の物足りなさも、この書店に来ることでなんだか少し満たされた、考えるきっかけが生まれた・・・など日常にわずかな栄養を注ぎ続けることで、いつかみなさまの心に大切な存在として根づける書店になれるよう努めてまいります。 \n今年の最後にみなさまと顔を合わせ、たくさんのことを語り合えたら嬉しいです。書店スタッフも参加させていただきます。 \n  \n 
URL:https://one-way-street.com/zh/event/year-end-party2023/
LOCATION:One Way Street Tokyo\, 東京都中央区銀座1丁目6−1\, 東京\, Japan
ATTACH;FMTTYPE=image/png:https://one-way-street.com/wp-content/uploads/2023/12/76d72bb2b1ac3cde9f60e2387c2ec71.png
END:VEVENT
END:VCALENDAR