BEGIN:VCALENDAR
VERSION:2.0
PRODID:-//One Way Street Tokyo - ECPv6.6.2//NONSGML v1.0//EN
CALSCALE:GREGORIAN
METHOD:PUBLISH
X-ORIGINAL-URL:https://one-way-street.com/zh
X-WR-CALDESC:One Way Street Tokyo的活动
REFRESH-INTERVAL;VALUE=DURATION:PT1H
X-Robots-Tag:noindex
X-PUBLISHED-TTL:PT1H
BEGIN:VTIMEZONE
TZID:Asia/Tokyo
BEGIN:STANDARD
TZOFFSETFROM:+0900
TZOFFSETTO:+0900
TZNAME:JST
DTSTART:20230101T000000
END:STANDARD
END:VTIMEZONE
BEGIN:VEVENT
DTSTART;TZID=Asia/Tokyo:20231103T190000
DTEND;TZID=Asia/Tokyo:20231103T210000
DTSTAMP:20260424T202705
CREATED:20231024T042726Z
LAST-MODIFIED:20231102T073748Z
UID:209-1699038000-1699045200@one-way-street.com
SUMMARY:[:zh]【单向街书店东京银座店 x 刘柠 - 驻店计划 Vol.1 】新书发布会&主题分享“威士忌与现代化——日威百年回望"[:]
DESCRIPTION:驻店计划 Vol.1 \n秉承单向街中国的“作家驻店”传统，我们邀请到前单向街旗舰店（花家地）首任驻店作家刘柠先生，再度以“首任驻店作家”的身份光临书店，开展系列活动。我们将通过驻店计划中形式多样的活动与展览去呈现这位知日作家的日常、写作与趣味。与各位读者分享过往多年来其所投身的关于日本的研究思考、书写行动及部分成果。\n单向街书店东京银座店\n【活动信息 】\n单向街书店东京银座店 x 刘柠 \n新书发布会&主题分享“威士忌与现代化——日威百年回望” \n嘉宾：刘柠\n时间：11月3日（周五・祝日）19:00-21:00\n地点：单向街书店·东京银座店 2F\n地址：东京都中央区银座1-6-1\n活动形式：\nPart 1：19:00-20:00\n《威士忌百科全书：日本》新书发布会\nPart 2：20:00-21:00\n主题分享“威士忌与现代化——日威百年回望”+威士忌品鉴\n费用：3500日元（会员免费）\n参与方式：下拉至页面底部购票报名（报名成功后不可取消、退款，请提前确认好时间安排）\n※如遇任何问题，请随时联系官方IG或致电0362630116\n赞助：“浮世”威士忌\n \n\n【活动介绍】\n短短百年内，日本的蒸馏厂从无到有，将本来甚至无法称之为威士忌的烈酒，提升至艺术的境界。斩获无数国际级大奖的日威，摇身一变成为世上最被追捧也最高价的传奇威士忌。\n2023年12月，史上第一本日本威士忌全书《威士忌百科全书：日本》（Whisky Rising: The Definitive Guide to the Finest Whiskies and Distillers of Japanby Stefan Van Eycken）一书的简体中文版即将正式出版。东京银座店首位驻店作家刘柠先生参与策划并撰写了新书的深度导读文字。\n作为驻店计划的一个环节，刘柠先生将携《威士忌百科全书：日本》召开新书发布会。通过“威士忌与现代化——日威百年回望”主题分享会，跟着刘柠先生的讲述更深入地了解日威由兴而衰继而风起云涌的这段波澜壮阔历程。\n在会场，我们将准备山崎（大坂）、余市（北海道）与浮世（冲绳），3款来自不同产地的经典日本威士忌供大家品鉴。相聚一堂，怎能仅仅停留在加深了解，与此同时我们亦须有美妙的香醇体验。\n  \n 【嘉宾介绍】\n \n刘柠\n作家、译者。北京人。大学时代放浪东瀛，后服务日企有年。先后在两岸三地出版作品二十余种，主编《东方历史评论》日本特辑。2021年，以译著《花甲录》获第七届单向街书店“年度作品”奖。\n  \n【相关作品】\n《威士忌百科全书：日本》\n作者：[比]斯特凡•范艾肯 著\n译者： 支彧涵 译　胡弗居 校译\n策划人：刘柠\n出版时间：2023.12\n出版品牌：中信·将进酒 Dionysus\n \n 
URL:https://one-way-street.com/zh/event/%e4%b8%ad%e6%96%87-%e3%80%90%e6%96%b0%e4%b9%a6%e5%8f%91%e5%b8%83%e4%bc%9a%e3%80%91%e5%a8%81%e5%a3%ab%e5%bf%8c%e4%b8%8e%e7%8e%b0%e4%bb%a3%e5%8c%96-%e6%97%a5%e5%a8%81%e7%99%be/
LOCATION:One Way Street Tokyo\, 東京都中央区銀座1丁目6−1\, 東京\, Japan
ATTACH;FMTTYPE=image/jpeg:https://one-way-street.com/wp-content/uploads/2023/10/231024东京驻店计划-新书_大横.jpg
END:VEVENT
BEGIN:VEVENT
DTSTART;TZID=Asia/Tokyo:20231105T143000
DTEND;TZID=Asia/Tokyo:20231105T160000
DTSTAMP:20260424T202705
CREATED:20231024T054008Z
LAST-MODIFIED:20231102T073849Z
UID:932-1699194600-1699200000@one-way-street.com
SUMMARY:[:zh]【单向街书店东京银座店 x 刘柠 - 驻店计划 Vol.1 】主题讲座：丹下健三与战后日本的现代主义建筑[:]
DESCRIPTION:驻店计划 Vol.1 \n秉承单向街中国的“作家驻店”传统，我们邀请到前单向街旗舰店（花家地）首任驻店作家刘柠先生，再度以“首任驻店作家”的身份光临书店，开展系列活动。我们将通过驻店计划中形式多样的活动与展览去呈现这位知日作家的日常、写作与趣味。与各位读者分享过往多年来其所投身的关于日本的研究思考、书写行动及部分成果。\n单向街书店东京银座店\n【活动信息 】\n单向街书店东京银座店 x 刘柠 – 驻店计划 Vol.1 \n主题讲座：丹下健三与战后日本的现代主义建筑 \n嘉宾：刘柠\n时间：11月5日（周日）14:30-16:00\n地点：单向街书店·东京银座店 2F\n地址：东京都中央区银座1-6-1\n活动形式：中文讲座\n费用：1500日元（会员免费）\n参与方式：下拉至页面底部购票报名（报名成功后不可取消、退款，请提前确认好时间安排）\n※如遇任何问题，请随时联系官方IG或致电0362630116\n  \n【活动介绍】\n丹下健三是不世出的理想建筑师，他不仅使传统建筑设计的畛域大大拓宽，改写了日本乃至世界都市的景观，连作为城市和建筑物的主体——人的行动和生活方式，也因空间关系的重新定义而被深刻改变。\n1946年，丹下成为东京帝大建筑学科的助教，并创设了自己的研究室（丹下研究室，简称“丹研”）。战后初期，正是民生疲敝，百废待兴之际。而丹研的头一个项目，便是战灾复兴院（建设省前身）委托的广岛都市复兴计划。谁也不承想，青年建筑师在战时的默默发力，竟成了一段传奇的起点。\n在驻店计划主题讲座的第一讲，“丹下健三与战后日本的现代主义建筑”中，刘柠先生将携他的译作《丹下健三：构想战后日本》来到单向街书店，与大家一起聊聊丹下，以及一代宗师身影背后的战后史。\n  \n 【嘉宾介绍】\n \n刘柠\n作家、译者。北京人。大学时代放浪东瀛，后服务日企有年。先后在两岸三地出版作品二十余种，主编《东方历史评论》日本特辑。2021年，以译著《花甲录》获第七届单向街书店“年度作品”奖。\n  \n【相关作品】\n《丹下健三：构想战后日本》\n作者：丰川斋赫\n译者：刘柠\n出版时间：2021年\n出版品牌：新星出版社
URL:https://one-way-street.com/zh/event/%e4%b8%ad%e6%96%87-%e3%80%90%e5%8d%95%e5%90%91%e8%a1%97%e4%b9%a6%e5%ba%97%e4%b8%9c%e4%ba%ac%e9%93%b6%e5%ba%a7%e5%ba%97-x-%e5%88%98%e6%9f%a0-%e9%a9%bb%e5%ba%97%e8%ae%a1%e5%88%92-vol-1-%e3%80%91/
LOCATION:One Way Street Tokyo\, 東京都中央区銀座1丁目6−1\, 東京\, Japan
ATTACH;FMTTYPE=image/jpeg:https://one-way-street.com/wp-content/uploads/2023/10/231024东京驻店计划-讲座1_大横.jpg
END:VEVENT
BEGIN:VEVENT
DTSTART;TZID=Asia/Tokyo:20231110T183000
DTEND;TZID=Asia/Tokyo:20231110T200000
DTSTAMP:20260424T202705
CREATED:20231031T122528Z
LAST-MODIFIED:20231105T030741Z
UID:989-1699641000-1699646400@one-way-street.com
SUMMARY:[:zh]#Asian Talk 017 爱自己——女性困境与解脱之道[:]
DESCRIPTION:【活动信息】 \nAsian Talk 017 爱自己——女性困境与解脱之道\n嘉宾：闾丘露薇、李一诺\n时间：2023年11月10日（周五）18:30-20:00\n地点：单向街书店·东京银座店\n地址：东京都中央区银座1-6-1\n形式：中文分享会（附签售环节）\n费用：1500日元（会员免费）\n参与方式：下拉至页面底部购票报名（报名成功后不可取消、退款，请提前确认好时间安排）\n【如遇任何问题，请随时联系官方IG或致电0362630116】\n  \n【活动介绍】 \n2023年诺贝尔经济学奖，颁发给了美国哈佛大学经济系教授、经济学家克劳迪娅•戈尔丁（Claudia Goldin），表彰她“推动了我们对女性劳动力市场结果的理解”。\n诺贝尔的选择，凸显了当下全球范围内对于女性议题的关注，这折射了近些年来女性议题通过多维度的讨论从而赢得的广泛关注。\n女性，在社会与个人层面，该如何成长？\n闾丘露薇与李一诺，两位在各自领域绽放的女性，同样经过了女性成长中的困惑、彷徨与沮丧。是投入到现实中的决心、面对变化的勇气、自我更新与迭代的敏锐，让她们能在困境之中，寻找到与困境共存、从困境中成长的智慧。\n\n【嘉宾介绍】\n \n闾丘露薇 \n前媒体人，现为香港浸会大学传理学院副教授。\n  \n \n李一诺 \n“一土教育”共同创业者、畅销书作家、“奴隷社会”频道创设者、社群“诺言”管理人。\n  \n【相关作品】 \n \n《浮世蔷薇》 \n作者：闾丘露薇 \n出版日期：2023年7月 \n出版品牌：二0四六出版 \n  \n \n《力量从哪里来》 \n作者：李一诺 \n出版日期：2021年2月 \n出版品牌：中信出版集团
URL:https://one-way-street.com/zh/event/%e4%b8%ad%e6%96%87-asian-talk-017-%e7%88%b1%e8%87%aa%e5%b7%b1-%e5%a5%b3%e6%80%a7%e5%9b%b0%e5%a2%83%e4%b8%8e%e8%a7%a3%e8%84%b1%e4%b9%8b%e9%81%93/
LOCATION:One Way Street Tokyo\, 東京都中央区銀座1丁目6−1\, 東京\, Japan
ATTACH;FMTTYPE=image/jpeg:https://one-way-street.com/wp-content/uploads/2023/10/1027爱自己对谈_大横.jpg
END:VEVENT
BEGIN:VEVENT
DTSTART;TZID=Asia/Tokyo:20231112T143000
DTEND;TZID=Asia/Tokyo:20231112T160000
DTSTAMP:20260424T202705
CREATED:20231024T055137Z
LAST-MODIFIED:20231105T025922Z
UID:940-1699799400-1699804800@one-way-street.com
SUMMARY:[:zh]【单向街书店东京银座店 x 刘柠 - 驻店计划 Vol.1 】主题讲座：比较与镜鉴——中日书业的异同&何以建构“有文化”的书业[:]
DESCRIPTION:驻店计划 Vol.1 \n秉承单向街中国的“作家驻店”传统，我们邀请到前单向街旗舰店（花家地）首任驻店作家刘柠先生，再度以“首任驻店作家”的身份光临书店，开展系列活动。我们将通过驻店计划中形式多样的活动与展览去呈现这位知日作家的日常、写作与趣味。与各位读者分享过往多年来其所投身的关于日本的研究思考、书写行动及部分成果。\n单向街书店东京银座店\n【活动信息 】\n单向街书店东京银座店 x 刘柠 – 驻店计划 Vol.1 \n比较与镜鉴——中日书业的异同&何以建构“有文化”的书业 \n嘉宾：刘柠、李长声\n时间：11月12日（周日）14:30-16:00\n地点：单向街书店·东京银座店 2F\n地址：东京都中央区银座1-6-1\n活动形式：中文讲座、对谈\n费用：1500日元（会员免费）\n参与方式：下拉至页面底部购票报名（报名成功后不可取消、退款，请提前确认好时间安排）\n※如遇任何问题，请随时联系官方IG或致电0362630116\n  \n【活动介绍】\n驻店计划主题讲座的第二讲，“比较与镜鉴——中日书业的异同&何以建构’有文化’的书业”。刘柠先生将携他的著作《私享录：四十年来书业》与《东京文艺散策》来到单向街书店，与同为知日作家的李长声先生开展对谈，一起聊聊对两国书业的观察与对未来的展望。\n  \n【嘉宾介绍】\n \n刘柠\n作家、译者。北京人。大学时代放浪东瀛，后服务日企有年。先后在两岸三地出版作品二十余种，主编《东方历史评论》日本特辑。2021年，以译著《花甲录》获第七届单向街书店“年度作品”奖。\n  \n \n李长声\n旅日作家、日本出版文化史研究专家，曾任《日本文学》杂志副主编，著有《枕日闲谈》等。\n  \n【相关作品】\n《私享录：四十年来书业》 \n作者：刘柠 \n出版时间：2023年 \n出版品牌：安徽教育出版社 \n \n  \n《东京文艺散策（增订版）》 \n作者：刘柠 \n出版时间：2018年 \n出版品牌：远景
URL:https://one-way-street.com/zh/event/%e4%b8%ad%e6%96%87-%e3%80%90%e5%8d%95%e5%90%91%e8%a1%97%e4%b9%a6%e5%ba%97%e4%b8%9c%e4%ba%ac%e9%93%b6%e5%ba%a7%e5%ba%97-x-%e5%88%98%e6%9f%a0-%e9%a9%bb%e5%ba%97%e8%ae%a1%e5%88%92-vol-1-%e3%80%91-2/
LOCATION:One Way Street Tokyo\, 東京都中央区銀座1丁目6−1\, 東京\, Japan
ATTACH;FMTTYPE=image/jpeg:https://one-way-street.com/wp-content/uploads/2023/10/231024东京驻店计划-讲座2_大横-1.jpg
END:VEVENT
BEGIN:VEVENT
DTSTART;TZID=Asia/Tokyo:20231117T183000
DTEND;TZID=Asia/Tokyo:20231117T200000
DTSTAMP:20260424T202705
CREATED:20231108T090232Z
LAST-MODIFIED:20231116T095859Z
UID:1207-1700245800-1700251200@one-way-street.com
SUMMARY:[:zh]#Asian Talk 018 纪念渡边淳一诞辰90周年：点燃“失乐”时代的一把野火——《失乐园》纪念版首发[:]
DESCRIPTION:【活动信息】\nAsian Talk 018 纪念渡边淳一诞辰90周年：点燃“失乐”时代的一把野火——《失乐园》纪念版首发\n嘉宾：林少华（著名文学翻译家、学者、作家、中国海洋大学教授）、梁永安（复旦大学中文系教授、硕士生导师、作家）、许知远（作家、单向空间创始人）、李志明（播客《日谈公园》创始人、主播）\n时间：2023年11月17日（周五）18:30-20:00\n地点：单向街书店·东京银座店\n地址：东京都中央区银座1-6-1\n形式：中文分享会（附签售环节）\n  \n费用：1500日元（会员免费）\n参与方式：下拉至页面底部购票报名\n报名成功后不可取消、退款，请提前确认好时间安排\n  \n会员自由席：5　／一般自由席：30\n坐席不设预定，先到先得\n※如有任何问题，请随时联系官方IG或致电0362630116\n  \n【活动介绍】\n1995年，62 岁的渡边淳一创作了亚洲两性文学经典之作《失乐园》。故事凄而美，初读满目中年男女的“不伦之恋”。然而掩卷四望，那日本 1990 年代开始的下沉时代，与这本书中的腾腾情欲，竟撞击出冰与火的生命冲力。正如书中所言，世风萎缩不堪，“表面上似乎一本正经，其实由于欲望受到扭曲性压抑，风流倜傥自由奔放的活力早已失去，唯独中伤和嫉妒四处漫延的阴险社会正在形成”。\n这本奇情之书，写出了经济巨兽跳跃之下，人的灵魂已被踏平，而不甘寂灭的男女主人公，以自焚般的燃烧，为物化蔓延的“失乐”时代点亮一片野火。犹如刀耕火种，《失乐园》以男女主人公的隐入灰烬结束，在读者中，却是以心灵的重新萌芽开始。\n30年的创作生涯，他总在直面人们内心的矛盾和挣扎。从医10年，他见惯生死，看透人性。他认为，最后拯救人的不一定是医院，也可以是文学、是爱。\n11月17日，《失乐园》纪念版新书分享会将在单向街书店·东京银座店举行。在渡边淳一诞辰90周年之际，我们邀请了译者林少华，作家梁永安、许知远，主播李志明，共同聊一聊渡边淳一，去发掘被他藏在情爱中的深邃世界。\n  \n【嘉宾介绍】\n  \n林少华 \n林少华是村上春树许多著作的中文翻译者，并翻译夏目漱石、片山恭一、三岛由纪夫等日本名家作品百余部，广为流布，影响深远。也曾在大学任教日本文学，2018年因杰出的翻译业绩和对中日文化交流的贡献而荣获日本“外务大臣奖”。\n他直言翻译渡边淳一的《失乐园》让他夜半叹息，“畸形又自然、猥琐又真诚，见不得人又刻骨铭心”。\n  \n梁永安 \n梁永安作为文学教授，关注到青年一代的爱情问题，不仅在复旦大学开设“爱情课”，还在B站等平台录制系列视频，讨论脱单、相亲、异地恋等爱情问题，拥有超高人气，被网友亲切称为“懂爱情的梁老师”。梁永安老师曾在日本大学做过客座教授，对中日文化都有深入的研究，对爱情有独到的见解。\n他说“爱情确实可以改变人的命运，可以让我们在纷乱的社会生活中找到自己，让生命水落石出。”\n  \n许知远 \n作家，单向空间创始人，谈话节目《十三邀》主创。著作包括《祖国的陌生人》《一个游荡者的世界》《那些忧伤的年轻人》等，他正在撰写五卷本梁启超传记，其中两卷《梁启超：青年变革者 1873—1898》，《梁启超：亡命（1898—1903）》现已出版。\n  \n李志明  \n日谈公园创始人、主播\n  \n【相关作品】\n \n《失乐园》 \n作者：渡边淳一 \n译者：林少华 \n出版日期： 2023年 \n出版品牌：青岛出版社
URL:https://one-way-street.com/zh/event/1207/
LOCATION:One Way Street Tokyo\, 東京都中央区銀座1丁目6−1\, 東京\, Japan
ATTACH;FMTTYPE=image/jpeg:https://one-way-street.com/wp-content/uploads/2023/11/AT18渡边淳一_大横.jpg
END:VEVENT
BEGIN:VEVENT
DTSTART;TZID=Asia/Tokyo:20231118T143000
DTEND;TZID=Asia/Tokyo:20231118T160000
DTSTAMP:20260424T202705
CREATED:20231106T083215Z
LAST-MODIFIED:20231117T003617Z
UID:1144-1700317800-1700323200@one-way-street.com
SUMMARY:[:zh]#Asian Talk 020 隔岸不止观火——梁启超、孙中山在东京对庚子事变的研判与应对[:]
DESCRIPTION:【活动信息】\nAsian Talk 020 隔岸不止观火——梁启超、孙中山在东京对庚子事变的研判与应对\n嘉宾：谭木声（《太后西奔》作者）、李长声（旅日作家、日本出版文化史研究专家）\n主持：罗瑾（新亚文化联合创始人）\n时间：2023年11月18日（周六）14:30-16:00\n地点：单向街书店·东京银座店\n地址：东京都中央区银座1-6-1\n形式：中文分享会（附签售环节）\n  \n费用：1500日元（会员免费）\n参与方式：下拉至页面底部购票报名\n报名成功后不可取消、退款，请提前确认好时间安排\n  \n自由席：30\n坐席不设预定，先到先得\n※如有任何问题，请随时联系官方IG或致电0362630116\n  \n【活动介绍】\n1900年，八国联军攻进京师，慈禧太后、光绪皇帝两宫仓皇出逃。山雨欲来，站在风口的决策者如何思想？越过百年回望，梁启超、孙中山在东京对庚子事变的研判与应对又是如何？\n2023年7月，新星出版社出版了青年历史研究学者谭木声的《太后西奔》一书，作者以庚子年太后西狩这一历史事件解读晚清历史格局发展走向，在开放与封闭、进取与保守、科学与愚昧的对撞中呈现这一特殊时期的生动历史、鲜活人物与帝国无可阻挡的悲剧走向。\n11月18日，我们想邀请对历史探究感兴趣的你来到我们的《太后西奔》新书分享会，听听嘉宾们如何进行一场特别的主题对谈：隔岸不止观火——梁启超孙中山在东京对庚子事变的研判与应对。\n历史最大的妙处在于其永远有无限挖掘与探究的可能，我们期待你将目光放到在历史大潮中挣扎起舞的历史人物身上，跟随嘉宾们的对谈，感受帝国晚期的仓皇与激荡，更加真实而全面地认识陈旧又新鲜的时代。\n《太后西奔》作者谭木声、旅日作家李长声在东京单向街书店，等你一起分享——历史中的那些故事。\n  \n【嘉宾介绍】\n \n谭木声 \n青年历史研究学者。中国人民大学西方哲学硕士，中国社会科学院近代史研究所博士研究生。学术研究方向为晚清政治史，特别是清末宪政的外交因素。\n \n李长声 \n旅日作家、日本出版文化史研究专家，曾任《日本文学》杂志副主编，著有《枕日闲谈》等。\n  \n【相关作品】\n \n《太后西奔》 \n作者：谭木声 \n出版日期： 2023年7月 \n出版品牌：新星出版社
URL:https://one-way-street.com/zh/event/%e4%b8%ad%e6%96%87-asian-talk-020-%e9%9a%94%e5%b2%b8%e4%b8%8d%e6%ad%a2%e8%a7%82%e7%81%ab-%e6%a2%81%e5%90%af%e8%b6%85%e3%80%81%e5%ad%99%e4%b8%ad%e5%b1%b1%e5%9c%a8%e4%b8%9c%e4%ba%ac/
LOCATION:One Way Street Tokyo\, 東京都中央区銀座1丁目6−1\, 東京\, Japan
ATTACH;FMTTYPE=image/png:https://one-way-street.com/wp-content/uploads/2023/11/AT20-v4_电视屏.png
END:VEVENT
BEGIN:VEVENT
DTSTART;TZID=Asia/Tokyo:20231119T143000
DTEND;TZID=Asia/Tokyo:20231119T160000
DTSTAMP:20260424T202705
CREATED:20231105T030339Z
LAST-MODIFIED:20231106T062550Z
UID:1105-1700404200-1700409600@one-way-street.com
SUMMARY:[:zh]#Asian Talk 019 三毛诞辰80周年——《我的姑姑三毛》签书分享会[:]
DESCRIPTION:【活动信息】\nAsian Talk 019 三毛诞辰80周年——《我的姑姑三毛》签书分享会\n嘉宾：陈天慈\n时间：2023年11月19日（周日）14:30-16:00\n地点：单向街书店·东京银座店\n地址：东京都中央区银座1-6-1\n形式：中文分享会（附签售环节）\n  \n费用：1500日元（会员免费）\n参与方式：下拉至页面底部购票报名\n报名成功后不可取消、退款，请提前确认好时间安排\n  \n会员自由席：5　／一般自由席：30\n坐席不设预定，先到先得\n※如有任何问题，请随时联系官方IG或致电0362630116\n  \n【活动介绍】\n以《撒哈拉的故事》、《梦里不知身是客》等作品成名的畅销作家三毛一直以来都被认为是华语文坛中最具有戏剧性的传奇人物。她的创作不只在华语世界被誉为经典，近年来也被大量翻译为外语在国外出版。随着一代又一代年轻读者的加入与讨论，“三毛热”在华语文学圈似乎从未黯淡。\n今年年是三毛诞辰80周年纪念。陈天慈，三毛的侄女。在《送你一匹马》一书中被姑姑描述为“特别的天使”的她，值此之际将携作品《我的姑姑三毛》来到东京单向街书店，与大家聊聊为什么三毛的文字独具别格的力量，讲讲她眼中的姑姑三毛，那些有关自由、勇敢和爱的故事。\n  \n【嘉宾介绍】\n \n陈天慈 \n豪宅自游网的创办人兼CEO\, 作家，北美三毛文化旅游研究会会长，温哥华阳光狮子会副会长，作家三毛的侄女。\n  \n【相关作品】\n \n《我的姑姑三毛》 \n作者：陈天慈 \n出版日期： 2020年10月 \n出版品牌：上海文艺出版社
URL:https://one-way-street.com/zh/event/%e4%b8%ad%e6%96%87-asian-talk-019-%e4%b8%89%e6%af%9b%e8%af%9e%e8%be%b080%e5%91%a8%e5%b9%b4-%e3%80%8a%e6%88%91%e7%9a%84%e5%a7%91%e5%a7%91%e4%b8%89%e6%af%9b%e3%80%8b%e7%ad%be/
LOCATION:One Way Street Tokyo\, 東京都中央区銀座1丁目6−1\, 東京\, Japan
ATTACH;FMTTYPE=image/jpeg:https://one-way-street.com/wp-content/uploads/2023/11/1102AT19_大横_副本.jpg
END:VEVENT
BEGIN:VEVENT
DTSTART;TZID=Asia/Tokyo:20231124T183000
DTEND;TZID=Asia/Tokyo:20231124T200000
DTSTAMP:20260424T202705
CREATED:20231118T133114Z
LAST-MODIFIED:20231121T160331Z
UID:1488-1700850600-1700856000@one-way-street.com
SUMMARY:[:zh]Zayton Echo·刺桐回响——在滨海城市联结地方与世界[:]
DESCRIPTION:【活动信息】\nZayton Echo·刺桐回响——在滨海城市联结地方与世界\n嘉宾：阿梅（赤子空间主理人，巴浪⻥咖啡联合创始人）、亚三（巴浪⻥咖啡主理人，赤子空间联合创始人）\n时间：2023年11月24日（周五）18:30-20:00\n地点：单向街书店·东京银座店\n地址：东京都中央区银座1-6-1\n形式：中文分享会\n  \n费用：1500 日元(含指定饮料一杯) / 会员免费\n参与方式：本页付款购票／门店线下购票\n报名成功后不可取消、退款，请提前确认好时间安排\n  \n自由席：30\n坐席不设预定，先到先得\n※如有任何问题，请随时联系官方IG或致电0362630116\n  \n【活动介绍】\n泉州，是中国东南沿海著名的港口城市，在10-14世纪的宋元时期随着海上丝绸之路 ( The Maritime Silk Road )的发展和海外贸易的繁盛，泉州以“刺桐”（Zayton）闻名于世。10世纪泉州扩城建设，环植刺桐树，“刺桐”成为泉州别称，来这里的中东人将刺桐的泉州方言转译为Zayton，此名经伟大的旅行家伊本·白图泰的传播，蜚声世界。\n2021年，“泉州：宋元中国的世界海洋商贸中心”顺利列入《世界遗产名录》，成为中国第56项世界遗产。\n2023年是赤子空间在滨海泉州的第九年，巴浪鱼咖啡的第七年。赤子&巴浪鱼以闽南文化为线索，不断地进行在地探索与持续性的公共表达，希望保持思想与行动上的开放性，与城市一起构建更多地方与世界联结的文化景观。\n“阮这个角头”、渔女像、巡江记、社区里的世界宗教博物馆、在地行走等项目用影像记录了泉州城市化变迁的遗迹以及独特海港文化下闽南人的生活景象。\nZayton Blues文化艺术周末，abC艺术书展游到泉州，瑞士文化基金会“百花齐放”读书会，单读在赤子元宵喜乐会……是我们尝试与外界的联动构建城市更多元文化场景。\n这一次我们从东亚文化之都泉州到东京与大家分享我们在滨海泉州的空间实践，聊聊地方里的世界，世界里的地方。\n  \n【嘉宾介绍】\n \n阿梅 \n赤子空间主理人，巴浪⻥咖啡联合创始人。2015年创建开设赤子空间，是一家集合了书店、咖啡、理发、展览为一体的城市文化复合空间。 \n  \n赤子空间(CHIZI SPACE)于2015年夏至成立于泉州(ZAYTON)，在这个“自由烂漫、俗而有力”的城市，扎根在老城的巷子里。现今已发展成集书店、咖啡（巴浪鱼咖啡）、商店、理发、展览为一体的城市文化复合空间。赤子根植于本土文化，以独有的自我诠释将当代美学、文化、艺术凝入平凡而闪烁的“日常”之中。 \n– \n亚三 \n巴浪⻥咖啡主理人，赤子空间联合创始人。做过图书、音像、广告、杂志等一系列文艺的事；2017年创建巴浪⻥咖啡LOCAL FISH COFFEE，在经营实体店的基础上，还以“流动咖啡馆”的形式，把咖啡带到乡镇、宫庙等在地场景，去到日常生活中。 \n  \n作为宋元中国的世界海洋商贸中心，泉州以开放、多元和包容的海洋文化与城市精神塑造了今日丰盈的本地文化。生长在此城的巴浪鱼咖啡也延续着这一传统：通过专业的品味与想象力，将咖啡独有的地域风味与在地文化融合起来；“立足大地，放眼世界”，用世界性的咖啡和二三线城市外的视角来构建我们的咖啡品牌。
URL:https://one-way-street.com/zh/event/zayton-echo/
LOCATION:One Way Street Tokyo\, 東京都中央区銀座1丁目6−1\, 東京\, Japan
ATTACH;FMTTYPE=image/jpeg:https://one-way-street.com/wp-content/uploads/2023/11/10001700388063_.pic_.jpg
END:VEVENT
BEGIN:VEVENT
DTSTART;TZID=Asia/Tokyo:20231125T143000
DTEND;TZID=Asia/Tokyo:20231125T160000
DTSTAMP:20260424T202705
CREATED:20231109T052852Z
LAST-MODIFIED:20231122T075130Z
UID:1253-1700922600-1700928000@one-way-street.com
SUMMARY:[:zh]#Asian Talk 021 东京与近代亚洲知识分子[:]
DESCRIPTION:【活动信息】\nAsian Talk 021 东京与近代亚洲知识分子\n嘉宾：石井刚（东京大学综合文化研究科教授、东亚艺文书院院长）、许知远（作家、单向空间创始人）\n时间：2023年11月25日（周六）14:30-16:00\n地点：单向街书店·东京银座店\n地址：东京都中央区银座1-6-1\n形式：中文分享会\n  \n费用：2500日元（会员免费）\n参与方式：本页付款购票、门店线下购票\n报名成功后不可取消、退款，请提前确认好时间安排\n  \n自由席：30\n坐席不设预定，先到先得\n※如有任何问题，请随时联系官方IG或致电0362630116\n  \n【活动介绍】\n20世纪初，随着明治维新的成功，东京散发出特别的吸引力。从中国、菲律宾到越南、印度，很多亚洲的近代知识人、亡命者，来此寻求富强之道。彼时的东京，既散发着新模式的魅力，又预示着未来的悲剧。\n  \n【嘉宾介绍】\n \n石井刚 \n东京大学人文社会系研究科博士。现任东京大学综合文化研究科教授、东亚艺文书院院长。著作包括《齐物的哲学：章太炎与中国现代思想的东亚经验》（华东师范大学出版社）、《戴震与中国近代哲学》（知泉书馆）、《在被分断时代生存》（合著，白水社）、《我们应该想象什么样的世界》（transview出版社）、《我们如何面对世界的‘恶’》（transview出版社）等。\n \n许知远 \n作家，单向空间创始人，谈话节目《十三邀》主创。著作包括《祖国的陌生人》《一个游荡者的世界》《那些忧伤的年轻人》等，他正在撰写五卷本梁启超传记，其中两卷《梁启超： 青年变革者 1873—1898》，《梁启超：亡命（1898—1903）》现已出版。\n  \n【相关作品】\n \n《戴震与中国近代哲学－从汉学到哲学－》 \n作者：石井刚 \n出版日期： 2014年1月 \n出版品牌：知泉书馆
URL:https://one-way-street.com/zh/event/asian-talk-021/
LOCATION:One Way Street Tokyo\, 東京都中央区銀座1丁目6−1\, 東京\, Japan
ATTACH;FMTTYPE=image/png:https://one-way-street.com/wp-content/uploads/2023/11/AT21_电视屏-1.png
END:VEVENT
END:VCALENDAR