BEGIN:VCALENDAR
VERSION:2.0
PRODID:-//One Way Street Tokyo - ECPv6.6.2//NONSGML v1.0//EN
CALSCALE:GREGORIAN
METHOD:PUBLISH
X-ORIGINAL-URL:https://one-way-street.com/zh
X-WR-CALDESC:One Way Street Tokyo的活动
REFRESH-INTERVAL;VALUE=DURATION:PT1H
X-Robots-Tag:noindex
X-PUBLISHED-TTL:PT1H
BEGIN:VTIMEZONE
TZID:Asia/Tokyo
BEGIN:STANDARD
TZOFFSETFROM:+0900
TZOFFSETTO:+0900
TZNAME:JST
DTSTART:20260101T000000
END:STANDARD
END:VTIMEZONE
BEGIN:VEVENT
DTSTART;TZID=Asia/Tokyo:20260322T143000
DTEND;TZID=Asia/Tokyo:20260322T160000
DTSTAMP:20260423T065453
CREATED:20260203T100632Z
LAST-MODIFIED:20260320T152439Z
UID:9924-1774189800-1774195200@one-way-street.com
SUMMARY:[:zh]Asian Talk 220  少儿财商（公益沙龙招募分享）[:]
DESCRIPTION:【活动主题】\nAsian Talk 220\n少儿财商\n（公益沙龙招募分享）\n  \n【活动介绍】\n在孩子的成长过程中，如何看待金钱？如何分配零花钱？如何在日常生活中发现投资机会？ \n通过分享，我们将招募10位9-13岁孩子，陪伴他们持续探究财商之路，将认知转化为实操，建立健康、长久、有趣的财富通道。 \n  \n【嘉宾介绍】\n \nMarina Zhang \n毕业英国Warwick University 硕士学位\n曾任职美国PRTM咨询公司IS负责人\n曾任职渣打银行（中国）副总裁助理\n境内外资产配置、投资管理IFA\n英国Oxford Institute（牛津研究院）中国区教育顾问 \n  \n【活动信息】\n嘉宾：Marina Zhang \n时间：2026年3月22日（星期日）14:30-16:00 \n地点：单向街书店・东京银座店 \n东京都中央区银座1-6-1 \n形式：中文分享会・全席自由席（40席） \n费用：￥1\,500｜年费会员免费 \n本店活动席位为自由席，无指定座位，先到者优先选座。 \n———————————————————————————————————— \n【预约参加】 \n请点击下方链接进入预约页面，细心阅读活动须知，填写必要信息 \n请在活动当日于一楼柜台支付报名费用 \nhttps://forms.gle/1uDVAFuefxZ3V1qo6 \n  \n【当日券】 \n请在活动当日于一楼柜台处购买 \n  \n【单向街书店·东京银座店年费会员】 \n单向街书店·东京银座店年费会员可免费参加本次活动 \n请点击下方链接进入预约页面，细心阅读活动须知，填写必要信息 \n活动当日，请向工作人员提示有效会员卡，确认身份后入场 \nhttps://forms.gle/1uDVAFuefxZ3V1qo6 \n———————————————————————————————————— \n致来店参加的各位顾客 \n活动开始时间前30分钟起，开放入场。 \n如有任何问题，请随时联系致电0362630116。 \n———————————————————————————————————— \n【扫码成为单向街书店·东京银座店年费会员】 \n \n◎年费会员 会费：33\,000日元/年(含税) \n【会员权益】 \n１、专属年费会员卡 \n2、赠全品饮料券12张 \n3、免费参与书店活动 \n4、简体中文书购书7折
URL:https://one-way-street.com/zh/event/asian-talk-220/
LOCATION:One Way Street Tokyo\, 東京都中央区銀座1丁目6−1\, 東京\, Japan
ATTACH;FMTTYPE=image/png:https://one-way-street.com/wp-content/uploads/2026/02/26.3.22少儿财商2.png
END:VEVENT
BEGIN:VEVENT
DTSTART;TZID=Asia/Tokyo:20260326T170000
DTEND;TZID=Asia/Tokyo:20260326T190000
DTSTAMP:20260423T065453
CREATED:20260317T140121Z
LAST-MODIFIED:20260318T150627Z
UID:10049-1774544400-1774551600@one-way-street.com
SUMMARY:[:zh]【幸姬× 东京单向街】书店微醺夜・幸姬日本酒品鉴[:ja]【幸姫 × 東京单向街】書店ほろ酔いナイト・幸姫日本酒テイスティング[:]
DESCRIPTION:【活动主题】\n幸姬 × 东京单向街 \n书店微醺夜・幸姬日本酒品鉴 \n  \n【活动简介】\n3月26日（周四），\n「幸姬清酒」将携手 单向街书店，\n举办一场小型清酒试饮交流会 🎊 \n现场我们会和大家一起：\n🍶 分享清酒的历史与酿造小知识\n🎎 聊聊百年酒造「幸姬」的故事\n🎏 来一场清酒口味竞猜小游戏（猜对有小礼物）\n🍸 试饮幸姬清酒，轻松交流 \n最后还有抽奖环节哦。✨ \n如果周四晚上有时间，\n欢迎带上朋友一起前来小酌一杯\n共度一个轻松治愈的夜晚🌙 \n  \n【活动信息】\n时间：2026年3月26日（周四）17:00-19:00 \n场所：单向街书店・东京银座店 \n东京都中央区银座1-6-1 \n活动语言：中文、日文均可 \n全席自由席（40席） \n免费报名，人满截止哦~\n一起轻松小聚一下吧！ \n本店活动席位为自由席，无指定座位，先到者优先选座。 \n———————————————————————————————————— \n【参加方式】 \n本次活动免费参加，无需预约，可通过海报二维码报名 \n———————————————————————————————————— \n致来店参加的各位顾客 \n活动开始时间前30分钟起，开放入场。 \n如有任何问题，请随时联系致电0362630116。 \n———————————————————————————————————— \n【扫码成为单向街书店·东京银座店年费会员】 \n \n◎年费会员 会费：33\,000日元/年(含税) \n【会员权益】 \n１、专属年费会员卡 \n2、赠全品饮料券12张 \n3、免费参与书店活动 \n4、简体中文书购书7折
URL:https://one-way-street.com/zh/event/nihonshuu-01/
LOCATION:One Way Street Tokyo\, 東京都中央区銀座1丁目6−1\, 東京\, Japan
ATTACH;FMTTYPE=image/jpeg:https://one-way-street.com/wp-content/uploads/2026/03/RPG格式-scaled.jpg
END:VEVENT
BEGIN:VEVENT
DTSTART;TZID=Asia/Tokyo:20260329T143000
DTEND;TZID=Asia/Tokyo:20260329T180000
DTSTAMP:20260423T065453
CREATED:20260311T054218Z
LAST-MODIFIED:20260311T090843Z
UID:10037-1774794600-1774807200@one-way-street.com
SUMMARY:[:zh]Asian Talk 223 技术平权时代的护城河：从焦虑到共生，普通人如何真正驾驭AI[:]
DESCRIPTION:【活动主题】\nAsian Talk 223\n技术平权时代的护城河：从焦虑到共生，普通人如何真正驾驭AI\n  \n【活动简介】\n本次活动会分享现在大家最热衷讨论的工具和方法，以及普通人如何能真正把AI用起来、并且能用得好的策略。比如怎么拥有一个个人的超级助手（一人公司），如何搭建一个能帮你办一切事情的智能体（帮你自动化完成所有工作和生活需求），还有如何规避其中的风险和消耗支出等等。 \n  \n【嘉宾介紹】\n \n赵黎 Grace Zhao \n从体操运动员到文工团演员，再到电台金话筒主持人、创办传媒公司，成为多家上市公司战略与营销咨询顾问。 \n《转型：企业极速变革引爆万亿市场》《AI赋能：个人能力进化与未来工作方式》等多本商业书籍作者。 \n现居东京与旧金山，聚焦AI赋能教育与全球化人才培养。 \n  \n \n陈瀚元 Jason chen \n墨尔本大学科学硕士、纽卡斯尔大学法学博士。澳大利亚新南威尔士州注册律师，曾任职国际商会仲裁院、世界自然基金会。 \n《Al 赋能：个人能力进化与未来工作方式》作者，目前任职株式会社 Jarvis，专注于 AI 赋能教育，致力于AI 领域的商业创新与落地，以及 AI 赋能教育。 \n  \n【相关图书】\n \n《AI赋能：个人能力进化与未来工作指南》 \n让 AI 成为你的能力放大器和超级助手。\n避开了晦涩的术语，强调实用场景，可直接复用的方法论。\n• 如何搭建一个专属你的智能体？\n• 如何用“问题地图”与 AI 协作？\n• 不同职业身份如何驾驭 AI？\n我们衷心希望这本书能成为您踏入 AI 时代的一座桥梁，\n帮助您在这场前所未有的技术变革中找到属于自己的位置和价值。 \n  \n【活动信息】\n嘉宾：赵黎 、陈瀚元  \n时间：2026年3月29日（星期日）14:30-16:00 \n地点：单向街书店・东京银座店 \n东京都中央区银座1-6-1 \n形式：中文分享会・全席自由席（40席） \n费用：￥1\,500｜年费会员免费 \n本店活动席位为自由席，无指定座位，先到者优先选座。 \n———————————————————————————————————— \n【预约参加】 \n请点击下方链接进入预约页面，细心阅读活动须知，填写必要信息 \n请在活动当日于一楼柜台支付报名费用 \nhttps://forms.gle/LvniNz19ewK6s99LA \n  \n【当日券】 \n请在活动当日于一楼柜台处购买 \n  \n【单向街书店·东京银座店年费会员】 \n单向街书店·东京银座店年费会员可免费参加本次活动 \n请点击下方链接进入预约页面，细心阅读活动须知，填写必要信息 \n活动当日，请向工作人员提示有效会员卡，确认身份后入场 \nhttps://forms.gle/LvniNz19ewK6s99LA \n———————————————————————————————————— \n致来店参加的各位顾客 \n活动开始时间前30分钟起，开放入场。 \n如有任何问题，请随时联系致电0362630116。 \n———————————————————————————————————— \n【扫码成为单向街书店·东京银座店年费会员】 \n \n◎年费会员 会费：33\,000日元/年(含税) \n【会员权益】 \n１、专属年费会员卡 \n2、赠全品饮料券12张 \n3、免费参与书店活动 \n4、简体中文书购书7折
URL:https://one-way-street.com/zh/event/asian-talk-223/
LOCATION:One Way Street Tokyo\, 東京都中央区銀座1丁目6−1\, 東京\, Japan
ATTACH;FMTTYPE=image/png:https://one-way-street.com/wp-content/uploads/2026/03/26.3.29AI赋能2.png
END:VEVENT
BEGIN:VEVENT
DTSTART;TZID=Asia/Tokyo:20260404T143000
DTEND;TZID=Asia/Tokyo:20260404T160000
DTSTAMP:20260423T065453
CREATED:20260324T085028Z
LAST-MODIFIED:20260324T134246Z
UID:10070-1775313000-1775318400@one-way-street.com
SUMMARY:[:zh]Asian Talk 224  从一点心愿，到未竟的责任：介绍《思想》杂志[:ja]Asian Talk 224  「思想の力」を信じて――『思想』Reflexion創刊二十周年を記念して[:]
DESCRIPTION:【活动主题】\nAsian Talk 224\n从一点心愿，到未竟的责任：介绍《思想》杂志\n  \n【活动介绍】\n《思想》是一份在台湾出版的知识性刊物，但设定的读者和作者则是全球各地华人。《思想》希望成为中文平台，供各地知识人探讨中文脉络里的各项重大议题。心愿如此，但成就有限，惟愿新起的一代将这个平台上的对话维系下去。 \n  \n【嘉宾介绍】\n钱永祥 \n《思想》总编辑 \n  \n王 前 \n人文学者。主要研究领域为政治哲学、思想史。 \n  \n【相关图书】\n \n \n《思想》杂志书影 \n  \n【活动信息】\n嘉宾：钱永祥、王 前 \n时间：2026年4月4日（周六）14:30〜16:00 \n地点：单向街书店・东京银座店 \n东京都中央区银座1-6-1 \n形式：中文分享会（日文翻译）・全席自由（40席） \n费用：￥1\,500｜年费会员免费 \n本店活动席位为自由席，无指定座位，先到者优先选座。 \n———————————————————————————————————— \n【预约参加】 \n请点击下方链接进入预约页面，细心阅读活动须知，填写必要信息 \n请在活动当日于一楼柜台支付报名费用 \nhttps://forms.gle/iRXqYKvNb9Wq2he46 \n  \n【当日券】 \n请在活动当日于一楼柜台处购买 \n  \n【单向街书店·东京银座店年费会员】 \n单向街书店·东京银座店年费会员可免费参加本次活动 \n请点击下方链接进入预约页面，细心阅读活动须知，填写必要信息 \n活动当日，请向工作人员提示有效会员卡，确认身份后入场 \nhttps://forms.gle/iRXqYKvNb9Wq2he46 \n———————————————————————————————————— \n致来店参加的各位顾客 \n活动开始时间前30分钟起，开放入场。 \n如有任何问题，请随时联系致电0362630116。 \n———————————————————————————————————— \n【扫码成为单向街书店·东京银座店年费会员】 \n \n◎年费会员 会费：33\,000日元/年(含税) \n【会员权益】 \n１、专属年费会员卡 \n2、赠全品饮料券12张 \n3、免费参与书店活动 \n4、简体中文书购书7折
URL:https://one-way-street.com/zh/event/asian-talk-224/
LOCATION:One Way Street Tokyo\, 東京都中央区銀座1丁目6−1\, 東京\, Japan
ATTACH;FMTTYPE=image/png:https://one-way-street.com/wp-content/uploads/2026/03/26.4.4《思想》杂志介绍.png
END:VEVENT
BEGIN:VEVENT
DTSTART;TZID=Asia/Tokyo:20260405T143000
DTEND;TZID=Asia/Tokyo:20260405T170000
DTSTAMP:20260423T065453
CREATED:20260319T102908Z
LAST-MODIFIED:20260320T152247Z
UID:10055-1775399400-1775408400@one-way-street.com
SUMMARY:[:zh]Asian Talk 225 2026绿皮火车之旅（东京站）[:]
DESCRIPTION:【活动主题】\nAsian Talk 225\n2026绿皮火车之旅\n东京站\n  \n【活动介绍】\n当歌声与文字相遇，一段关于时间与行走的记忆将被重新唤醒。 \n2026年4月5日，民谣音乐人、诗人周云蓬将来到东京单向街书店，带来一场小型演出与《绿皮火车》新书分享会。在这部随笔集中，他以细腻而克制的笔触，记录个体在时代与旅途中的漂泊与凝视——那些被忽略的声音、被拉长的时间，以及人与世界若即若离的关系。 \n“绿皮火车”不仅是一种交通工具，更像是一种缓慢而真实的生活隐喻。它承载着记忆，也通向远方。在现场，周云蓬将通过音乐与讲述，延展书中的情绪与片段，让文字在声音中再次生长。 \n这将是一场介于阅读与聆听之间的活动，一次关于行走、时间与内心世界的安静对话。 \n  \n【嘉宾介绍】\n \n周云蓬 \n民谣歌手，作家。九岁失明。\n代表作《绿皮火车》，出版诗文集《春天责备》，短篇小说集《笨故事集》，随笔集《行走的耳朵》等。\n发行唱片有《沉默如谜的呼吸》（2003）、《中国孩子》(2007）、《牛羊下山》（2010）、《四月旧州》（2014）、《瓦尔登湖》（2022）。\n2008年，被《南方人物周刊》评为“青年领袖”，获得华语传媒音乐大奖“最佳民谣艺人”、“最佳作词人”。\n2011年，获得人民文学“诗歌奖”，再次获得华语传媒音乐大奖“最佳民谣艺人”。\n2022年“我们的民谣”总冠军。 \n  \n【活动信息】\n嘉宾：周云蓬 \n时间：2026年4月5日（星期日）14:30-16:00 \n地点：单向街书店・东京银座店 \n东京都中央区银座1-6-1 \n形式：中文分享会・全席自由席（40席） \n费用：￥1\,500｜年费会员免费 \n本店活动席位为自由席，无指定座位，先到者优先选座。 \n———————————————————————————————————— \n【预约参加】 \n请点击下方链接进入预约页面，细心阅读活动须知，填写必要信息 \n请在活动当日于一楼柜台支付报名费用 \nhttps://forms.gle/4njyzM58vmBVeK1cA \n  \n【当日券】 \n请在活动当日于一楼柜台处购买 \n  \n【单向街书店·东京银座店年费会员】 \n单向街书店·东京银座店年费会员可免费参加本次活动 \n请点击下方链接进入预约页面，细心阅读活动须知，填写必要信息 \n活动当日，请向工作人员提示有效会员卡，确认身份后入场 \nhttps://forms.gle/4njyzM58vmBVeK1cA \n———————————————————————————————————— \n致来店参加的各位顾客 \n活动开始时间前30分钟起，开放入场。 \n如有任何问题，请随时联系致电0362630116。 \n———————————————————————————————————— \n【扫码成为单向街书店·东京银座店年费会员】 \n \n◎年费会员 会费：33\,000日元/年(含税) \n【会员权益】 \n１、专属年费会员卡 \n2、赠全品饮料券12张 \n3、免费参与书店活动 \n4、简体中文书购书7折
URL:https://one-way-street.com/zh/event/asian-talk-225/
LOCATION:One Way Street Tokyo\, 東京都中央区銀座1丁目6−1\, 東京\, Japan
ATTACH;FMTTYPE=image/png:https://one-way-street.com/wp-content/uploads/2026/03/周云蓬4月5日.png
END:VEVENT
BEGIN:VEVENT
DTSTART;TZID=Asia/Tokyo:20260411T143000
DTEND;TZID=Asia/Tokyo:20260411T160000
DTSTAMP:20260423T065453
CREATED:20260329T060916Z
LAST-MODIFIED:20260403T061149Z
UID:10087-1775917800-1775923200@one-way-street.com
SUMMARY:[:zh]新华人移民对谈：聊聊来东京后的迷茫、适应与扎根[:]
DESCRIPTION:【活动主题】\n新华人移民对谈：聊聊来东京后的迷茫、适应与扎根\n  \n【活动介绍】\n东京平等地需要每一个海外华人慢慢地适应它，\n现实中，我们在需要摸着石头过河：从签证问题到子女教育、到探索新的事业……\n精神上，新国度的文化冲击，异乡人在国外的孤独、漂浮感会伴随着我们.\n本期，我们聊聊来东京后的迷茫、适应与扎根。 \n  \n【嘉宾介绍】\n主持人 \n \n刘瑜 \n来日两年半MatchPoint联合创始人 \n  \n到场嘉宾 \n \n陈薇娜 \n来日两年，一见文化美学空间创始人 \n \n郭子豪 \n来日9年，创新孵化社区主理人 \n \n魏之光 \n来日两个月，全网50万粉博主 \n  \n【活动信息】\n主持人：刘瑜 \n到场嘉宾：陈薇娜、郭子豪、魏之光 \n时间：2026年4月11日（周六）14:30〜16:00 \n地点：单向街书店・东京银座店 \n东京都中央区银座1-6-1 \n形式：中文分享会（日文翻译）・全席自由（40席） \n费用：￥1\,500｜年费会员免费 \n本店活动席位为自由席，无指定座位，先到者优先选座。 \n———————————————————————————————————— \n【预约参加】 \n请点击下方链接进入预约页面，细心阅读活动须知，填写必要信息 \n请在活动当日于一楼柜台支付报名费用 \nhttps://forms.gle/3JZ573FtUJgdofS1A \n  \n【当日券】 \n请在活动当日于一楼柜台处购买 \n  \n【单向街书店·东京银座店年费会员】 \n单向街书店·东京银座店年费会员可免费参加本次活动 \n请点击下方链接进入预约页面，细心阅读活动须知，填写必要信息 \n活动当日，请向工作人员提示有效会员卡，确认身份后入场 \nhttps://forms.gle/3JZ573FtUJgdofS1A \n———————————————————————————————————— \n致来店参加的各位顾客 \n活动开始时间前30分钟起，开放入场。 \n如有任何问题，请随时联系致电0362630116。 \n———————————————————————————————————— \n【扫码成为单向街书店·东京银座店年费会员】 \n \n◎年费会员 会费：33\,000日元/年(含税) \n【会员权益】 \n１、专属年费会员卡 \n2、赠全品饮料券12张 \n3、免费参与书店活动 \n4、简体中文书购书7折
URL:https://one-way-street.com/zh/event/live-workplace-03/
LOCATION:One Way Street Tokyo\, 東京都中央区銀座1丁目6−1\, 東京\, Japan
ATTACH;FMTTYPE=image/png:https://one-way-street.com/wp-content/uploads/2026/03/26.4.11新华人移民对谈-1.png
END:VEVENT
BEGIN:VEVENT
DTSTART;TZID=Asia/Tokyo:20260412T143000
DTEND;TZID=Asia/Tokyo:20260412T160000
DTSTAMP:20260423T065453
CREATED:20260324T072616Z
LAST-MODIFIED:20260331T174141Z
UID:10066-1776004200-1776009600@one-way-street.com
SUMMARY:[:zh]Asian Talk 226  当垃圾开始提问——作为自己世界的专家[:]
DESCRIPTION:【活动主题】\nAsian Talk 226\n当垃圾开始提问\n——作为自己世界的专家\n  \n【活动简介】\n你是什么垃圾？当“垃圾”开始提问，会问什么？作为“对话工作坊”的第一次公开对谈，我们将以“垃圾”这一话题为起点，聊聊“公民研究”（也常被称作“公民科学/citizen science”）。“研究”看似是一个非常深奥的领域，实则扎根每一个人的日常实践之中。对话工作坊的起点之“公民研究”实践也是为强调这一目的。垃圾并非生来就是垃圾，而是被当作垃圾。“一般人”也并非生来就是“一般人”，而是被当作“一般人”。让我们一起想象通过对话与共著让非职业研究者，即所谓“一般人”也能参与研究过程，一起进行知识生产的光景。 \n  \n【嘉宾介紹】\n \n花花（周筱） \n博士，筑波大学人文社会系助理教授\,“社交垃圾” \n  \n \n果果（厉锦澄） \n筑波大学人文社会系，熬夜冠军，爱好画画 \n  \n \nNENE（张钧宁） \n筑波大学人文社科系，艺转文选手，爱好吃饭，擅长逃跑 \n  \n \n小ga（陈怡婷） \n筑波大学人文社科系，爱好是音乐，擅长打牌 \n  \n【活动信息】\n嘉宾：花花（周筱）、果果（厉锦澄）、NENE（张钧宁）、小ga（陈怡婷） \n时间：2026年4月12日（星期日）14:30-16:00 \n地点：单向街书店・东京银座店 \n东京都中央区银座1-6-1 \n形式：中文分享会・全席自由席（40席） \n费用：￥1\,500｜年费会员免费 \n本店活动席位为自由席，无指定座位，先到者优先选座。 \n———————————————————————————————————— \n【预约参加】 \n请点击下方链接进入预约页面，细心阅读活动须知，填写必要信息 \n请在活动当日于一楼柜台支付报名费用 \nhttps://forms.gle/4KNtWS3R3J3sqmwX6 \n  \n【当日券】 \n请在活动当日于一楼柜台处购买 \n  \n【单向街书店·东京银座店年费会员】 \n单向街书店·东京银座店年费会员可免费参加本次活动 \n请点击下方链接进入预约页面，细心阅读活动须知，填写必要信息 \n活动当日，请向工作人员提示有效会员卡，确认身份后入场 \nhttps://forms.gle/4KNtWS3R3J3sqmwX6 \n———————————————————————————————————— \n致来店参加的各位顾客 \n活动开始时间前30分钟起，开放入场。 \n如有任何问题，请随时联系致电0362630116。 \n———————————————————————————————————— \n【扫码成为单向街书店·东京银座店年费会员】 \n \n◎年费会员 会费：33\,000日元/年(含税) \n【会员权益】 \n１、专属年费会员卡 \n2、赠全品饮料券12张 \n3、免费参与书店活动 \n4、简体中文书购书7折
URL:https://one-way-street.com/zh/event/asian-talk-226/
LOCATION:One Way Street Tokyo\, 東京都中央区銀座1丁目6−1\, 東京\, Japan
ATTACH;FMTTYPE=image/png:https://one-way-street.com/wp-content/uploads/2026/03/微信图片_20260324181529_56_1009.png
END:VEVENT
BEGIN:VEVENT
DTSTART;TZID=Asia/Tokyo:20260418T143000
DTEND;TZID=Asia/Tokyo:20260418T160000
DTSTAMP:20260423T065453
CREATED:20260316T152815Z
LAST-MODIFIED:20260320T152409Z
UID:10042-1776522600-1776528000@one-way-street.com
SUMMARY:[:zh]Asian Talk 227  “赤马红羊劫”传奇：一个伴随中华2000年的噩梦[:]
DESCRIPTION:【活动主题】\nAsian Talk 227\n“赤马红羊劫”传奇\n一个伴随中华2000年的噩梦\n  \n【活动介绍】\n中国历史上广泛流传，每到丙午、丁未年，就有大事发生——2026年、2027年，会有大灾难吗？ \n  \n【嘉宾介绍】\n \n安公子 \n跨领域的作家和文化传承者。作为作家，出版有《我的自由式》《听爱》《壹步御光年》等文学作品。他同时也是传统文化传承者，为玄学领域知名的术数家和命理师，研习玄学20余年，2019年获得香港第10届全球算命师大赛季军，2025年第16届全球算命师大赛命题老师，并受邀在中国香港、日本、美国等地演讲分享。 \n  \n【活动信息】\n嘉宾：安公子 \n时间：2026年4月18日（星期六）14:30-16:00 \n地点：单向街书店・东京银座店 \n东京都中央区银座1-6-1 \n形式：中文分享会・全席自由席（40席） \n费用：￥1\,500｜年费会员免费 \n本店活动席位为自由席，无指定座位，先到者优先选座。 \n———————————————————————————————————— \n【预约参加】 \n请点击下方链接进入预约页面，细心阅读活动须知，填写必要信息 \n请在活动当日于一楼柜台支付报名费用 \nhttps://forms.gle/NN5KVkHwR9mw64BW8 \n  \n【当日券】 \n请在活动当日于一楼柜台处购买 \n  \n【单向街书店·东京银座店年费会员】 \n单向街书店·东京银座店年费会员可免费参加本次活动 \n请点击下方链接进入预约页面，细心阅读活动须知，填写必要信息 \n活动当日，请向工作人员提示有效会员卡，确认身份后入场 \nhttps://forms.gle/NN5KVkHwR9mw64BW8 \n———————————————————————————————————— \n致来店参加的各位顾客 \n活动开始时间前30分钟起，开放入场。 \n如有任何问题，请随时联系致电0362630116。 \n———————————————————————————————————— \n【扫码成为单向街书店·东京银座店年费会员】 \n \n◎年费会员 会费：33\,000日元/年(含税) \n【会员权益】 \n１、专属年费会员卡 \n2、赠全品饮料券12张 \n3、免费参与书店活动 \n4、简体中文书购书7折
URL:https://one-way-street.com/zh/event/asian-talk-227/
LOCATION:One Way Street Tokyo\, 東京都中央区銀座1丁目6−1\, 東京\, Japan
ATTACH;FMTTYPE=image/png:https://one-way-street.com/wp-content/uploads/2026/03/26.4.18赤马红羊劫.png
END:VEVENT
BEGIN:VEVENT
DTSTART;TZID=Asia/Tokyo:20260425T143000
DTEND;TZID=Asia/Tokyo:20260425T160000
DTSTAMP:20260423T065453
CREATED:20260411T071618Z
LAST-MODIFIED:20260416T093658Z
UID:10111-1777127400-1777132800@one-way-street.com
SUMMARY:[:zh]【单向争论点 Vol.5】吉田健一的世界：时间与变化[:ja]【単向争論点Vol.5】吉田健一の世界——時間とその変化[:]
DESCRIPTION:【单向争论点 Vol.5】\n吉田健一的世界：\n时间与变化\n  \n【活动介绍】\n\n\n\n\n\n\n\n被称为“最后的文士”的吉田健一至今仍拥有众多粉丝。除了著有《欧洲的世纪末》、《英国的文学》、《英国近代文学》等见识卓越的学术著作外，晚年的吉田创作呈井喷状态，被称为“黄昏的文学”，创作了一系列优秀小说，还有被称为吉田所有作品源泉的《时间》和《变化》等长篇散文作品。如此高产高质量，被称为日本现代文学史上的奇迹。吉田健一的见识和魅力究竟是如何产生的? 他在日本现代文学史上有何重要性? 我们今天阅读他的作品又有何意义? 这次我们邀请了从高中时就开始阅读吉田健一的东京大学荣休教授松浦寿辉老师，请他来为大家畅聊吉田健一这位不世出的文人学者的魅力。松浦老师本人就是当代日本重量级作家，也是日本引领人文思想界潮流的名家，是谈吉田健一的最佳人选。 \n  \n\n往期活动： \n单向争论点 Vol.1 两个恶人——鹤见俊辅与亲鸾的“恶人”思想 \nhttps://one-way-street.com/event/zheng-01/ \n单向争论点 Vol.2 “恶人”与时代——“末法”和近代思想的回响 \n【单向争论点 Vol.2】“恶人”与时代——“末法”和近代思想的回响 \n \n单向争论点 Vol.3 作“恶”的少年：影视及作品中的“犯罪少年” \n【单向争论点 Vol.3】作“恶”的少年：影视及作品中的“犯罪少年” \n \n单向争论点 Vol.4 我们都是“时间动物”：以加藤周一的思想为契机思考时间及空间的整体性和局部性 \n【单向争论点 Vol.4】我们都是“时间动物”：以加藤周一的思想为契机思考时间及空间的整体性和局部性 \n \n  \n\n\n\n\n\n\n【关于“单向争论点”栏目】\n单向争论点是2025年8月开始的实验性话题讨论栏目。1至2个月举办一次。本栏目由学术公众号“谓无名”与单向街银座书店共同运营。我们期待线下参加者参与每个话题的讨论。本栏目意图将场下话题讨论的时间保持与讲师的讲演时间同等的长度。 \n本栏目强烈推荐大家作为单向街银座书店的年度会员身份参与，以便我们形成一个可持续交流的精神文化交流空间。中国观众可通过谓无名公众号收看直播，欢迎提问和留言。本栏目旨在为大家提供可探索的思考素材，讲师的个人观点不代表单向街银座书店和谓无名公众号的立场。欢迎大家行动支持，共同思考！ \n  \n【主讲人介绍】\n \n刘争\n比较思想学者。关西国际大学国际学部副教授。目前主要研究领域是战后日本思想和中国现代思想。 \n在日本和中国分别出版了由中日比较思想角度撰写的加藤周一研究专著 （《 例外的思想： 战后知识分子加藤周一的射程》现代图书，以及《例外的个体论加藤周一及其思想》知识产权出版社。 \n近年来参与跨文化学术交流，同时涉足艺术文化研究。目前正在撰写探讨当代个体理论的著作。 \n \n松浦寿辉\n1954年生于东京，诗人、小说家、评论家，东京大学教授。1988年诗集《冬之书》获高见顺奖；1995年评论《试论埃菲尔铁塔》获吉田秀和奖；2000年小说《花腐》获芥川奖；2005年《半岛》获读卖文学奖；2017年获谷崎润一郎奖。至今活跃在文坛。另著有随笔集《散步的空当儿里我思考的事》。 \n \n王前 \n人文学者。主要研究领域为政治哲学、思想史。 \n  \n【活动信息】\n主持人：刘争\n主讲嘉宾：松浦寿辉\n评论员：王前 \n时间：2026年04月25日（星期六）14:30-16:00 \n地点：单向街书店・东京银座店 \n东京都中央区银座1-6-1 \n语言：中文为主 欢迎现场中日参加者互助翻译 \n形式：现场及线上（按报名顺序前5名观众可在讨论环节优先发言) \n费用：￥1\,500｜年费会员免费 \n全席自由席（40席） \n本店活动席位为自由席，无指定座位，先到者优先选座。 \n———————————————————————————————————— \n【预约参加】 \n请点击下方链接进入预约页面，细心阅读活动须知，填写必要信息 \n请在活动当日于一楼柜台支付报名费用 \nhttps://forms.gle/8ru9dConJR4WBFgH6 \n  \n【当日券】 \n请在活动当日于一楼柜台处购买 \n  \n【单向街书店·东京银座店年费会员】 \n单向街书店·东京银座店年费会员可免费参加本次活动 \n请点击下方链接进入预约页面，细心阅读活动须知，填写必要信息 \n活动当日，请向工作人员提示有效会员卡，确认身份后入场 \nhttps://forms.gle/8ru9dConJR4WBFgH6 \n———————————————————————————————————— \n致来店参加的各位顾客 \n活动开始时间前30分钟起，开放入场。 \n如有任何问题，请随时联系致电0362630116。 \n———————————————————————————————————— \n【扫码成为单向街书店·东京银座店年费会员】 \n \n◎年费会员 会费：33\,000日元/年(含税) \n【会员权益】 \n１、专属年费会员卡 \n2、赠全品饮料券12张 \n3、免费参与书店活动 \n4、简体中文书购书7折
URL:https://one-way-street.com/zh/event/zheng-5/
LOCATION:One Way Street Tokyo\, 東京都中央区銀座1丁目6−1\, 東京\, Japan
ATTACH;FMTTYPE=image/png:https://one-way-street.com/wp-content/uploads/2026/04/单向争论点05.png
END:VEVENT
BEGIN:VEVENT
DTSTART;TZID=Asia/Tokyo:20260426T150000
DTEND;TZID=Asia/Tokyo:20260426T163000
DTSTAMP:20260423T065453
CREATED:20260331T065847Z
LAST-MODIFIED:20260408T074408Z
UID:10100-1777215600-1777221000@one-way-street.com
SUMMARY:[:zh]Asian Talk 228  新井一二三谈中餐、台湾以及其他[:]
DESCRIPTION:【活动主题】\nAsian Talk 228\n新井一二三谈中餐、 台湾以及其他\n  \n【活动介绍】\n土生土长的东京人新井一二三，19岁上大学汉语课，瞬间跟这门外语坠入爱河，不仅喜欢说说听听，更喜欢以其写作，过去40年里，在各地中文媒体上发表的文章竟超过1000篇。 \n这次在单向街书店银座店，新井一二三将以“中餐、台湾以及其他”为线索，分享她在东京与台湾之间的生活观察与书写经验。在味道与记忆之中，展开一场关于文化与自我位置的轻盈对话。 \n  \n【嘉宾介绍】\n \n新井一二三 \n日本东京人，早稻田大学政治经济学系毕业，现任明治大学教授。 \n1980年代去北京外国语学院、中山大学留学，开始为各地中文杂志报纸供稿，前后在北京《万象》、上海《澎湃新闻》、广州《南方都市报》、香港《星岛日报》、台湾《中国时报》等多份刊物以及网路媒体上开专栏。 \n中文著作有《我这一代东京人》《独立，从一个人旅行开始》《我和中文谈恋爱》《123成人式》等50多种。日文著作有《青椒肉絲の絲、麻婆豆腐の麻》《中国語 楽 》《台湾物語》《中国、香港、台湾映画の日本》等。 \n  \n【活动信息】\n嘉宾：新井一二三 \n时间：2026年4月26日（星期日）15:00-16:30 \n地点：单向街书店・东京银座店 \n东京都中央区银座1-6-1 \n形式：中文分享会・全席自由席（40席） \n费用：￥1\,500｜年费会员免费 \n本店活动席位为自由席，无指定座位，先到者优先选座。 \n———————————————————————————————————— \n【预约参加】 \n请点击下方链接进入预约页面，细心阅读活动须知，填写必要信息 \n请在活动当日于一楼柜台支付报名费用 \nhttps://forms.gle/B1Mm1WFwJzmW94ba6 \n  \n【当日券】 \n请在活动当日于一楼柜台处购买 \n  \n【单向街书店·东京银座店年费会员】 \n单向街书店·东京银座店年费会员可免费参加本次活动 \n请点击下方链接进入预约页面，细心阅读活动须知，填写必要信息 \n活动当日，请向工作人员提示有效会员卡，确认身份后入场 \nhttps://forms.gle/B1Mm1WFwJzmW94ba6 \n———————————————————————————————————— \n致来店参加的各位顾客 \n活动开始时间前30分钟起，开放入场。 \n如有任何问题，请随时联系致电0362630116。 \n———————————————————————————————————— \n【扫码成为单向街书店·东京银座店年费会员】 \n \n◎年费会员 会费：33\,000日元/年(含税) \n【会员权益】 \n１、专属年费会员卡 \n2、赠全品饮料券12张 \n3、免费参与书店活动 \n4、简体中文书购书7折
URL:https://one-way-street.com/zh/event/asian-talk-228/
LOCATION:One Way Street Tokyo\, 東京都中央区銀座1丁目6−1\, 東京\, Japan
ATTACH;FMTTYPE=image/png:https://one-way-street.com/wp-content/uploads/2026/03/26.4.26-新井一二三.png
END:VEVENT
BEGIN:VEVENT
DTSTART;TZID=Asia/Tokyo:20260429T143000
DTEND;TZID=Asia/Tokyo:20260429T160000
DTSTAMP:20260423T065453
CREATED:20260414T085510Z
LAST-MODIFIED:20260416T081014Z
UID:10137-1777473000-1777478400@one-way-street.com
SUMMARY:[:zh]【AI分享专栏 Vol.1】 一个人的软件公司[:]
DESCRIPTION:【AI分享专栏 Vol.1】\n一个人的软件公司\n  \n【活动简介】\n一个人能同时推进 20 多个软件项目吗？ \n在过去一年里，我借助 AI 编程助手同时维护着 20 多个项目——从区块链钱包到视频生成系统，从邮件平台到直播工具。这不是因为我是超人，而是因为工作方式发生了根本性的变化。 \n  \n分享要点： \n从 Claude Code 到 Skills 系统：如何让 AI 理解你的项目上下文 \n端口分配、自动化测试、代码审查——一个人的 DevOps \n“研究 → 计划 → 执行”三阶段工作流的实际运作 \n独立开发者的困境与 AI 带来的可能性 \n  \n关联项目： \nSkills \n全项目生态 \n  \n【嘉宾介紹】\n \n郭宇 \n字节跳动前资深员工，28岁实现财富自由，进入“英年早退”的状态。 \n  \n \n孙靖涵 \n前央视主持人 、制片人 \n  \n【活动信息】\n主讲嘉宾：郭宇\n嘉宾主持：孙靖涵 \n时间：2026年4月29日（星期三）14:30-16:00 \n地点：单向街书店・东京银座店 \n东京都中央区银座1-6-1 \n形式：中文分享会・全席自由席（40席） \n费用：￥1\,500｜年费会员免费 \n本店活动席位为自由席，无指定座位，先到者优先选座。 \n———————————————————————————————————— \n【预约参加】 \n请点击下方链接进入预约页面，细心阅读活动须知，填写必要信息 \n请在活动当日于一楼柜台支付报名费用 \nhttps://forms.gle/V2NcDGek1rpfs25j6 \n  \n【当日券】 \n请在活动当日于一楼柜台处购买 \n  \n【单向街书店·东京银座店年费会员】 \n单向街书店·东京银座店年费会员可免费参加本次活动 \n请点击下方链接进入预约页面，细心阅读活动须知，填写必要信息 \n活动当日，请向工作人员提示有效会员卡，确认身份后入场 \nhttps://forms.gle/V2NcDGek1rpfs25j6 \n———————————————————————————————————— \n致来店参加的各位顾客 \n活动开始时间前30分钟起，开放入场。 \n如有任何问题，请随时联系致电0362630116。 \n———————————————————————————————————— \n【扫码成为单向街书店·东京银座店年费会员】 \n \n◎年费会员 会费：33\,000日元/年(含税) \n【会员权益】 \n１、专属年费会员卡 \n2、赠全品饮料券12张 \n3、免费参与书店活动 \n4、简体中文书购书7折
URL:https://one-way-street.com/zh/event/ai-vol-1/
LOCATION:One Way Street Tokyo\, 東京都中央区銀座1丁目6−1\, 東京\, Japan
ATTACH;FMTTYPE=image/png:https://one-way-street.com/wp-content/uploads/2026/04/26.4.29-AI分享专栏1.png
END:VEVENT
BEGIN:VEVENT
DTSTART;VALUE=DATE:20260501
DTEND;VALUE=DATE:20260506
DTSTAMP:20260423T065453
CREATED:20260416T070913Z
LAST-MODIFIED:20260420T073926Z
UID:10158-1777593600-1778025599@one-way-street.com
SUMMARY:[:zh]【艺术空间】我需要一点时间Ich brauche etwas Zeit[:]
DESCRIPTION:【艺术空间】\n我需要一点时间\nIch brauche etwas Zeit\n艺术家：赵荣 \n策展人：蓝京华 \n展期：2026.05.01 周五—— 2026.05.05 周二 \n  \n【相关活动信息】\n艺术对谈 \n嘉宾：赵荣、蓝京华 \n时间：2026年05月01日（周五）14:30—17:00 \n地点：单向街书店・东京银座店 \n东京都中央区银座1-6-1 \n费用：免费入场，无需预约 \n使用语言：中文 \n报名链接：https://forms.gle/hwSnuSUmbvPg5heH6 \n  \n【艺术家介绍】\n \n赵荣\n1983生于中国山西\n2007毕业于中央美术学院版画系\n2016-2020 旅居德国美因河畔法兰克福 \n  \n个展 \n2022“出塞：那不勒斯的老虎”，悦∙美术馆，北京\n2017 “他像一棵树”，闳约当代艺术中心，北京\n2016“行迹”，九空间，广州\n2016“逆生长”， 北京成蹊当代艺术中心，北京 \n艺术项目 \n2020 “黑海的蓝色”，内塞伯尔，保加利亚\n2019“松树”，美因河畔法兰克福，德国 \n群展 \n2023“他山”，东地仓库画廊，东莞\n2015 “此岸，彼岸，旅途上的诗”， Aye 画廊，\n北京2015第十二届拉林国际双年展，拉林市博物馆\n，西班牙2014南京国际美术展，南京\n2014“三界外”艺术展，5艺术中心，北京\n2012“五味”版画展，艺术仓库，北京\n2008第四十九届高知国际版画展，高知\, 日本 \n出版物 \n2024 《中国古塔》，德国欧亚艺术出版社，德国\n2020诗集《三座城》，德国欧亚艺术出版社，德国\n2020《样式和自己相似》，画廊杂志，广州\n2018《白瓷的长征》，艺术商业杂志，北京 \n  \n【作品展示】
URL:https://one-way-street.com/zh/event/exhibition-20260501/
LOCATION:One Way Street Tokyo\, 東京都中央区銀座1丁目6−1\, 東京\, Japan
ATTACH;FMTTYPE=image/png:https://one-way-street.com/wp-content/uploads/2026/04/微信图片_20260420141621_84_1124.png
END:VEVENT
BEGIN:VEVENT
DTSTART;TZID=Asia/Tokyo:20260503T143000
DTEND;TZID=Asia/Tokyo:20260503T160000
DTSTAMP:20260423T065453
CREATED:20260421T055305Z
LAST-MODIFIED:20260422T122700Z
UID:10180-1777818600-1777824000@one-way-street.com
SUMMARY:[:zh]药师寺宽邦「般若心经MUSIC」10周年纪念巡演 Circle of Harmony ——东京公演预告分享会[:ja]薬師寺寛邦「般若心経MUSIC」10周年記念ツアー Circle of Harmony ——東京公演プレビュートーク[:]
DESCRIPTION:【活动主题】\n药师寺宽邦「般若心经MUSIC」10周年纪念巡演\nCircle of Harmony\n——东京公演预告分享会\n  \n【活动介绍】\n2026年，”般若心经MUSIC”项目迎来诞生10周年。僧侣与音乐艺术家药师寺宽邦将在银座单向街书店，与大家分享这场纪念巡演”Circle of Harmony”的幕后故事与创作理念。 \n“般若心经MUSIC”将流传千年的佛教经典以音乐形式重构，在传统佛教吟诵的基础上融合吉他、钢琴、弦乐及电子音乐，YouTube订阅人数已超过102万，代表作累计播放量突破1亿次。 \n5月22日，他将时隔约四年在东京举办正式专场演出。此次书店分享会是音乐会前的特别预告场合，欢迎提前相遇。 \n  \n【嘉宾介绍】\n \n药师寺宽邦（Kanho Yakushiji） \n出生于日本爱媛县，现为临济宗妙心寺派海禅寺副住持，同时活跃于国际舞台的音乐创作者与表演艺术家。以”般若心经MUSIC”项目广受关注，其作品跨越宗教、文化与世代，在全球范围内持续获得广泛共鸣。出版著作包括《般若心经 我来歌唱》《让心归于平静：全新的般若心经 CD书》等。 \n  \n【活动信息】\n嘉宾：药师寺宽邦 \n时间：2026年5月3日（星期日）14:30-16:00 \n地点：单向街书店・东京银座店 \n东京都中央区银座1-6-1 \n形式：日文分享会（中文翻译）・全席自由席（40席） \n费用：￥1\,500｜年费会员免费 \n本店活动席位为自由席，无指定座位，先到者优先选座。 \n  \n\n\n\n\n\n\n\n\n\n\n\n【关联演出信息】\n药师寺宽邦「般若心经MUSIC」10周年纪念音乐会 Circle of Harmony 东京公演 \n时间：2026年5月22日（周五）17:00开场 / 18:00开演 \n会场：ヒューリックホール東京（东京都千代田区有乐町2-5-1 有乐町Marion 11F） \n  \n票务信息： \ne+：https://eplus.jp/sf/detail/4489690001-P0030001 \nチケットぴあ（Pコード：260-825）：http://ticket.pia.jp/pia/event.ds?eventCd=2608250 \nローソンチケット（Lコード：74056）：https://l-tike.com/order/?gLcode=74056 \n中文票務窗口(wechat)：mucrea \n  \n\n\n\n\n\n\n\n\n\n\n\n———————————————————————————————————— \n【预约参加】 \n请点击下方链接进入预约页面，细心阅读活动须知，填写必要信息 \n请在活动当日于一楼柜台支付报名费用 \nhttps://forms.gle/3SYCEvV1nYf33KgC7 \n  \n【当日券】 \n请在活动当日于一楼柜台处购买 \n  \n【单向街书店·东京银座店年费会员】 \n单向街书店·东京银座店年费会员可免费参加本次活动 \n请点击下方链接进入预约页面，细心阅读活动须知，填写必要信息 \n活动当日，请向工作人员提示有效会员卡，确认身份后入场 \nhttps://forms.gle/3SYCEvV1nYf33KgC7 \n———————————————————————————————————— \n致来店参加的各位顾客 \n活动开始时间前30分钟起，开放入场。 \n如有任何问题，请随时联系致电0362630116。 \n———————————————————————————————————— \n【扫码成为单向街书店·东京银座店年费会员】 \n \n◎年费会员 会费：33\,000日元/年(含税) \n【会员权益】 \n１、专属年费会员卡 \n2、赠全品饮料券12张 \n3、免费参与书店活动 \n4、简体中文书购书7折
URL:https://one-way-street.com/zh/event/circle-of-harmony/
LOCATION:One Way Street Tokyo\, 東京都中央区銀座1丁目6−1\, 東京\, Japan
ATTACH;FMTTYPE=image/png:https://one-way-street.com/wp-content/uploads/2026/04/药师寺宽邦东京5_22-1.png
END:VEVENT
BEGIN:VEVENT
DTSTART;TZID=Asia/Tokyo:20260510T143000
DTEND;TZID=Asia/Tokyo:20260510T160000
DTSTAMP:20260423T065453
CREATED:20260416T065929Z
LAST-MODIFIED:20260420T075022Z
UID:10150-1778423400-1778428800@one-way-street.com
SUMMARY:[:zh]Asian Talk 230 跨文化视角下的中日双语小说[:]
DESCRIPTION:【活动主题】\nAsian Talk 230\n跨文化视角下的中日双语小说\n  \n【活动介绍】\n当一个人同时活在两种语言、两种文化之间，她会写出什么样的故事？\n中日双语作家元山里子生于中日家庭，长期以中文与日文两种语言进行文学创作。两种语言并非简单的翻译关系，而是两种不同的感知方式、两种不同的叙事逻辑。在她的创作中，语言的边界既是障碍，也是灵感的来源。\n本次活动将围绕跨文化视角下的中日双语小说及其新作《月见庵》展开对谈，探讨语言如何塑造文学想象，身份与文化背景如何渗透进创作之中，以及海外华文文学在当代的意义与走向。现场设读者交流与提问环节。 \n  \n【嘉宾介绍】\n\n元山里子\n生于日本母亲与中国父亲的中日家庭，拥有中日两国的文化背景。 \n曾就读于厦门大学外文学院，主修日语专业日本文学方向。后毕业于早稻田大学语言研究课程及文化服装学院。 \n目前以日中双语作家兼时尚设计师的身份活跃于业界，著作众多，涵盖非虚构作品、随笔、小说及诗歌等领域。 \n代表作 \n非虚构：东瀛物语三部曲 花城出版社 \n《三代东瀛物语》《他和我的东瀛物语》《人间幸不幸》 \n虚构小说：月亮三部曲 \n《星星遇见月亮》《月寿司》《月见庵》 \n  \n \n陈瑞琳 \n旅美作家，华文文学评论家，休士顿《新华人报》发行人兼社长，国际新移民笔会会长，世界华文女作家会员，华语广播电台节目主持人。同时兼任南昌大学、陕西师范大学等校客座及特聘教授，国际汉学研究员。 \n  \n \n施玮\n中国诗人、灵性文学艺术家、作家、画家、学者，祖籍江苏苏州，出生于上海。曾就读于北京鲁迅文学院、上海复旦大学中文系作家班，获美国西南三一学院硕士学位、圣经文学研究博士学位，现居洛杉矶。现任华人基督徒文学艺术者协会主席、《国际日报》文艺部主任、《世界华人作家》副主编。 \n  \n【活动相关图书】\n \n『月见庵』 \n元山里子著 \n文芸社、2026年 \n2026年3月に文芸社から出版された長編小説です。複雑な生い立ちを持つ青年・竜児が、東京、京都、ニューヨークを舞台に、愛や過去の因縁と向き合う波乱の半生を描いた物語です。日中両国の文化背景を持つ著者の視点が活かされた作品です。 \n大企業の創業者の私生児として生まれた竜児は、七歳の誕生日を境に父と完全に引き離される。理由も告げられぬまま時が過ぎ、ある日、一本の電話で知らされたのは父の死。その瞬間から静かに、しかし確実に竜児を取り巻く環境が変わり……。苦しい記憶、父の正妻との確執、居場所を求めて渡ったニューヨークでの恋と挫折が交錯。自らの人生を選び取ろうともがく青年の成長を描いた秀作。 \n  \n \n《万松浦》2025年05期 \n \n《2025海外年度华语小说》 \n  \n【活动信息】\n嘉宾：元山里子、陈瑞琳 、施玮 \n时间：2026年5月10日（星期日）14:30-16:00 \n地点：单向街书店・东京银座店 \n东京都中央区银座1-6-1 \n形式：中文分享会・全席自由席（40席） \n费用：免费入场 \n报名：https://forms.gle/WBWv66yAohwMr5Ht6 \n本店活动席位为自由席，无指定座位，先到者优先选座。 \n———————————————————————————————————— \n致来店参加的各位顾客 \n活动开始时间前30分钟起，开放入场。 \n如有任何问题，请随时联系致电0362630116。 \n———————————————————————————————————— \n【扫码成为单向街书店·东京银座店年费会员】 \n \n◎年费会员 会费：33\,000日元/年(含税) \n【会员权益】 \n１、专属年费会员卡 \n2、赠全品饮料券12张 \n3、免费参与书店活动 \n4、简体中文书购书7折
URL:https://one-way-street.com/zh/event/asian-talk-230/
LOCATION:One Way Street Tokyo\, 東京都中央区銀座1丁目6−1\, 東京\, Japan
ATTACH;FMTTYPE=image/jpeg:https://one-way-street.com/wp-content/uploads/2026/04/微信图片_20260419122326_158_1053.jpg
END:VEVENT
END:VCALENDAR