BEGIN:VCALENDAR
VERSION:2.0
PRODID:-//One Way Street Tokyo - ECPv6.6.2//NONSGML v1.0//EN
CALSCALE:GREGORIAN
METHOD:PUBLISH
X-ORIGINAL-URL:https://one-way-street.com/zh
X-WR-CALDESC:One Way Street Tokyo的活动
REFRESH-INTERVAL;VALUE=DURATION:PT1H
X-Robots-Tag:noindex
X-PUBLISHED-TTL:PT1H
BEGIN:VTIMEZONE
TZID:Asia/Tokyo
BEGIN:STANDARD
TZOFFSETFROM:+0900
TZOFFSETTO:+0900
TZNAME:JST
DTSTART:20260101T000000
END:STANDARD
END:VTIMEZONE
BEGIN:VEVENT
DTSTART;TZID=Asia/Tokyo:20260516T173000
DTEND;TZID=Asia/Tokyo:20260516T193000
DTSTAMP:20260426T004433
CREATED:20260423T042217Z
LAST-MODIFIED:20260425T025126Z
UID:10197-1778952600-1778959800@one-way-street.com
SUMMARY:[:zh]【女性理财规划讲座系列】日元贬值时代 ——你在日元之外，有外币资产配置吗？[:]
DESCRIPTION:【活动主题】\n女性理财规划讲座系列\n日元贬值时代\n——你在日元之外，有外币资产配置吗？\n  \n【活动介绍】\n在日本生活，你的收入和储蓄大多以日元计价。但当日元持续贬值，单一货币资产的风险正在悄然累积。 \n这场讲座专为在日华人女性设计，聚焦一个越来越多人开始思考的问题：如何在日元之外，建立属于自己的外币资产配置？ \n讲座将围绕以下三个核心问题展开： \n\n为什么”只靠日元”正在成为一种隐患风险？\n在未来不确定的时代，如何保有自己的”选择权”？\n在日本生活的人，如何优选新的资产配置方向？\n\n无论你是刚开始关注理财，还是已有一定积累希望进一步优化资产结构，这场讲座都将为你提供实用的思路与参考框架。 \n  \n【嘉宾介绍】\n\nAlice Zuo\nManulife 宏利香港\nDistrict Director 區域總監 \n四川外國語大學\n香港CPB認證私人銀行家\n保險業榮譽\n– MDRT 百萬圓桌會員\n– COT 內閣會員\n– TOT 頂尖會員 \n  \n\nJoyce Zhang\nManulife 宏利香港\nFinancial Manager 财富管理经理 \n英国拉夫堡大學 市场管理硕士\n英国曼彻斯特城市大学酒店管理学士 瑞士酒店管理学校高级文凭\n保險業榮譽\n– MDRT 百萬圓桌會員 \n  \n【活动信息】\n嘉宾：Alice Zuo、Joyce Zhang \n时间：2026年5月16日（周六）17:30—19:30 \n地点：单向街书店・东京银座店 东京都中央区银座1丁目6-1 \n形式：中文讲座・女性理财规划系列 \n费用：¥2\,000 \n本店活动席位为自由席，无指定座位，先到者优先选座。 \n\n\n\n\n\n\n\n———————————————————————————————————— \n【预约参加】 \n请点击下方链接进入预约页面，细心阅读活动须知，填写必要信息 \n请在活动当日于一楼柜台支付报名费用 \nhttps://forms.gle/p8t3ey5dV3HjHUXJA \n  \n【当日券】 \n请在活动当日于一楼柜台处购买 \n  \n【单向街书店·东京银座店年费会员】 \n单向街书店·东京银座店年费会员可免费参加本次活动 \n请点击下方链接进入预约页面，细心阅读活动须知，填写必要信息 \n活动当日，请向工作人员提示有效会员卡，确认身份后入场 \nhttps://forms.gle/p8t3ey5dV3HjHUXJA \n  \n———————————————————————————————————— \n致来店参加的各位顾客 \n活动开始时间前30分钟起，开放入场。 \n如有任何问题，请随时联系致电0362630116。 \n———————————————————————————————————— \n【扫码成为单向街书店·东京银座店年费会员】 \n \n◎年费会员 会费：33\,000日元/年(含税) \n【会员权益】 \n１、专属年费会员卡 \n2、赠全品饮料券12张 \n3、免费参与书店活动 \n4、简体中文书购书7折
URL:https://one-way-street.com/zh/event/wfm-1/
LOCATION:One Way Street Tokyo\, 東京都中央区銀座1丁目6−1\, 東京\, Japan
ATTACH;FMTTYPE=image/png:https://one-way-street.com/wp-content/uploads/2026/04/女性财商.png
END:VEVENT
END:VCALENDAR